Workbook
Name Aufzeichnungsjahr: Stammdaten!$D$12
Name Beschäftigtengruppe: Stammdaten!$D$9
Name Code: Stammdaten!$D$33:$D$50
Name Code_Liste: Stammdaten!$A$33:$H$50
Name Feiertage: Informationen!$A$3:$A$17
Name Feiertage_Liste: Informationen!$B$3:$E$17
Name gelb_minus: Stammdaten!$X$18
Name gelb_plus: Stammdaten!$U$18
Name grün_minus: Stammdaten!$X$17
Name grün_plus: Stammdaten!$U$17
Name max_Unterbrechung: Informationen!$U$15
Name Name: Stammdaten!$D$6
Name Pause_6: Informationen!$M$6
Name Pause_9: Informationen!$M$7
Name Projekttag: Informationen!$U$18
Name rot_minus: Stammdaten!$X$19
Name rot_plus: Stammdaten!$U$19
Name Soll_AZ: Stammdaten!$C$23:$C$29
Name Struktureinheit: Stammdaten!$D$10
Name Tabellennamen: Stammdaten!$N$10
Name Urlaubsübertrag: Stammdaten!$P$18
Name Zeitguthaben: Stammdaten!$S$14
Name ZIH_Login: Stammdaten!$D$7

Sheet Eingabehilfe
C4: Personenbezogene Daten | J4: Übersicht für 2020
C5: Name: | E5: Max Mustermann | J5: Zeitguthaben oder Zeitschuld in 2020 | N5: 1.7291667 | O5: 2 | P5: Arbeitstage: | R5: 252
C6: Personalnummer oder Geburtsdatum | E6: vvnnZZZb | J6: genommener Urlaub | N6: 1 | P6: geleistete Arbeitstage | R6: 13
C7: (freiwillige Eingabe) | U7: Eine Auflistung der meistgestellten Fragen finden Sie bei den FAQ. Web-Link oder Bild anklicken.
C8: Beschäftigtengruppe: | D8: Beschäftigtengruppe: | I8: 0
C9: Struktureinheit: | E9: Struktureinheit | O9: Stammdaten
C10: Plus-/ Minus- und Überstunden
C11: Aufzeichnungsjahr: | E11: 2020
C12: Übertrag von: | E12: =DATEVALUE("01."&"01."&E11-1) -> 42004
C13: ="Übertrag von Zeitguthaben oder Zeitschuld in "&E11 -> Übertrag von Zeitguthaben oder Zeitschuld in 2020 | D13: + | E13: 15,0 | G13: Stunden/ hh:mm | L13: 0.026041667
D14: - | L14: #NAME?
R15: Zeitschuld
C16: Urlaub gemäß Urlaubskarte | M16: in eigener Veranwortung bis: | O16: 1 | P16: der wöchentlichen Arbeitszeit | Q16: 1.4583333 | R16: -0.25 | S16: der wöchentlichen Arbeitszeit | T16: -0.36458333
C17: ="für "&E11&":" -> für 2020: | E17: 30 | J17: 35 | M17: Information an den Vorgesetzen ab: | O17: 1 | Q17: 1.4583333 | R17: -0.25 | T17: -0.36458333
C18: ="Resturlaub von "& E11-1& ":" -> Resturlaub von 2019: | E18: 5 | M18: nur nach Genehmigung durch D2 und PR möglich ab: | O18: 1.25 | Q18: 1.8229167 | R18: -0.5 | T18: -0.72916667
C19: ="verbleibender Urlaub für " & E11&":" -> verbleibender Urlaub für 2020: | E19: =IF(AND(ISBLANK(E18),ISBLANK(E17)),"",Urlaubsübertrag) -> 0 | U19: Web-Link: FAQ deutsch/ german
C21: Regelarbeitszeit | E21: Wochenstunden hh:mm | F21: Montag | G21: Dienstag | H21: Mittwoch | I21: Donnerstag | J21: Freitag | K21: Samstag | L21: Sonntag | M21: in eigener Veranwortung bis: | N21: Information an den Vorgesetzen ab: | O21: nur nach Genehmigung durch D2 und PR möglich ab: | P21: Durchschnittliche Tägliche Arbeitszeit
C22: Arbeitszeit 1 ab | D22: =DATEVALUE("01."&"01."&E11) -> 42369 | E22: 1.4583333 | F22: X | G22: 0.33333333 | H22: X | I22: X | J22: 0.25 | K22: - | L22: - | M22: 35h/ -8,75h | N22: 35h/ -8,75h | O22: 43,75h/ -17,5h | P22: 0.29166667 | Q22: 0.29166667 | R22: 0.29166667 | S22: 0.29166667
C23: Arbeitszeit 2 ab | K23: - | L23: - | P23: 0 | Q23: 0 | R23: 0 | S23: 0
C24: Arbeitszeit 3 ab | K24: - | L24: - | P24: 0 | Q24: 0 | R24: 0 | S24: 0
C25: Arbeitszeit 4 ab | K25: - | L25: - | P25: 0 | Q25: 0 | R25: 0 | S25: 0
C26: Arbeitszeit 5 ab | K26: - | L26: - | P26: 0 | Q26: 0 | R26: 0 | S26: 0 | U26: Web-Link: FAQ english/ englisch
C27: Arbeitszeit 6 ab | K27: - | L27: - | P27: 0 | Q27: 0 | R27: 0 | S27: 0
C28: Arbeitszeit 7 ab | K28: - | L28: - | P28: 0 | Q28: 0 | R28: 0 | S28: 0
B31: Status
B32: Bezeichnung | D32: Abkürzung | F32: Bezeichnung | J32: Abkürzung | L32: Bezeichnung | N32: Abkürzung
B33: Urlaub | D33: U | F33: Reisezeit (ohne dienstliche Inanspruchnahme) | J33: RZ | L33: Kur/ Reha | N33: Kur
B34: Arbeitsunfähigkeit mit AU-Schein | D34: AU | F34: Dienstreise mit dienstlicher Inanspruchnahme | J34: DR | L34: Gleittag | N34: G
B35: Arbeitsunfähigkeit ohne AU-Schein | D35: AUoKS | F35: ganztägige Weiterbildung | J35: WB | L35: Freistellungen (z. B. Sonderurlaub) | N35: SU
B36: Arbeitsunfähig nach Dienstbeginn | D36: AU_Db | F36: Mutterschutz | J36: MuS | L36: angeordnete Überstunden | N36: Ü
B37: Kind Krank | D37: KK | F37: Elternzeit | J37: EZ | L37: Projekttag | N37: PjT
F38: Rufbereitschaft | J38: Rufb | L38: Berufschule | N38: BS
D43: Bespielhafte Übersicht für einen Aufzeichnungsmonat
B52: Name: | C52: Max Mustermann | F52: ZIH-Login: | H52: vvnnZZZb | J52: 245,222,179 | K52: Reisezeit | N52: Farb- codierung | O52: in eigener Veranwortung | Q52: 112,173,71 | T52: Ansicht
B53: Monat: | C53: 42369 | F53: Jahr: | H53: 42369 | J53: 255,185,15 | K53: Arbeit am Wochenende/ an Feiertagen | O53: Information an den Vorgesetzen | Q53: 255,185,15
J54: 255,69,0 | K54: Überschreitung der 10 Stunden-Grenze | O54: nur nach Genehmigung durch D2 und PR möglich | Q54: 255,69,0
Q55: ↓ Sichtbar, wenn "erweitert (WE-. Feiertag-, Nachtarbeit)" ausgewählt wurde. ↓ | W55: ↓Sichtbar, wenn Rufbereitschaft ausgewählt wurde.↓
A56: KW | B56: Datum | C56: Feiertage | D56: Tag | E56: Status | F56: Arbeitszeit | Q56: Kommentare/ Anmerkungen | R56: Sonderform der Arbeit
F57: Kommen 1 | G57: Gehen 1 | H57: Summe der Pausen 1 | I57: Kommen 2 | J57: Gehen 2 | K57: Summe der Pausen 2 | L57: Brutto-Std. (inkl. Pausen) | M57: Netto-Std. ohne Pausen, zzgl. Reisezeit | N57: Regel- arbeits- zeit (Soll-Std.) | O57: Zeitgut- haben/ Zeitschuld +/- | P57: Wochen- saldo | R57: Nacht- arbeit | S57: Wochenend-/ Feiertagsarbeit | V57: Ange- ordnete Über- stunden | W57: Rufbereitschaft | Y57: Einsatzzeit vor Ort | AA57: Einsatzzeit Telefon/ PC | AC57: Summe der Einsatz- zeiten | AD57: Pauschale für die Rufbereit- schaft
I58: Beginn Reisezeit | J58: Ende Reisezeit | S58: Samstag | T58: Sonntag | U58: Feiertag | W58: von | X58: bis | Y58: von - bis | Z58: auf volle Stunden gerundete Einsatzzeiten (hh) | AA58: von - bis | AB58: auf halbe bzw. nächste volle Stunden gerundeten Einsatzseiten (hh,5 bzw. hh,0)
...

Sheet Stammdaten
B1: Dienstvereinbarung zur flexiblen Arbeitszeit
B2: Anlage 1
B3: Formular zur Arbeitszeiterfassung und -abrechnung
B5: Personenbezogene Daten | I5: ="Übersicht für "&D12 -> Übersicht für 2024
B6: Name: | I6: =RIGHT(B14,LEN(B14)-13) -> Zeitguthaben oder Zeitschuld in 2024 | M6: =Dez!BW5 -> 0 | N6: =AD17 -> 1 | O6: Arbeitstage: | Q6: =SUM(Jan!J45,Feb!J45,Mrz!J45,Apr!J45,Mai!J45,Jun!J45,Jul!J45,Aug!J45,Sep!J45,Okt!J45,Nov!J45,Dez!J45) -> 249
B7: Personalnummer oder Geburtsdatum | I7: genommener Urlaub | M7: =Dez!BT6*-1 -> 0 | O7: geleistete Arbeitstage | Q7: =SUM(Jan!J46,Feb!J46,Mrz!J46,Apr!J46,Mai!J46,Jun!J46,Jul!J46,Aug!J46,Sep!J46,Okt!J46,Nov!J46,Dez!J46) -> 0
B8: (freiwillige Eingabe)
B9: Beschäftigtengruppe: | C9: Beschäftigtengruppe: | D9: Arbeitnehmer | H9: =IF(D9="WHK (mit Abschluss)",1,0) -> 0 | J9: Version: | M9: =Informationen!I16 -> V.1.3.4b
B10: Struktureinheit: | D10: cfaed | N10: =MID(CELL("filename",A4),SEARCH("]",CELL("filename",A4))+1,31) -> Stammdaten
B11: Plus-/ Minus- und Überstunden
B12: Aufzeichnungsjahr: | D12: 2024
B13: Übertrag von: | D13: =DATEVALUE("01."&"01."&D12-1) -> 43465
B14: ="Übertrag von Zeitguthaben oder Zeitschuld in "&D12 -> Übertrag von Zeitguthaben oder Zeitschuld in 2024 | C14: + | F14: Stunden/ hh:mm | Q14: =IF(ISERROR(FIND(":",D14)),IF(ISERROR(FIND(",",D14)),IF(ISERR(FIND(".",D14)),D14,(LEFT(D14,FIND(".",D14)-1))&","&RIGHT(D14,LEN(D14)-FIND(".",D14)))*1,D14*1),D14*24) -> 0 | R14: =S14/24 -> 0 | S14: =(Q14+Q15)/24 -> 0
C15: - | N15: Web-Link: FAQ deutsch/ german | Q15: =IF(ISERROR(FIND(":",D15)),IF(ISERROR(FIND(",",D15)),IF(ISERR(FIND(".",D15)),D15,(LEFT(D15,FIND(".",D15)-1))&","&RIGHT(D15,LEN(D15)-FIND(".",D15)))*-1,D15*-1),D15*-24) -> 0 | R15: =IF(ISERR(FIND(":",AZ_Guthaben)),_xlfn.NUMBERVALUE(AZ_Guthaben)/24,IF( ISERROR(FIND(",",AZ_Guthaben)),_xlfn.NUMBERVALUE(AZ_Guthaben),"fehler")) -> #NAME?
N16: Web-Link: FAQ english/ englisch | X16: Zeitschuld | AD16: Phasenberechnung
B17: Urlaub gemäß Urlaubskarte | S17: =CONCATENATE(Informationen!V3," bis:") -> in eigener Verantwortung bis: | U17: =IF($H$9=1,Informationen!U3,Informationen!T3) -> 1 | V17: der wöchentlichen Arbeitszeit | W17: =IF(TODAY()< DATE($D$12,1,1),(U17*VLOOKUP(DATE($D$12,1,1),$C$23:$D$29,2))/100%,(U17*VLOOKUP(TODAY(),$C$23:$D$29,2))/100%) -> 1.6666667 | X17: =IF($H$9=1,Informationen!U8,Informationen!T8) -> -0.25 | Y17: der wöchentlichen Arbeitszeit | Z17: =IF(TODAY()< DATE($D$12,1,1),(X17*VLOOKUP(DATE($D$12,1,1),$C$23:$D$29,2))/100%,(X17*VLOOKUP(TODAY(),$C$23:$D$29,2))/100%) -> -0.41666667 | AA17: =Informationen!V8 -> in eigener Verantwortung | AD17: =IF(OR(AND(M6>0,M6>W19),AND(M6<0,M6<Z19)),3,IF(OR(AND(M6>=0,M6<=W17),AND(M6<=0,M6>=Z17)),1,2)) -> 1
B18: ="für "&D12&":" -> für 2024: | D18: 0 | P18: =D18+D19 -> 0 | S18: =CONCATENATE(Informationen!V4," ab:") -> Information an den Vorgesetzten ab: | U18: =IF($H$9=1,Informationen!U4,Informationen!T4) -> 1 | W18: =IF(TODAY()< DATE($D$12,1,1),(U18*VLOOKUP(DATE($D$12,1,1),$C$23:$D$29,2))/100%,(U18*VLOOKUP(TODAY(),$C$23:$D$29,2))/100%) -> 1.6666667 | X18: =IF($H$9=1,Informationen!U9,Informationen!T9) -> -0.25 | Z18: =IF(TODAY()< DATE($D$12,1,1),(X18*VLOOKUP(DATE($D$12,1,1),$C$23:$D$29,2))/100%,(X18*VLOOKUP(TODAY(),$C$23:$D$29,2))/100%) -> -0.41666667 | AA18: =Informationen!V9 -> Information an den Vorgesetzten
B19: ="Resturlaub von "& D12-1& ":" -> Resturlaub von 2023: | S19: =CONCATENATE(Informationen!V5," ab:") -> nur nach Genehmigung durch D2 und PR möglich ab: | U19: =IF($H$9=1,Informationen!U5,Informationen!T5) -> 1.25 | W19: =IF(TODAY()< DATE($D$12,1,1),(U19*VLOOKUP(DATE($D$12,1,1),$C$23:$D$29,2))/100%,(U19*VLOOKUP(TODAY(),$C$23:$D$29,2))/100%) -> 2.0833333 | X19: =IF($H$9=1,Informationen!U10,Informationen!T10) -> -0.5 | Z19: =IF(TODAY()< DATE($D$12,1,1),(X19*VLOOKUP(DATE($D$12,1,1),$C$23:$D$29,2))/100%,(X19*VLOOKUP(TODAY(),$C$23:$D$29,2))/100%) -> -0.83333333 | AA19: =Informationen!V10 -> keine weiteren Minderstunden möglich
B20: ="verbleibender Urlaub für " & D12&":" -> verbleibender Urlaub für 2024: | D20: =IF(AND(ISBLANK(D19),ISBLANK(D18)),"",Urlaubsübertrag) -> 0
A22: ="Eingegebene Wochenstunden stimmen nicht mit der Summe der täglichen Arbeitszeit überein! Differenz von "&(ROUND(AA30,10))&" Stunden." -> Eingegebene Wochenstunden stimmen nicht mit der Summe der täglichen Arbeitszeit überein! Differenz von 0 Stunden. | B22: Regelarbeitszeit | D22: Wochenstunden hh:mm | E22: Montag | F22: Dienstag | G22: Mittwoch | H22: Donnerstag | I22: Freitag | J22: Samstag | K22: Sonntag | L22: Kontrolle der Wochenstunden | M22: =CONCATENATE(S17) -> in eigener Verantwortung bis: | N22: =CONCATENATE(S18) -> Information an den Vorgesetzten ab: | O22: =CONCATENATE(S19,) -> nur nach Genehmigung durch D2 und PR möglich ab: | P22: Durchschnittliche Tägliche Arbeitszeit | W22: Anzahl-AZ-Tage | X22: täglicher Durchschnitt | Y22: Summe tägliche AZ | Z22: Vergleich Wochenstunden und Summe täglicher AZ
B23: Arbeitszeit 1 ab | C23: =DATEVALUE("01."&"01."&D12) -> 43830 | D23: 1.6666667 | E23: X | F23: X | G23: 0.33333333 | H23: X | I23: X | J23: - | K23: - | L23: =IF(OR(D23<0,D23>1.75),0,1) -> 1 | M23: =IF(ISBLANK(C23),"",((U17*$D23/100%)*24)&"h/ "&(X17*$D23/100%)*24&"h") -> 40h/ -10h | N23: =IF(ISBLANK(C23),"",((U18*$D23/100%)*24)&"h/ "&(X18*$D23/100%)*24&"h") -> 40h/ -10h | O23: =IF(ISBLANK(C23),"",(($U$19*$D23/100%)*24)&"h/ "&($X$19*$D23/100%)*24&"h") -> 50h/ -20h | P23: =IF(UPPER(E23)="X",$X23,IF(AND(E23<1,E23>=0),E23,0)) -> 0.33333333 | Q23: =IF(UPPER(F23)="X",$X23,IF(AND(F23<1,F23>=0),F23,0)) -> 0.33333333 | R23: =IF(UPPER(G23)="X",$X23,IF(AND(G23<1,G23>=0),G23,0)) -> 0.33333333 | S23: =IF(UPPER(H23)="X",$X23,IF(AND(H23<1,H23>=0),H23,0)) -> 0.33333333 | T23: =IF(UPPER(I23)="X",$X23,IF(AND(I23<1,I23>=0),I23,0)) -> 0.33333333 | U23: =IF(UPPER(J23)="X",$X23,IF(AND(J23<1,J23>=0),J23,0)) -> 0 | V23: =IF(UPPER(K23)="X",$X23,IF(AND(K23<1,K23>=0),K23,0)) -> 0 | W23: =SUM(IF(OR(AND(E23<1,E23>0),UPPER(E23)="X"),1,0),IF(OR(AND(F23<1,F23>0),UPPER(F23)="X"),1,0),IF(OR(AND(G23<1,G23>0),UPPER(G23)="X"),1,0),IF(OR(AND(H23<1,H23>0),UPPER(H23)="X"),1,0),IF(OR(AND(I23<1,I23>0),UPPER(I23)="X"),1,0),IF(OR(AND(J23<1,J23>0),UPPER(J23)="X"),1,0),IF(OR(AND(K23<1,K23>0),UPPER(K23)="X"),1,0)) -> 5 | X23: =IFERROR(D23/W23,0) -> 0.33333333 | Y23: =SUM(P23:V23) -> 1.6666667 | Z23: =IF(Y23=D23,TRUE,FALSE) -> TRUE | AA23: =ABS(D23-Y23) -> 2.220446e-16
B24: Arbeitszeit 2 ab | J24: - | K24: - | L24: =IF(OR(D24<0,D24>1.75),0,1) -> 1 | M24: =IF(ISBLANK(C24),"",((grün_plus*$D24/100%)*24)&"h/ "&(grün_minus*$D24/100%)*24&"h") | N24: =IF(ISBLANK(C24),"",((gelb_plus*$D24/100%)*24)&"h/ "&(gelb_minus*$D24/100%)*24&"h") | O24: =IF(ISBLANK(C24),"",((rot_plus*$D24/100%)*24)&"h/ "&(rot_minus*$D24/100%)*24&"h") | P24: =IF(UPPER(E24)="X",$X24,IF(AND(E24<1,E24>=0),E24,0)) -> 0 | Q24: =IF(UPPER(F24)="X",$X24,IF(AND(F24<1,F24>=0),F24,0)) -> 0 | R24: =IF(UPPER(G24)="X",$X24,IF(AND(G24<1,G24>=0),G24,0)) -> 0 | S24: =IF(UPPER(H24)="X",$X24,IF(AND(H24<1,H24>=0),H24,0)) -> 0 | T24: =IF(UPPER(I24)="X",$X24,IF(AND(I24<1,I24>=0),I24,0)) -> 0 | U24: =IF(UPPER(J24)="X",$X24,IF(AND(J24<1,J24>=0),J24,0)) -> 0 | V24: =IF(UPPER(K24)="X",$X24,IF(AND(K24<1,K24>=0),K24,0)) -> 0 | W24: =SUM(IF(OR(AND(E24<1,E24>0),UPPER(E24)="X"),1,0),IF(OR(AND(F24<1,F24>0),UPPER(F24)="X"),1,0),IF(OR(AND(G24<1,G24>0),UPPER(G24)="X"),1,0),IF(OR(AND(H24<1,H24>0),UPPER(H24)="X"),1,0),IF(OR(AND(I24<1,I24>0),UPPER(I24)="X"),1,0),IF(OR(AND(J24<1,J24>0),UPPER(J24)="X"),1,0),IF(OR(AND(K24<1,K24>0),UPPER(K24)="X"),1,0)) -> 0 | X24: =IFERROR(D24/W24,0) -> 0 | Y24: =SUM(P24:V24) -> 0 | Z24: =IF(Y24=D24,TRUE,FALSE) -> TRUE | AA24: =ABS(D24-Y24) -> 0
B25: Arbeitszeit 3 ab | J25: - | K25: - | L25: =IF(OR(D25<0,D25>1.75),0,1) -> 1 | M25: =IF(ISBLANK(C25),"",((grün_plus*$D25/100%)*24)&"h/ "&(grün_minus*$D25/100%)*24&"h") | N25: =IF(ISBLANK(C25),"",((gelb_plus*$D25/100%)*24)&"h/ "&(gelb_minus*$D25/100%)*24&"h") | O25: =IF(ISBLANK(C25),"",((rot_plus*$D25/100%)*24)&"h/ "&(rot_minus*$D25/100%)*24&"h") | P25: =IF(UPPER(E25)="X",$X25,IF(AND(E25<1,E25>=0),E25,0)) -> 0 | Q25: =IF(UPPER(F25)="X",$X25,IF(AND(F25<1,F25>=0),F25,0)) -> 0 | R25: =IF(UPPER(G25)="X",$X25,IF(AND(G25<1,G25>=0),G25,0)) -> 0 | S25: =IF(UPPER(H25)="X",$X25,IF(AND(H25<1,H25>=0),H25,0)) -> 0 | T25: =IF(UPPER(I25)="X",$X25,IF(AND(I25<1,I25>=0),I25,0)) -> 0 | U25: =IF(UPPER(J25)="X",$X25,IF(AND(J25<1,J25>=0),J25,0)) -> 0 | V25: =IF(UPPER(K25)="X",$X25,IF(AND(K25<1,K25>=0),K25,0)) -> 0 | W25: =SUM(IF(OR(AND(E25<1,E25>0),UPPER(E25)="X"),1,0),IF(OR(AND(F25<1,F25>0),UPPER(F25)="X"),1,0),IF(OR(AND(G25<1,G25>0),UPPER(G25)="X"),1,0),IF(OR(AND(H25<1,H25>0),UPPER(H25)="X"),1,0),IF(OR(AND(I25<1,I25>0),UPPER(I25)="X"),1,0),IF(OR(AND(J25<1,J25>0),UPPER(J25)="X"),1,0),IF(OR(AND(K25<1,K25>0),UPPER(K25)="X"),1,0)) -> 0 | X25: =IFERROR(D25/W25,0) -> 0 | Y25: =SUM(P25:V25) -> 0 | Z25: =IF(Y25=D25,TRUE,FALSE) -> TRUE | AA25: =ABS(D25-Y25) -> 0
B26: Arbeitszeit 4 ab | J26: - | K26: - | L26: =IF(OR(D26<0,D26>1.75),0,1) -> 1 | M26: =IF(ISBLANK(C26),"",((grün_plus*$D26/100%)*24)&"h/ "&(grün_minus*$D26/100%)*24&"h") | N26: =IF(ISBLANK(C26),"",((gelb_plus*$D26/100%)*24)&"h/ "&(gelb_minus*$D26/100%)*24&"h") | O26: =IF(ISBLANK(C26),"",((rot_plus*$D26/100%)*24)&"h/ "&(rot_minus*$D26/100%)*24&"h") | P26: =IF(UPPER(E26)="X",$X26,IF(AND(E26<1,E26>=0),E26,0)) -> 0 | Q26: =IF(UPPER(F26)="X",$X26,IF(AND(F26<1,F26>=0),F26,0)) -> 0 | R26: =IF(UPPER(G26)="X",$X26,IF(AND(G26<1,G26>=0),G26,0)) -> 0 | S26: =IF(UPPER(H26)="X",$X26,IF(AND(H26<1,H26>=0),H26,0)) -> 0 | T26: =IF(UPPER(I26)="X",$X26,IF(AND(I26<1,I26>=0),I26,0)) -> 0 | U26: =IF(UPPER(J26)="X",$X26,IF(AND(J26<1,J26>=0),J26,0)) -> 0 | V26: =IF(UPPER(K26)="X",$X26,IF(AND(K26<1,K26>=0),K26,0)) -> 0 | W26: =SUM(IF(OR(AND(E26<1,E26>0),UPPER(E26)="X"),1,0),IF(OR(AND(F26<1,F26>0),UPPER(F26)="X"),1,0),IF(OR(AND(G26<1,G26>0),UPPER(G26)="X"),1,0),IF(OR(AND(H26<1,H26>0),UPPER(H26)="X"),1,0),IF(OR(AND(I26<1,I26>0),UPPER(I26)="X"),1,0),IF(OR(AND(J26<1,J26>0),UPPER(J26)="X"),1,0),IF(OR(AND(K26<1,K26>0),UPPER(K26)="X"),1,0)) -> 0 | X26: =IFERROR(D26/W26,0) -> 0 | Y26: =SUM(P26:V26) -> 0 | Z26: =IF(Y26=D26,TRUE,FALSE) -> TRUE | AA26: =ABS(D26-Y26) -> 0
B27: Arbeitszeit 5 ab | J27: - | K27: - | L27: =IF(OR(D27<0,D27>1.75),0,1) -> 1 | M27: =IF(ISBLANK(C27),"",((grün_plus*$D27/100%)*24)&"h/ "&(grün_minus*$D27/100%)*24&"h") | N27: =IF(ISBLANK(C27),"",((gelb_plus*$D27/100%)*24)&"h/ "&(gelb_minus*$D27/100%)*24&"h") | O27: =IF(ISBLANK(C27),"",((rot_plus*$D27/100%)*24)&"h/ "&(rot_minus*$D27/100%)*24&"h") | P27: =IF(UPPER(E27)="X",$X27,IF(AND(E27<1,E27>=0),E27,0)) -> 0 | Q27: =IF(UPPER(F27)="X",$X27,IF(AND(F27<1,F27>=0),F27,0)) -> 0 | R27: =IF(UPPER(G27)="X",$X27,IF(AND(G27<1,G27>=0),G27,0)) -> 0 | S27: =IF(UPPER(H27)="X",$X27,IF(AND(H27<1,H27>=0),H27,0)) -> 0 | T27: =IF(UPPER(I27)="X",$X27,IF(AND(I27<1,I27>=0),I27,0)) -> 0 | U27: =IF(UPPER(J27)="X",$X27,IF(AND(J27<1,J27>=0),J27,0)) -> 0 | V27: =IF(UPPER(K27)="X",$X27,IF(AND(K27<1,K27>=0),K27,0)) -> 0 | W27: =SUM(IF(OR(AND(E27<1,E27>0),UPPER(E27)="X"),1,0),IF(OR(AND(F27<1,F27>0),UPPER(F27)="X"),1,0),IF(OR(AND(G27<1,G27>0),UPPER(G27)="X"),1,0),IF(OR(AND(H27<1,H27>0),UPPER(H27)="X"),1,0),IF(OR(AND(I27<1,I27>0),UPPER(I27)="X"),1,0),IF(OR(AND(J27<1,J27>0),UPPER(J27)="X"),1,0),IF(OR(AND(K27<1,K27>0),UPPER(K27)="X"),1,0)) -> 0 | X27: =IFERROR(D27/W27,0) -> 0 | Y27: =SUM(P27:V27) -> 0 | Z27: =IF(Y27=D27,TRUE,FALSE) -> TRUE | AA27: =ABS(D27-Y27) -> 0
B28: Arbeitszeit 6 ab | J28: - | K28: - | L28: =IF(OR(D28<0,D28>1.75),0,1) -> 1 | M28: =IF(ISBLANK(C28),"",((grün_plus*$D28/100%)*24)&"h/ "&(grün_minus*$D28/100%)*24&"h") | N28: =IF(ISBLANK(C28),"",((gelb_plus*$D28/100%)*24)&"h/ "&(gelb_minus*$D28/100%)*24&"h") | O28: =IF(ISBLANK(C28),"",((rot_plus*$D28/100%)*24)&"h/ "&(rot_minus*$D28/100%)*24&"h") | P28: =IF(UPPER(E28)="X",$X28,IF(AND(E28<1,E28>=0),E28,0)) -> 0 | Q28: =IF(UPPER(F28)="X",$X28,IF(AND(F28<1,F28>=0),F28,0)) -> 0 | R28: =IF(UPPER(G28)="X",$X28,IF(AND(G28<1,G28>=0),G28,0)) -> 0 | S28: =IF(UPPER(H28)="X",$X28,IF(AND(H28<1,H28>=0),H28,0)) -> 0 | T28: =IF(UPPER(I28)="X",$X28,IF(AND(I28<1,I28>=0),I28,0)) -> 0 | U28: =IF(UPPER(J28)="X",$X28,IF(AND(J28<1,J28>=0),J28,0)) -> 0 | V28: =IF(UPPER(K28)="X",$X28,IF(AND(K28<1,K28>=0),K28,0)) -> 0 | W28: =SUM(IF(OR(AND(E28<1,E28>0),UPPER(E28)="X"),1,0),IF(OR(AND(F28<1,F28>0),UPPER(F28)="X"),1,0),IF(OR(AND(G28<1,G28>0),UPPER(G28)="X"),1,0),IF(OR(AND(H28<1,H28>0),UPPER(H28)="X"),1,0),IF(OR(AND(I28<1,I28>0),UPPER(I28)="X"),1,0),IF(OR(AND(J28<1,J28>0),UPPER(J28)="X"),1,0),IF(OR(AND(K28<1,K28>0),UPPER(K28)="X"),1,0)) -> 0 | X28: =IFERROR(D28/W28,0) -> 0 | Y28: =SUM(P28:V28) -> 0 | Z28: =IF(Y28=D28,TRUE,FALSE) -> TRUE | AA28: =ABS(D28-Y28) -> 0
B29: Arbeitszeit 7 ab | J29: - | K29: - | L29: =IF(OR(D29<0,D29>1.75),0,1) -> 1 | M29: =IF(ISBLANK(C29),"",((grün_plus*$D29/100%)*24)&"h/ "&(grün_minus*$D29/100%)*24&"h") | N29: =IF(ISBLANK(C29),"",((gelb_plus*$D29/100%)*24)&"h/ "&(gelb_minus*$D29/100%)*24&"h") | O29: =IF(ISBLANK(C29),"",((rot_plus*$D29/100%)*24)&"h/ "&(rot_minus*$D29/100%)*24&"h") | P29: =IF(UPPER(E29)="X",$X29,IF(AND(E29<1,E29>=0),E29,0)) -> 0 | Q29: =IF(UPPER(F29)="X",$X29,IF(AND(F29<1,F29>=0),F29,0)) -> 0 | R29: =IF(UPPER(G29)="X",$X29,IF(AND(G29<1,G29>=0),G29,0)) -> 0 | S29: =IF(UPPER(H29)="X",$X29,IF(AND(H29<1,H29>=0),H29,0)) -> 0 | T29: =IF(UPPER(I29)="X",$X29,IF(AND(I29<1,I29>=0),I29,0)) -> 0 | U29: =IF(UPPER(J29)="X",$X29,IF(AND(J29<1,J29>=0),J29,0)) -> 0 | V29: =IF(UPPER(K29)="X",$X29,IF(AND(K29<1,K29>=0),K29,0)) -> 0 | W29: =SUM(IF(OR(AND(E29<1,E29>0),UPPER(E29)="X"),1,0),IF(OR(AND(F29<1,F29>0),UPPER(F29)="X"),1,0),IF(OR(AND(G29<1,G29>0),UPPER(G29)="X"),1,0),IF(OR(AND(H29<1,H29>0),UPPER(H29)="X"),1,0),IF(OR(AND(I29<1,I29>0),UPPER(I29)="X"),1,0),IF(OR(AND(J29<1,J29>0),UPPER(J29)="X"),1,0),IF(OR(AND(K29<1,K29>0),UPPER(K29)="X"),1,0)) -> 0 | X29: =IFERROR(D29/W29,0) -> 0 | Y29: =SUM(P29:V29) -> 0 | Z29: =IF(Y29=D29,TRUE,FALSE) -> TRUE | AA29: =ABS(D29-Y29) -> 0
AA30: =ROUND(SUM(AA23:AA29)*24,30) -> 5.3290705e-15
B31: Status | J31: =MATCH("Arbeitszeit 1 ab",B:B,0) -> 23
B32: Bezeichnung | D32: Abkürzung | E32: Unterscheidung | J32: 1
A33: 0
A34: =D34 -> U | B34: Urlaub | D34: U | E34: 0 | F34: 0 | H34: 1
A35: =D35 -> AU | B35: Arbeitsunfähigkeit mit AU-Schein | D35: AU | E35: 0 | F35: 0 | H35: 1
A36: =D36 -> AUoKS | B36: Arbeitsunfähigkeit ohne AU-Schein | D36: AUoKS | E36: 0 | F36: 0 | H36: 1
A37: =D37 -> AU_Db | B37: Arbeitsunfähig nach Dienstbeginn | D37: AU_Db | E37: 0 | F37: 2 | H37: 1
A38: =D38 -> KK | B38: Kind Krank | D38: KK | E38: 0 | F38: 0 | H38: 1
A39: =D39 -> RZ | B39: Reisezeit (ohne dienstliche Inanspruchnahme) | D39: RZ | E39: 1 | F39: 2 | G39: 3 | H39: 1
A40: =D40 -> DR | B40: Dienstreise mit dienstlicher Inanspruchnahme | D40: DR | E40: 1 | F40: 2 | H40: 1
A41: =D41 -> WB | B41: ganztägige Weiterbildung | D41: WB | E41: 2 | F41: 2 | H41: 1
A42: =D42 -> MuS | B42: Mutterschutz | D42: MuS | E42: 0 | F42: 0 | H42: 0
...

Sheet Jan
BP1: =Tabellennamen -> Stammdaten | BV1: Zeitguthaben/-Schuld
B2: Name: | E2: =Name -> 0 | H2: Personalnummer/ Geburtsdatum | J2: =ZIH_Login -> 0 | L2: 245,222,179 | M2: Reisezeit | P2: Farb- codierung | Q2: =Informationen!V3 -> in eigener Verantwortung | T2: 112,173,71 | W2: Ansicht | AM2: 1 | BS2: Urlaub
B3: Monat: | C3: =VLOOKUP(C7,Informationen!$T$33:$U$44,2,FALSE) -> 1 | D3: =DATE(Aufzeichnungsjahr,C3,1) -> 43830 | E3: =D3 -> 43830 | H3: Jahr: | J3: =E3 -> 43830 | L3: 255,185,15 | M3: Arbeit am Wochenende/ an Feiertagen | Q3: =Informationen!V4 -> Information an den Vorgesetzten | T3: 255,185,15 | AL3: Ansicht | AM3: =MAX(AK10:AK40,AM2) -> 1 | AN3: =CHOOSE(AM3,"A1:S50","A1:AA50","A1:AG50") -> A1:S50 | BS3: aus dem Vormonat/ Vorhjahr | BV3: aus Vormonat/ Jahr | BW3: =Stammdaten!$S$14 -> 0 | BX3: =BV10 -> 1 | BY3: Beamten-Urlaub-Zeitzulage
L4: 255,69,0 | M4: Überschreitung der 10 Stunden-Grenze | Q4: =Informationen!V5 -> nur nach Genehmigung durch D2 und PR möglich | T4: 255,69,0 | BT4: =Stammdaten!$P$18 -> 0 | BV4: ="Zeitschuld/-Guthaben für "&MONTH(E4) -> Zeitschuld/-Guthaben für 1 | BW4: =BW5-BW3 -> 0 | BY4: =Informationen!$U$12 -> FALSE | BZ4: =Q41 -> 0
AL5: vom | BS5: ="Verbrauch in "& MONTH(E4) -> Verbrauch in 1 | BT5: =SUM(BT10:BT40)*-1 -> 0 | BV5: in FolgeMonat/ Jahr | BW5: =IF(R43+R42-S43<0,IF(BY4,BU40+BZ4,BU40),IF(BY4,BU40+BZ4,BU40)+S43) -> 0 | BX5: =BV40 -> 1
A6: KW | B6: Datum | C6: Nettoarbeitstag | D6: Feiertag | E6: Feiertage | F6: Tag | G6: =Stammdaten!B51 -> Status | H6: Arbeitszeit | S6: Kommentare/ Anmerkungen | T6: Sonderform der Arbeit | AL6: AZ_Block1 | AR6: AZ_Block2 | AX6: AZ_Block1 und AZ_Block2 | BM6: Zuschläge | BS6: in den Folgemonat/ FolgeJahr | BT6: =BT5+BT4 -> 0 | BU6: Phasenkontrolle | CF6: Nachtzuschlag ab 21 Uhr | CG6: Nachtzuschlag bis 6 Uhr folge Tag | CH6: Nachtzuschlag bis 6 Uhr selber Tag | CI6: Samstag zuschlag ab 13 Uhr
C7: =MID(CELL("filename",A1),SEARCH("]",CELL("filename",A1))+1,31) -> Jan | H7: Kommen 1 | I7: Gehen 1 | J7: Summe der Pausen 1 | K7: Kommen 2 | L7: Gehen 2 | M7: Summe der Pausen 2 | N7: Brutto-Std. (inkl. Pausen) | O7: Netto-Std. ohne Pausen, zzgl. Reisezeit | P7: Regel- arbeits- zeit (Soll-Std.) | Q7: Zeitgut- haben/ Zeitschuld +/- | R7: Wochen- saldo | T7: Nacht- arbeit | U7: Wochenend-/ Feiertagsarbeit | X7: Ange- ordnete Über- stunden | Z7: Rufbereitschaft | AB7: Einsatzzeit vor Ort | AD7: Einsatzzeit Telefon/ PC | AG7: Pauschale für die Rufbereit- schaft | AL7: Beginn1 | AM7: Ende1 | AN7: Pause1 | AO7: Bruttostunden1 | AP7: Blockunterbrechung | AQ7: Nettostunden1 | AR7: Beginn2 | AS7: Ende2 | AT7: Pause2 | AU7: Bruttostunden2 | AV7: Blockunterbrechung | AW7: Nettostunden2 | AX7: Beginn1 | AY7: Ende2 | AZ7: Pause1 und Pause2 | BA7: Bruttostunden gesamt | BB7: Blockunterbrechung | BC7: Nettostundengesamt | BD7: Überschreitung der maximalen Unterbrechung | BE7: Dienstreise? | BF7: Gesamt Nettostunden | BG7: Berechnung Reisezeit | BH7: Aktuelle AZ | BI7: Projekttag | BJ7: Anrechenbare AZ | BK7: Gesamt Bruttostunden | BL7: Reisezeit? | BM7: Nachtarbeit_AZ1 | BN7: Nachtarbeit_AZ2 | BO7: Feiertag | BP7: Samstag_1 | BQ7: Samstag_2 | BR7: Sonntag | BS7: Ist feiertag?? | BT7: Urlaub | BU7: Stunden | BV7: aktuelle Phase | BW7: aktuelle Wochenstunden | BX7: Ist Arbeitstag | BY7: Soll Arbeitstag | BZ7: Soll-Stunden | CA7: Mehrarbeit | CB7: Mehrarbeit Ruf | CF7: =21/24 -> 0.875 | CG7: =6/24+1 -> 1.25 | CH7: =6/24 -> 0.25 | CI7: =13/24 -> 0.54166667
K8: Beginn Reisezeit | L8: Ende Reisezeit | U8: Samstag | V8: Sonntag | W8: Feiertag | Z8: von | AA8: bis | AB8: von - bis | AC8: auf volle Stunden gerundete Einsatzzeiten (hh) | AD8: von - bis | AE8: auf halbe bzw. nächste volle Stunden gerundeten Einsatzseiten (hh,5 bzw. hh,0) | AF8: Summe der Einsatz- zeiten | AK8: Ansicht ändern | BD8: =max_Unterbrechung -> 0.12569444 | BE8: =COUNTIF(BE10:BE40,TRUE) -> 0 | BG8: RZ | BI8: =Projekttag (=WENN(G10=Stammdaten!$D$44;$BI$8;0)) | BL8: =COUNTIF(BL10:BL40,TRUE) -> 0 | BU8: Hier?! | CC8: trennzeichen zw. Den Zeiten | CD8: Rufbereitschaft beginn | CE8: Rufbereitschaft Ende, +1 wenn Ende am folgetag | CF8: 1. Einsatz | CG8: Dauer des Einsatzes | CH8: Beginn des 1. Einsatzes | CI8: Ende des 1. Einsatzes | CJ8: Beginn in RB? | CK8: Ende in RB? | CL8: Einsatz über RB? | CM8: Einsazzeit in RB | CN8: Nachtarbeit | CO8: Samstagsarbeit | CP8: Sonntagsarbeit | CQ8: Feiertagsarbeit | CR8: trennzeichen zw. Den Zeiten | CS8: 2. Einsatz | CT8: Dauer des Einsatzes | CU8: Beginn des 2. Einsatzes | CV8: Ende des 2. Einsatzes | CW8: Beginn in RB? | CX8: Ende in RB? | CY8: Einsatz über RB? | CZ8: Einsazzeit in RB | DA8: Nachtarbeit | DB8: Samstagsarbeit | DC8: Sonntagsarbeit | DD8: Feiertagsarbeit | DE8: trennzeichen zw. Den Zeiten | DF8: 3. Einsatz | DG8: Dauer des Einsatzes | DH8: Beginn des 3. Einsatzes | DI8: Ende des 3. Einsatzes | DJ8: Beginn in RB? | DK8: Ende in RB? | DL8: Einsatz über RB? | DM8: Einsazzeit in RB | DN8: Nachtarbeit | DO8: Samstagsarbeit | DP8: Sonntagsarbeit | DQ8: Feiertagsarbeit | DR8: trennzeichen zw. Den Zeiten | DS8: 4. Einsatz | DT8: Dauer des Einsatzes | DU8: Beginn des 4. Einsatzes | DV8: Ende des 4. Einsatzes | DW8: Beginn in RB? | DX8: Ende in RB? | DY8: Einsatz über RB? | DZ8: Einsazzeit in RB | EA8: Nachtarbeit | EB8: Samstagsarbeit | EC8: Sonntagsarbeit | ED8: Feiertagsarbeit | EE8: trennzeichen zw. Den Zeiten | EF8: 5. Einsatz | EG8: Dauer des Einsatzes | EH8: Beginn des 5. Einsatzes | EI8: Ende des 5. Einsatzes | EJ8: Beginn in RB? | EK8: Ende in RB? | EL8: Einsatz über RB? | EM8: Einsazzeit in RB | EN8: Nachtarbeit | EO8: Samstagsarbeit | EP8: Sonntagsarbeit | EQ8: Feiertagsarbeit | ER8: trennzeichen zw. Den Zeiten | ES8: 6. Einsatz | ET8: Dauer des Einsatzes | EU8: Beginn des 6. Einsatzes | EV8: Ende des 6. Einsatzes | EW8: Beginn in RB? | EX8: Ende in RB? | EY8: Einsatz über RB? | EZ8: Einsazzeit in RB | FA8: Nachtarbeit | FB8: Samstagsarbeit | FC8: Sonntagsarbeit | FD8: Feiertagsarbeit | FE8: trennzeichen zw. Den Zeiten | FF8: 7. Einsatz | FG8: Dauer des Einsatzes | FH8: Beginn des 7. Einsatzes | FI8: Ende des 7. Einsatzes | FJ8: Beginn in RB? | FK8: Ende in RB? | FL8: Einsatz über RB? | FM8: Einsazzeit in RB | FN8: Nachtarbeit | FO8: Samstagsarbeit | FP8: Sonntagsarbeit | FQ8: Feiertagsarbeit | FR8: trennzeichen zw. Den Zeiten | FS8: 8. Einsatz | FT8: Dauer des Einsatzes | FU8: Beginn des 8. Einsatzes | FV8: Ende des 8. Einsatzes | FW8: Beginn in RB? | FX8: Ende in RB? | FY8: Einsatz über RB? | FZ8: Einsazzeit in RB | GA8: Nachtarbeit | GB8: Samstagsarbeit | GC8: Sonntagsarbeit | GD8: Feiertagsarbeit | GE8: trennzeichen zw. Den Zeiten | GF8: 9. Einsatz | GG8: Dauer des Einsatzes | GH8: Beginn des 9. Einsatzes | GI8: Ende des 9. Einsatzes | GJ8: Beginn in RB? | GK8: Ende in RB? | GL8: Einsatz über RB? | GM8: Einsazzeit in RB | GN8: Nachtarbeit | GO8: Samstagsarbeit | GP8: Sonntagsarbeit | GQ8: Feiertagsarbeit | GR8: trennzeichen zw. Den Zeiten | GS8: 10. Einsatz | GT8: Dauer des Einsatzes | GU8: Beginn des 10. Einsatzes | GV8: Ende des 10. Einsatzes | GW8: Beginn in RB? | GX8: Ende in RB? | GY8: Einsatz über RB? | GZ8: Einsazzeit in RB | HA8: Nachtarbeit | HB8: Samstagsarbeit | HC8: Sonntagsarbeit | HD8: Feiertagsarbeit | HE8: trennzeichen zw. Den Zeiten | HF8: 11. Einsatz | HG8: Dauer des Einsatzes | HH8: Beginn des 11. Einsatzes | HI8: Ende des 11. Einsatzes | HJ8: Beginn in RB? | HK8: Ende in RB? | HL8: Einsatz über RB? | HM8: Einsazzeit in RB | HN8: Nachtarbeit | HO8: Samstagsarbeit | HP8: Sonntagsarbeit | HQ8: Feiertagsarbeit | HR8: trennzeichen zw. Den Zeiten | HS8: 12. Einsatz | HT8: Dauer des Einsatzes | HU8: Beginn des 12. Einsatzes | HV8: Ende des 12. Einsatzes | HW8: Beginn in RB? | HX8: Ende in RB? | HY8: Einsatz über RB? | HZ8: Einsazzeit in RB | IA8: Nachtarbeit | IB8: Samstagsarbeit | IC8: Sonntagsarbeit | ID8: Feiertagsarbeit | IE8: trennzeichen zw. Den Zeiten | IF8: 13. Einsatz | IG8: Dauer des Einsatzes | IH8: Beginn des 13. Einsatzes | II8: Ende des 13. Einsatzes | IJ8: Beginn in RB? | IK8: Ende in RB? | IL8: Einsatz über RB? | IM8: Einsazzeit in RB | IN8: Nachtarbeit | IO8: Samstagsarbeit | IP8: Sonntagsarbeit | IQ8: Feiertagsarbeit | IR8: trennzeichen zw. Den Zeiten | IS8: 14. Einsatz | IT8: Dauer des Einsatzes | IU8: Beginn des 14. Einsatzes | IV8: Ende des 14. Einsatzes | IW8: Beginn in RB? | IX8: Ende in RB? | IY8: Einsatz über RB? | IZ8: Einsazzeit in RB | JA8: Nachtarbeit | JB8: Samstagsarbeit | JC8: Sonntagsarbeit | JD8: Feiertagsarbeit | JE8: trennzeichen zw. Den Zeiten | JF8: 15. Einsatz | JG8: Dauer des Einsatzes | JH8: Beginn des 15. Einsatzes | JI8: Ende des 15. Einsatzes | JJ8: Beginn in RB? | JK8: Ende in RB? | JL8: Einsatz über RB? | JM8: Einsazzeit in RB | JN8: Nachtarbeit | JO8: Samstagsarbeit | JP8: Sonntagsarbeit | JQ8: Feiertagsarbeit | JR8: summe RB bei Vorort | JS8: Gerundetete Einsatzzeit auf x,0 | JT8: Summe Nachtarbeit | JU8: Summe Samstagsarbeit | JV8: Summe Sonntagsarbeit | JW8: Summe Feiertagsarbeit | JY8: trennzeichen zw. Den Zeiten | JZ8: 1. Einsatz Telefon PC | KA8: Dauer des Einsatzes | KB8: Beginn des 1. Einsatzes | KC8: Ende des 1. Einsatzes | KD8: Beginn in RB? | KE8: Ende in RB? | KF8: Einsatz über RB? | KG8: Einsazzeit in RB | KH8: Nachtarbeit | KI8: Samstagsarbeit | KJ8: Sonntagsarbeit | KK8: Feiertagsarbeit | KL8: trennzeichen zw. Den Zeiten | KM8: 2. Einsatz Telefon PC | KN8: Dauer des Einsatzes | KO8: Beginn des 2. Einsatzes | KP8: Ende des 2. Einsatzes | KQ8: Beginn in RB? | KR8: Ende in RB? | KS8: Einsatz über RB? | KT8: Einsazzeit in RB | KU8: Nachtarbeit | KV8: Samstagsarbeit | KW8: Sonntagsarbeit | KX8: Feiertagsarbeit | KY8: trennzeichen zw. Den Zeiten | KZ8: 3. Einsatz Telefon PC | LA8: Dauer des Einsatzes | LB8: Beginn des 3. Einsatzes | LC8: Ende des 3. Einsatzes | LD8: Beginn in RB? | LE8: Ende in RB? | LF8: Einsatz über RB? | LG8: Einsazzeit in RB | LH8: Nachtarbeit | LI8: Samstagsarbeit | LJ8: Sonntagsarbeit | LK8: Feiertagsarbeit | LL8: trennzeichen zw. Den Zeiten | LM8: 4. Einsatz Telefon PC | LN8: Dauer des Einsatzes | LO8: Beginn des 4. Einsatzes | LP8: Ende des 4. Einsatzes | LQ8: Beginn in RB? | LR8: Ende in RB? | LS8: Einsatz über RB? | LT8: Einsazzeit in RB | LU8: Nachtarbeit | LV8: Samstagsarbeit | LW8: Sonntagsarbeit | LX8: Feiertagsarbeit | LY8: trennzeichen zw. Den Zeiten | LZ8: 5. Einsatz Telefon PC | MA8: Dauer des Einsatzes | MB8: Beginn des 5. Einsatzes | MC8: Ende des 5. Einsatzes | MD8: Beginn in RB? | ME8: Ende in RB? | MF8: Einsatz über RB? | MG8: Einsazzeit in RB | MH8: Nachtarbeit | MI8: Samstagsarbeit | MJ8: Sonntagsarbeit | MK8: Feiertagsarbeit | ML8: trennzeichen zw. Den Zeiten | MM8: 6. Einsatz Telefon PC | MN8: Dauer des Einsatzes | MO8: Beginn des 6. Einsatzes | MP8: Ende des 6. Einsatzes | MQ8: Beginn in RB? | MR8: Ende in RB? | MS8: Einsatz über RB? | MT8: Einsazzeit in RB | MU8: Nachtarbeit | MV8: Samstagsarbeit | MW8: Sonntagsarbeit | MX8: Feiertagsarbeit | MY8: trennzeichen zw. Den Zeiten | MZ8: 7. Einsatz Telefon PC | NA8: Dauer des Einsatzes | NB8: Beginn des 7. Einsatzes | NC8: Ende des 7. Einsatzes | ND8: Beginn in RB? | NE8: Ende in RB? | NF8: Einsatz über RB? | NG8: Einsazzeit in RB | NH8: Nachtarbeit | NI8: Samstagsarbeit | NJ8: Sonntagsarbeit | NK8: Feiertagsarbeit | NL8: trennzeichen zw. Den Zeiten | NM8: 8. Einsatz Telefon PC | NN8: Dauer des Einsatzes | NO8: Beginn des 8. Einsatzes | NP8: Ende des 8. Einsatzes | NQ8: Beginn in RB? | NR8: Ende in RB? | NS8: Einsatz über RB? | NT8: Einsazzeit in RB | NU8: Nachtarbeit | NV8: Samstagsarbeit | NW8: Sonntagsarbeit | NX8: Feiertagsarbeit | NY8: trennzeichen zw. Den Zeiten | NZ8: 9. Einsatz Telefon PC | OA8: Dauer des Einsatzes | OB8: Beginn des 9. Einsatzes | OC8: Ende des 9. Einsatzes | OD8: Beginn in RB? | OE8: Ende in RB? | OF8: Einsatz über RB? | OG8: Einsazzeit in RB | OH8: Nachtarbeit | OI8: Samstagsarbeit | OJ8: Sonntagsarbeit | OK8: Feiertagsarbeit | OL8: trennzeichen zw. Den Zeiten | OM8: 10. Einsatz Telefon PC | ON8: Dauer des Einsatzes | OO8: Beginn des 10. Einsatzes | OP8: Ende des 10. Einsatzes | OQ8: Beginn in RB? | OR8: Ende in RB? | OS8: Einsatz über RB? | OT8: Einsazzeit in RB | OU8: Nachtarbeit | OV8: Samstagsarbeit | OW8: Sonntagsarbeit | OX8: Feiertagsarbeit | OY8: trennzeichen zw. Den Zeiten | OZ8: 11. Einsatz Telefon PC | PA8: Dauer des Einsatzes | PB8: Beginn des 11. Einsatzes | PC8: Ende des 11. Einsatzes | PD8: Beginn in RB? | PE8: Ende in RB? | PF8: Einsatz über RB? | PG8: Einsazzeit in RB | PH8: Nachtarbeit | PI8: Samstagsarbeit | PJ8: Sonntagsarbeit | PK8: Feiertagsarbeit | PL8: trennzeichen zw. Den Zeiten | PM8: 12. Einsatz Telefon PC | PN8: Dauer des Einsatzes | PO8: Beginn des 12. Einsatzes | PP8: Ende des 12. Einsatzes | PQ8: Beginn in RB? | PR8: Ende in RB? | PS8: Einsatz über RB? | PT8: Einsazzeit in RB | PU8: Nachtarbeit | PV8: Samstagsarbeit | PW8: Sonntagsarbeit | PX8: Feiertagsarbeit | PY8: trennzeichen zw. Den Zeiten | PZ8: 13. Einsatz Telefon PC | QA8: Dauer des Einsatzes | QB8: Beginn des 13. Einsatzes | QC8: Ende des 13. Einsatzes | QD8: Beginn in RB? | QE8: Ende in RB? | QF8: Einsatz über RB? | QG8: Einsazzeit in RB | QH8: Nachtarbeit | QI8: Samstagsarbeit | QJ8: Sonntagsarbeit | QK8: Feiertagsarbeit | QL8: trennzeichen zw. Den Zeiten | QM8: 14. Einsatz Telefon PC | QN8: Dauer des Einsatzes | QO8: Beginn des 14. Einsatzes | QP8: Ende des 14. Einsatzes | QQ8: Beginn in RB? | QR8: Ende in RB? | QS8: Einsatz über RB? | QT8: Einsazzeit in RB | QU8: Nachtarbeit | QV8: Samstagsarbeit | QW8: Sonntagsarbeit | QX8: Feiertagsarbeit | QY8: trennzeichen zw. Den Zeiten | QZ8: 15. Einsatz Telefon PC | RA8: Dauer des Einsatzes | RB8: Beginn des 15. Einsatzes | RC8: Ende des 15. Einsatzes | RD8: Beginn in RB? | RE8: Ende in RB? | RF8: Einsatz über RB? | RG8: Einsazzeit in RB | RH8: Nachtarbeit | RI8: Samstagsarbeit | RJ8: Sonntagsarbeit | RK8: Feiertagsarbeit | RL8: summe RB bei Telefon/PC | RM8: Gerundetete Einsatzzeit auf x,0 bzw. x,5 | RN8: Summe Nachtarbeit | RO8: Summe Samstagsarbeit | RP8: Summe Sonntagsarbeit | RQ8: Summe Feiertagsarbeit | RR8: Zeitguthaben von Spalte Q | RS8: WochenSaldo
A9: Gibt die Kalenderwoche wieder, Woche = Mo-So | B9: Gibt Datum wieder. Aufwährts zählend | C9: Gibt 0 wieder wenn es ein Feiertag, Wochenende oder ein Tag aus der "Feiertagsliste" ist, ansonsten 1 | D9: Gibt Namen für den Feiertag wieder | E9: Wie Spalte D, um komplizierte Formel zu verstecken | F9: Gibt den Wochentag zurück | G9: Wird zur Bestimmtung der täglichen Arbeitszeit benötigt und um anzuzeigen um welche Art von Arbeit es sich handelt | H9: Begin der Arbeitszeit | I9: Ende der Arbeitzeit | J9: Gesamte Pausen zwischen Arbeitsbegin und Arbeitsende | K9: Beginn der Arbeitszeit oder der Dienstreise bzw. Reisezeit | L9: Ende der Arbeitszeit oder der Dienstreise bzw. Reisezeit | M9: Gesamten Pausen zwischen dem zweiten Arbeitsbegin und Arbeitsende | N9: Gibt Summe der gesamten Arbeitzeit inkl. Der Pausen zurück | O9: Gibt Summe der Arbeitszeit ohne Pausen zurück | P9: Gibt die tägliche Arbeitzeit zurück | Q9: gibt die Differenz zwischen Soll-Stunden und Netto-Stunden zurück | R9: Nix drin | S9: Kommentarspallte für den Nutzer | T9: Summe der Nachtarbeit aus Arbeitsblock 1und 2 wenn nur die AZ betrachtet werden soll ohne Reisezeit =WENN(WENN(AT10;BA10;BA10+BB10)>0;WENN(AT10;BA10;BA10+BB10);"") | U9: Summe der Samstagsarbeit aus Block 1 und 2 wenn nur die AZ betrachtet werden soll =WENN(WENN(AT10;BD10;BD10+BE10)>0;WENN(AT10;BD10;BD10+BE10);"") | V9: Summer Sonntagsarbeit | W9: Summe der Feiertagsarbeit | X9: Gibt die Mehrarbeit zurück wenn bei Code (G) ein Ü steht | Z9: Beginn der Rufberitschaft | AA9: Ende der Rufbereitschaft (auch am nächsten Tag) | AB9: Einsatzzeit vor Ort, möglich mehrere Einstzätze einzutragen (es erfolgt keine automatische Berechnung) pro Einsatz auf volle Stunden runden?? | AC9: Manuelle eingabe der aufgerundeten Einsatzstunden | AD9: Einsatzzeit Telefon/ PC möglich mehrere Einstzätze einzutragen (es erfolgt keine automatische Berechnung) | AE9: Angabe der Mehrarbeit durch Einsatz | AG9: Angabe des Zeitguthabens für die Rufbereitschaft | AH9: Berechnung des Zeitguthabens (Mo-Fr >12h - 2h, Sa-So, Feit. >12 - 4; <12h Stunden*12,5%) | AI9: Berechnung der Rufbereitschaftsstunden | AL9: Holt AZ-Beginn1 | AM9: Holt AZ-Ende1 | AN9: Holt Pause1 | AO9: Berechnet Bruttostunden 1 | AP9: Berechnet die Unterbrechung zw. Den Blöcken; Hier immer 0 | AQ9: Berechnet Nettostunden1 | AR9: Holt AZ-Beginn2 | AS9: Holt AZ-Ende2 | AT9: Holt Pause2 | AU9: Berechnet Bruttostunden 2 | AV9: Berechnet die Unterbrechung zw. Den Blöcken; hier immer 0 | AW9: Berechnet Nettostunden2 | AX9: Holt AZ-Beginn1 | AY9: Holt AZ-Ende2 oder AZ-Ende1 wenn Ende2 leer ist | AZ9: Addiert Pause1 und Pause2 | BA9: Berechnet Bruttostunden von Block1 und Block2 | BB9: Berechnet die Unterbrechung zw. Den Blöcken | BC9: Berechnet Nettostundenvon Block1 und Block2 | BD9: Gibt wahr wieder wenn, die Maximale Unterbrechung nicht überschritten wurde. | BE9: Gibt wahr wieder wenn Code Dienstreise ist | BF9: Berechnet die gesamte Nettostunden. Bei DR, RZ wird nur Block1 berücksichtigt. Wenn max. Unterbrechung überschritten wird, werden Block1 und Block2 separat betrachtet, ansonsten gemeinsam. | BG9: Berechnung der Reisezeit gemäß SMI/SMF schreiben | BH9: gibt den aktellen täglichen Soll_Stunden wieder | BI9: Wenn Projekttag ist werden für alle 8h angesetzt, egal wie lange der Tag war. | BJ9: Gibt die Stunden zurück welche als AZ angerechnet werden. | BK9: Gibt die Bruttostunden wieder wie die Spalte Gesamt Nettostunden, außer bei RZ | BL9: Gibt wahr wieder wenn Code Reisezeit ist. | BM9: Wird überprüft Ob Arbeitszeit Im Arbeitszeitblock 1 zwischen 21Uhr und 6Uhr liegen | BN9: Wird geprüft ob Arbeitszeit im Arbeitszeitblock 2 zwischen 21Uhr und 6Uhr liegen | BO9: Gibt die Arbeitszeit an einem Feiertag wieder | BP9: Gibt die Arbeitszeit am Samstag ab 13Uhr wieder für den Arbeitsblock 1 | BQ9: Gibt die Arbeitszeit am Samstag ab 13Uhr wieder für den Arbeitsblock 2 | BR9: Gibt die Arbeitszeit am Sonntag wieder | BS9: ???? | BT9: Gibt 1 zurück wenn bei Code (G) ein U Steht und zählt die tage zusammen | BU9: Tägliche Summe der Mehrarbeit mit dem Vortag, zur Kontrolle der Aktuellen Phase | BV9: Gibt 1 bis 3 wieder bei erreichen der der drei verschiedenen Phasen | BW9: Gibt die zum dem Tag gehöhrende Wochenstundenzahl wieder | BX9: Gibt eine 1 Zurück wenn an dem Tag gearbeitet wurde | BY9: Gibt eine 1 zurück wenn an dem Tag gearbeitet werden sollte | BZ9: Gibt die täglichen Soll-Stunden wieder | CA9: Gibt die Zeitschuld/ -Guthaben an (Differenz zur Sollstunden) | HQ9: aufteilung der Einsatzzeiten | HR9: trennzeichen zw. Den Zeiten | HS9: Teilbereich der Einsatzzeiten | IB9: Teilbereich der Einsatzzeiten | IJ9: mit fehlerwert arbeiten | IK9: Teilbereich der Einsatzzeiten | IT9: Teilbereich der Einsatzzeiten | IX9: Summe der Einsatzzeiten | JD9: Dauer des Einsatzes | JE9: Beginn des 5. Einsatzes | JF9: Ende des 5. Einsatzes | JG9: Beginn in RB? | JH9: Ende in RB? | JI9: Einsatz über RB? | JJ9: Einsazzeit in RB | JK9: trennzeichen zw. Den Zeiten | JL9: 7. Einsatz Telefon PC | JM9: Dauer des Einsatzes | JN9: Beginn des 6. Einsatzes | JO9: Ende des 6. Einsatzes | JP9: Beginn in RB? | JQ9: Ende in RB? | JR9: Einsatz über RB? | JS9: Einsazzeit in RB | JT9: trennzeichen zw. Den Zeiten | JU9: 8. Einsatz Telefon PC | KC9: mit fehlerwert arbeiten | KD9: Teilbereich der Einsatzzeiten | KQ9: Teilbereich der Einsatzzeiten | KU9: Summe der Einsatzzeiten | LH9: trennzeichen zw. Den Zeiten | LI9: Teilbereich der Einsatzzeiten | LR9: Teilbereich der Einsatzzeiten | LZ9: mit fehlerwert arbeiten | MA9: Teilbereich der Einsatzzeiten | MJ9: Teilbereich der Einsatzzeiten | MN9: Summe der Einsatzzeiten
