Workbook
Name Aufzeichnungsjahr: Stammdaten!$D$12
Name Beschäftigtengruppe: Stammdaten!$D$9
Name Code: Stammdaten!$D$33:$D$50
Name Code_Liste: Stammdaten!$A$33:$H$50
Name Feiertage: Informationen!$A$3:$A$17
Name Feiertage_Liste: Informationen!$B$3:$E$17
Name gelb_minus: Stammdaten!$X$18
Name gelb_plus: Stammdaten!$U$18
Name grün_minus: Stammdaten!$X$17
Name grün_plus: Stammdaten!$U$17
Name max_Unterbrechung: Informationen!$U$15
Name Name: Stammdaten!$D$6
Name Pause_6: Informationen!$M$6
Name Pause_9: Informationen!$M$7
Name Projekttag: Informationen!$U$18
Name rot_minus: Stammdaten!$X$19
Name rot_plus: Stammdaten!$U$19
Name Soll_AZ: Stammdaten!$C$23:$C$29
Name Struktureinheit: Stammdaten!$D$10
Name Tabellennamen: Stammdaten!$N$10
Name Urlaubsübertrag: Stammdaten!$P$18
Name Zeitguthaben: Stammdaten!$S$14
Name ZIH_Login: Stammdaten!$D$7

Sheet Eingabehilfe
C4: Personenbezogene Daten | J4: Übersicht für 2020
C5: Name: | E5: Max Mustermann | J5: Zeitguthaben oder Zeitschuld in 2020 | N5: 1.7291667 | O5: 2 | P5: Arbeitstage: | R5: 252
C6: Personalnummer oder Geburtsdatum | E6: vvnnZZZb | J6: genommener Urlaub | N6: 1 | P6: geleistete Arbeitstage | R6: 13
C7: (freiwillige Eingabe) | U7: Eine Auflistung der meistgestellten Fragen finden Sie bei den FAQ. Web-Link oder Bild anklicken.
C8: Beschäftigtengruppe: | D8: Beschäftigtengruppe: | I8: 0
C9: Struktureinheit: | E9: Struktureinheit | O9: Stammdaten
C10: Plus-/ Minus- und Überstunden
C11: Aufzeichnungsjahr: | E11: 2020
C12: Übertrag von: | E12: =DATEVALUE("01."&"01."&E11-1) -> 42004
C13: ="Übertrag von Zeitguthaben oder Zeitschuld in "&E11 -> Übertrag von Zeitguthaben oder Zeitschuld in 2020 | D13: + | E13: 15,0 | G13: Stunden/ hh:mm | L13: 0.026041667
D14: - | L14: #NAME?
R15: Zeitschuld
C16: Urlaub gemäß Urlaubskarte | M16: in eigener Veranwortung bis: | O16: 1 | P16: der wöchentlichen Arbeitszeit | Q16: 1.4583333 | R16: -0.25 | S16: der wöchentlichen Arbeitszeit | T16: -0.36458333
C17: ="für "&E11&":" -> für 2020: | E17: 30 | J17: 35 | M17: Information an den Vorgesetzen ab: | O17: 1 | Q17: 1.4583333 | R17: -0.25 | T17: -0.36458333
C18: ="Resturlaub von "& E11-1& ":" -> Resturlaub von 2019: | E18: 5 | M18: nur nach Genehmigung durch D2 und PR möglich ab: | O18: 1.25 | Q18: 1.8229167 | R18: -0.5 | T18: -0.72916667
C19: ="verbleibender Urlaub für " & E11&":" -> verbleibender Urlaub für 2020: | E19: =IF(AND(ISBLANK(E18),ISBLANK(E17)),"",Urlaubsübertrag) -> 0 | U19: Web-Link: FAQ deutsch/ german
C21: Regelarbeitszeit | E21: Wochenstunden hh:mm | F21: Montag | G21: Dienstag | H21: Mittwoch | I21: Donnerstag | J21: Freitag | K21: Samstag | L21: Sonntag | M21: in eigener Veranwortung bis: | N21: Information an den Vorgesetzen ab: | O21: nur nach Genehmigung durch D2 und PR möglich ab: | P21: Durchschnittliche Tägliche Arbeitszeit
C22: Arbeitszeit 1 ab | D22: =DATEVALUE("01."&"01."&E11) -> 42369 | E22: 1.4583333 | F22: X | G22: 0.33333333 | H22: X | I22: X | J22: 0.25 | K22: - | L22: - | M22: 35h/ -8,75h | N22: 35h/ -8,75h | O22: 43,75h/ -17,5h | P22: 0.29166667 | Q22: 0.29166667 | R22: 0.29166667 | S22: 0.29166667
C23: Arbeitszeit 2 ab | K23: - | L23: - | P23: 0 | Q23: 0 | R23: 0 | S23: 0
C24: Arbeitszeit 3 ab | K24: - | L24: - | P24: 0 | Q24: 0 | R24: 0 | S24: 0
C25: Arbeitszeit 4 ab | K25: - | L25: - | P25: 0 | Q25: 0 | R25: 0 | S25: 0
C26: Arbeitszeit 5 ab | K26: - | L26: - | P26: 0 | Q26: 0 | R26: 0 | S26: 0 | U26: Web-Link: FAQ english/ englisch
C27: Arbeitszeit 6 ab | K27: - | L27: - | P27: 0 | Q27: 0 | R27: 0 | S27: 0
C28: Arbeitszeit 7 ab | K28: - | L28: - | P28: 0 | Q28: 0 | R28: 0 | S28: 0
B31: Status
B32: Bezeichnung | D32: Abkürzung | F32: Bezeichnung | J32: Abkürzung | L32: Bezeichnung | N32: Abkürzung
B33: Urlaub | D33: U | F33: Reisezeit (ohne dienstliche Inanspruchnahme) | J33: RZ | L33: Kur/ Reha | N33: Kur
B34: Arbeitsunfähigkeit mit AU-Schein | D34: AU | F34: Dienstreise mit dienstlicher Inanspruchnahme | J34: DR | L34: Gleittag | N34: G
B35: Arbeitsunfähigkeit ohne AU-Schein | D35: AUoKS | F35: ganztägige Weiterbildung | J35: WB | L35: Freistellungen (z. B. Sonderurlaub) | N35: SU
B36: Arbeitsunfähig nach Dienstbeginn | D36: AU_Db | F36: Mutterschutz | J36: MuS | L36: angeordnete Überstunden | N36: Ü
B37: Kind Krank | D37: KK | F37: Elternzeit | J37: EZ | L37: Projekttag | N37: PjT
F38: Rufbereitschaft | J38: Rufb | L38: Berufschule | N38: BS
D43: Bespielhafte Übersicht für einen Aufzeichnungsmonat
B52: Name: | C52: Max Mustermann | F52: ZIH-Login: | H52: vvnnZZZb | J52: 245,222,179 | K52: Reisezeit | N52: Farb- codierung | O52: in eigener Veranwortung | Q52: 112,173,71 | T52: Ansicht
B53: Monat: | C53: 42369 | F53: Jahr: | H53: 42369 | J53: 255,185,15 | K53: Arbeit am Wochenende/ an Feiertagen | O53: Information an den Vorgesetzen | Q53: 255,185,15
J54: 255,69,0 | K54: Überschreitung der 10 Stunden-Grenze | O54: nur nach Genehmigung durch D2 und PR möglich | Q54: 255,69,0
Q55: ↓ Sichtbar, wenn "erweitert (WE-. Feiertag-, Nachtarbeit)" ausgewählt wurde. ↓ | W55: ↓Sichtbar, wenn Rufbereitschaft ausgewählt wurde.↓
A56: KW | B56: Datum | C56: Feiertage | D56: Tag | E56: Status | F56: Arbeitszeit | Q56: Kommentare/ Anmerkungen | R56: Sonderform der Arbeit
F57: Kommen 1 | G57: Gehen 1 | H57: Summe der Pausen 1 | I57: Kommen 2 | J57: Gehen 2 | K57: Summe der Pausen 2 | L57: Brutto-Std. (inkl. Pausen) | M57: Netto-Std. ohne Pausen, zzgl. Reisezeit | N57: Regel- arbeits- zeit (Soll-Std.) | O57: Zeitgut- haben/ Zeitschuld +/- | P57: Wochen- saldo | R57: Nacht- arbeit | S57: Wochenend-/ Feiertagsarbeit | V57: Ange- ordnete Über- stunden | W57: Rufbereitschaft | Y57: Einsatzzeit vor Ort | AA57: Einsatzzeit Telefon/ PC | AC57: Summe der Einsatz- zeiten | AD57: Pauschale für die Rufbereit- schaft
I58: Beginn Reisezeit | J58: Ende Reisezeit | S58: Samstag | T58: Sonntag | U58: Feiertag | W58: von | X58: bis | Y58: von - bis | Z58: auf volle Stunden gerundete Einsatzzeiten (hh) | AA58: von - bis | AB58: auf halbe bzw. nächste volle Stunden gerundeten Einsatzseiten (hh,5 bzw. hh,0)
A59: Gibt die Kalenderwoche wieder, Woche = Mo-So | B59: Gibt Datum wieder. Aufwährts zählend | C59: Wie Spalte D, um komplizierte Formel zu verstecken | D59: Gibt den Wochentag zurück | E59: Wird zur Bestimmtung der täglichen Arbeitszeit benötigt und um anzuzeigen um welche Art von Arbeit es sich handelt | F59: Begin der Arbeitszeit | G59: Ende der Arbeitzeit | H59: Gesamte Pausen zwischen Arbeitsbegin und Arbeitsende | I59: Beginn der Arbeitszeit oder der Dienstreise bzw. Reisezeit | J59: Ende der Arbeitszeit oder der Dienstreise bzw. Reisezeit | K59: Gesamten Pausen zwischen dem zweiten Arbeitsbegin und Arbeitsende | L59: Gibt Summe der gesamten Arbeitzeit inkl. Der Pausen zurück | M59: Gibt Summe der Arbeitszeit ohne Pausen zurück | N59: Gibt die tägliche Arbeitzeit zurück | O59: gibt die Differenz zwischen Soll-Stunden und Netto-Stunden zurück | P59: Kommentarspallte für den Nutzer | Q59: Summe der Nachtarbeit aus Arbeitsblock 1und 2 wenn nur die AZ betrachtet werden soll ohne Reisezeit =WENN(WENN(AT10;BA10;BA10+BB10)>0;WENN(AT10;BA10;BA10+BB10);"") | R59: Summe der Samstagsarbeit aus Block 1 und 2 wenn nur die AZ betrachtet werden soll =WENN(WENN(AT10;BD10;BD10+BE10)>0;WENN(AT10;BD10;BD10+BE10);"") | S59: Summer Sonntagsarbeit | T59: Summe der Feiertagsarbeit | U59: Gibt die Mehrarbeit zurück wenn bei Code (G) ein Ü steht | V59: bei negativen Differenz taucht die Absetzen von auf | Y59: Beginn der Rufberitschaft | Z59: Ende der Rufbereitschaft (auch am nächsten Tag) | AA59: Einsatzzeit vor Ort, möglich mehrere Einstzätze einzutragen (es erfolgt keine automatische Berechnung) pro Einsatz auf volle Stunden runden?? | AB59: Manuelle eingabe der aufgerundeten Einsatzstunden | AC59: Einsatzzeit Telefon/ PC möglich mehrere Einstzätze einzutragen (es erfolgt keine automatische Berechnung) | AD59: Angabe der Mehrarbeit durch Einsatz
A60: 1 | B60: 42369 | C60: Neujahr | D60: 42369
A61: 1 | B61: 42370 | D61: 42370 | F61: 0.33333333 | G61: 0.79166667 | H61: 0.020833333 | L61: 0.45833333 | M61: 0.42708333 | N61: 0.33333333 | O61: 0.09375
A62: 1 | B62: 42371 | D62: 42371 | F62: 0.29166667 | G62: 0.65625 | H62: 0.020833333 | L62: 0.36458333 | M62: 0.34375 | N62: 0.33333333 | O62: 0.010416667
A63: 1 | B63: 42372 | D63: 42372
A64: 1 | B64: 42373 | D64: 42373 | F64: 0.33333333 | G64: 0.79166667 | L64: 0.45833333 | M64: 0.42708333 | O64: 0.42708333 | P64: 0.53125 | T64: 0.42708333
A65: 2 | B65: 42374 | D65: 42374 | E65: U | N65: 0.33333333
A66: 2 | B66: 42375 | D66: 42375 | E66: AU | N66: 0.33333333
A67: 2 | B67: 42376 | D67: 42376 | E67: AUoKS | N67: 0.33333333
A68: 2 | B68: 42377 | D68: 42377 | E68: AU_Db | N68: 0.33333333
A69: 2 | B69: 42378 | D69: 42378 | E69: KK | N69: 0.33333333
A70: 2 | B70: 42379 | D70: 42379
A71: 2 | B71: 42380 | D71: 42380 | E71: RZ | I71: 0.29166667 | J71: 0.79166667 | L71: nur RZ | M71: 0.25 | O71: 0.25 | P71: 0.25 | T71: 0.25
A72: 3 | B72: 42381 | D72: 42381 | E72: RZ | I72: 0.29166667 | J72: 0.79166667 | L72: nur RZ | M72: 0.41666667 | N72: 0.33333333 | O72: 0.083333333
A73: 3 | B73: 42382 | D73: 42382 | E73: DR | F73: 0.33333333 | G73: 0.625 | I73: 0.25 | J73: 0.66666667 | L73: 0.29166667 | M73: 0.39583333 | N73: 0.33333333 | O73: 0.0625
A74: 3 | B74: 42383 | D74: 42383 | E74: DR | F74: 0.33333333 | G74: 0.625 | I74: 0.25 | J74: 0.83333333 | L74: 0.29166667 | M74: 0.41666667 | N74: 0.33333333 | O74: 0.083333333
A75: 3 | B75: 42384 | D75: 42384 | E75: WB | N75: 0.33333333
A76: 3 | B76: 42385 | D76: 42385 | E76: MuS | N76: 0.33333333
A77: 3 | B77: 42386 | D77: 42386
A78: 3 | B78: 42387 | D78: 42387 | P78: 0.22916667
A79: 4 | B79: 42388 | D79: 42388 | E79: EZ | N79: 0.33333333
A80: 4 | B80: 42389 | D80: 42389 | E80: Rufb | F80: 0.29166667 | G80: 0.64583333 | H80: 0.020833333 | L80: 0.35416667 | M80: 0.33333333 | N80: 0.33333333 | W80: 0.64583333 | X80: 0.29166667
A81: 4 | B81: 42390 | D81: 42390 | E81: Ü | F81: 0.29166667 | G81: 0.75 | H81: 0.03125 | L81: 0.45833333 | M81: 0.42708333 | N81: 0.33333333 | O81: 0.09375 | V81: 0.09375
A82: 4 | B82: 42391 | D82: 42391 | E82: Ü | F82: 0.33333333 | G82: 0.66666667 | H82: 0.03125 | L82: 0.33333333 | M82: 0.30208333 | N82: 0.33333333 | O82: -0.03125
A83: 4 | B83: 42392 | D83: 42392 | E83: PjT | M83: 0.33333333 | N83: 0.33333333
A84: 4 | B84: 42393 | D84: 42393
A85: 4 | B85: 42394 | D85: 42394 | P85: 0.0625
A86: 5 | B86: 42395 | D86: 42395 | E86: WB | N86: 0.33333333
A87: 5 | B87: 42396 | D87: 42396 | E87: G | N87: 0.33333333 | O87: -0.33333333
A88: 5 | B88: 42397 | D88: 42397 | E88: G | N88: 0.33333333 | O88: -0.33333333
A89: 5 | B89: 42398 | D89: 42398 | E89: SU | N89: 0.33333333
A90: 5 | B90: 42399 | D90: 42399 | N90: 0.33333333
Q91: Summe | R91: 0 | S91: 0 | T91: 0.67708333 | U91: 0 | V91: 0.09375 | AA91: Pauschale für Rufbereitschaft Januar | AD91: 0.083333333
E92: genommener Urlaub | G92: Vormonate: | I92: 0 | K92: Zeitguthaben/ Zeitschuld | M92: alter Übertrag: | O92: 0.625 | P92: Abbau von Rufb.Einsatzzeiten | R92: Hinweis
G93: dieser Monat: | I93: 1 | M93: aktuell: | O93: 1.1041667 | P93: 0 | R93: Zur Abrechnung/ Vergütung von Sonderformen der Arbeit gem. § 3 Abs. 3 DV "Flexible Arbeitszeit" ist dieses Formblatt auf dem Dienstweg ans Dezernat 2 zu schicken. | AB93: Verbleibende Rufbereitschaftszeiten Januar
A94: Datum: | M94: neuer Übertrag: | O94: 1.7291667 | P94: 0
D95: Arbeitstage pro Monat: | H95: 22
D96: geleistete Arbeitstage pro Monat: | H96: 13
A97: sachlich richtig: | H97: Kenntnisnahme Vorgesetzte/-r | P97: Rufb.Einsatzzeiten
D100: Max Mustermann

Sheet Stammdaten
B1: Dienstvereinbarung zur flexiblen Arbeitszeit
B2: Anlage 1
B3: Formular zur Arbeitszeiterfassung und -abrechnung
B5: Personenbezogene Daten | I5: ="Übersicht für "&D12 -> Übersicht für 2024
B6: Name: | I6: =RIGHT(B14,LEN(B14)-13) -> Zeitguthaben oder Zeitschuld in 2024 | M6: =Dez!BW5 -> 0 | N6: =AD17 -> 1 | O6: Arbeitstage: | Q6: =SUM(Jan!J45,Feb!J45,Mrz!J45,Apr!J45,Mai!J45,Jun!J45,Jul!J45,Aug!J45,Sep!J45,Okt!J45,Nov!J45,Dez!J45) -> 249
B7: Personalnummer oder Geburtsdatum | I7: genommener Urlaub | M7: =Dez!BT6*-1 -> 0 | O7: geleistete Arbeitstage | Q7: =SUM(Jan!J46,Feb!J46,Mrz!J46,Apr!J46,Mai!J46,Jun!J46,Jul!J46,Aug!J46,Sep!J46,Okt!J46,Nov!J46,Dez!J46) -> 0
B8: (freiwillige Eingabe)
B9: Beschäftigtengruppe: | C9: Beschäftigtengruppe: | D9: Arbeitnehmer | H9: =IF(D9="WHK (mit Abschluss)",1,0) -> 0 | J9: Version: | M9: =Informationen!I16 -> V.1.3.4b
B10: Struktureinheit: | D10: cfaed | N10: =MID(CELL("filename",A4),SEARCH("]",CELL("filename",A4))+1,31) -> Stammdaten
B11: Plus-/ Minus- und Überstunden
B12: Aufzeichnungsjahr: | D12: 2024
B13: Übertrag von: | D13: =DATEVALUE("01."&"01."&D12-1) -> 43465
B14: ="Übertrag von Zeitguthaben oder Zeitschuld in "&D12 -> Übertrag von Zeitguthaben oder Zeitschuld in 2024 | C14: + | F14: Stunden/ hh:mm | Q14: =IF(ISERROR(FIND(":",D14)),IF(ISERROR(FIND(",",D14)),IF(ISERR(FIND(".",D14)),D14,(LEFT(D14,FIND(".",D14)-1))&","&RIGHT(D14,LEN(D14)-FIND(".",D14)))*1,D14*1),D14*24) -> 0 | R14: =S14/24 -> 0 | S14: =(Q14+Q15)/24 -> 0
C15: - | N15: Web-Link: FAQ deutsch/ german | Q15: =IF(ISERROR(FIND(":",D15)),IF(ISERROR(FIND(",",D15)),IF(ISERR(FIND(".",D15)),D15,(LEFT(D15,FIND(".",D15)-1))&","&RIGHT(D15,LEN(D15)-FIND(".",D15)))*-1,D15*-1),D15*-24) -> 0 | R15: =IF(ISERR(FIND(":",AZ_Guthaben)),_xlfn.NUMBERVALUE(AZ_Guthaben)/24,IF( ISERROR(FIND(",",AZ_Guthaben)),_xlfn.NUMBERVALUE(AZ_Guthaben),"fehler")) -> #NAME?
N16: Web-Link: FAQ english/ englisch | X16: Zeitschuld | AD16: Phasenberechnung
B17: Urlaub gemäß Urlaubskarte | S17: =CONCATENATE(Informationen!V3," bis:") -> in eigener Verantwortung bis: | U17: =IF($H$9=1,Informationen!U3,Informationen!T3) -> 1 | V17: der wöchentlichen Arbeitszeit | W17: =IF(TODAY()< DATE($D$12,1,1),(U17*VLOOKUP(DATE($D$12,1,1),$C$23:$D$29,2))/100%,(U17*VLOOKUP(TODAY(),$C$23:$D$29,2))/100%) -> 1.6666667 | X17: =IF($H$9=1,Informationen!U8,Informationen!T8) -> -0.25 | Y17: der wöchentlichen Arbeitszeit | Z17: =IF(TODAY()< DATE($D$12,1,1),(X17*VLOOKUP(DATE($D$12,1,1),$C$23:$D$29,2))/100%,(X17*VLOOKUP(TODAY(),$C$23:$D$29,2))/100%) -> -0.41666667 | AA17: =Informationen!V8 -> in eigener Verantwortung | AD17: =IF(OR(AND(M6>0,M6>W19),AND(M6<0,M6<Z19)),3,IF(OR(AND(M6>=0,M6<=W17),AND(M6<=0,M6>=Z17)),1,2)) -> 1
B18: ="für "&D12&":" -> für 2024: | D18: 0 | P18: =D18+D19 -> 0 | S18: =CONCATENATE(Informationen!V4," ab:") -> Information an den Vorgesetzten ab: | U18: =IF($H$9=1,Informationen!U4,Informationen!T4) -> 1 | W18: =IF(TODAY()< DATE($D$12,1,1),(U18*VLOOKUP(DATE($D$12,1,1),$C$23:$D$29,2))/100%,(U18*VLOOKUP(TODAY(),$C$23:$D$29,2))/100%) -> 1.6666667 | X18: =IF($H$9=1,Informationen!U9,Informationen!T9) -> -0.25 | Z18: =IF(TODAY()< DATE($D$12,1,1),(X18*VLOOKUP(DATE($D$12,1,1),$C$23:$D$29,2))/100%,(X18*VLOOKUP(TODAY(),$C$23:$D$29,2))/100%) -> -0.41666667 | AA18: =Informationen!V9 -> Information an den Vorgesetzten
B19: ="Resturlaub von "& D12-1& ":" -> Resturlaub von 2023: | S19: =CONCATENATE(Informationen!V5," ab:") -> nur nach Genehmigung durch D2 und PR möglich ab: | U19: =IF($H$9=1,Informationen!U5,Informationen!T5) -> 1.25 | W19: =IF(TODAY()< DATE($D$12,1,1),(U19*VLOOKUP(DATE($D$12,1,1),$C$23:$D$29,2))/100%,(U19*VLOOKUP(TODAY(),$C$23:$D$29,2))/100%) -> 2.0833333 | X19: =IF($H$9=1,Informationen!U10,Informationen!T10) -> -0.5 | Z19: =IF(TODAY()< DATE($D$12,1,1),(X19*VLOOKUP(DATE($D$12,1,1),$C$23:$D$29,2))/100%,(X19*VLOOKUP(TODAY(),$C$23:$D$29,2))/100%) -> -0.83333333 | AA19: =Informationen!V10 -> keine weiteren Minderstunden möglich
B20: ="verbleibender Urlaub für " & D12&":" -> verbleibender Urlaub für 2024: | D20: =IF(AND(ISBLANK(D19),ISBLANK(D18)),"",Urlaubsübertrag) -> 0
A22: ="Eingegebene Wochenstunden stimmen nicht mit der Summe der täglichen Arbeitszeit überein! Differenz von "&(ROUND(AA30,10))&" Stunden." -> Eingegebene Wochenstunden stimmen nicht mit der Summe der täglichen Arbeitszeit überein! Differenz von 0 Stunden. | B22: Regelarbeitszeit | D22: Wochenstunden hh:mm | E22: Montag | F22: Dienstag | G22: Mittwoch | H22: Donnerstag | I22: Freitag | J22: Samstag | K22: Sonntag | L22: Kontrolle der Wochenstunden | M22: =CONCATENATE(S17) -> in eigener Verantwortung bis: | N22: =CONCATENATE(S18) -> Information an den Vorgesetzten ab: | O22: =CONCATENATE(S19,) -> nur nach Genehmigung durch D2 und PR möglich ab: | P22: Durchschnittliche Tägliche Arbeitszeit | W22: Anzahl-AZ-Tage | X22: täglicher Durchschnitt | Y22: Summe tägliche AZ | Z22: Vergleich Wochenstunden und Summe täglicher AZ
B23: Arbeitszeit 1 ab | C23: =DATEVALUE("01."&"01."&D12) -> 43830 | D23: 1.6666667 | E23: X | F23: X | G23: 0.33333333 | H23: X | I23: X | J23: - | K23: - | L23: =IF(OR(D23<0,D23>1.75),0,1) -> 1 | M23: =IF(ISBLANK(C23),"",((U17*$D23/100%)*24)&"h/ "&(X17*$D23/100%)*24&"h") -> 40h/ -10h | N23: =IF(ISBLANK(C23),"",((U18*$D23/100%)*24)&"h/ "&(X18*$D23/100%)*24&"h") -> 40h/ -10h | O23: =IF(ISBLANK(C23),"",(($U$19*$D23/100%)*24)&"h/ "&($X$19*$D23/100%)*24&"h") -> 50h/ -20h | P23: =IF(UPPER(E23)="X",$X23,IF(AND(E23<1,E23>=0),E23,0)) -> 0.33333333 | Q23: =IF(UPPER(F23)="X",$X23,IF(AND(F23<1,F23>=0),F23,0)) -> 0.33333333 | R23: =IF(UPPER(G23)="X",$X23,IF(AND(G23<1,G23>=0),G23,0)) -> 0.33333333 | S23: =IF(UPPER(H23)="X",$X23,IF(AND(H23<1,H23>=0),H23,0)) -> 0.33333333 | T23: =IF(UPPER(I23)="X",$X23,IF(AND(I23<1,I23>=0),I23,0)) -> 0.33333333 | U23: =IF(UPPER(J23)="X",$X23,IF(AND(J23<1,J23>=0),J23,0)) -> 0 | V23: =IF(UPPER(K23)="X",$X23,IF(AND(K23<1,K23>=0),K23,0)) -> 0 | W23: =SUM(IF(OR(AND(E23<1,E23>0),UPPER(E23)="X"),1,0),IF(OR(AND(F23<1,F23>0),UPPER(F23)="X"),1,0),IF(OR(AND(G23<1,G23>0),UPPER(G23)="X"),1,0),IF(OR(AND(H23<1,H23>0),UPPER(H23)="X"),1,0),IF(OR(AND(I23<1,I23>0),UPPER(I23)="X"),1,0),IF(OR(AND(J23<1,J23>0),UPPER(J23)="X"),1,0),IF(OR(AND(K23<1,K23>0),UPPER(K23)="X"),1,0)) -> 5 | X23: =IFERROR(D23/W23,0) -> 0.33333333 | Y23: =SUM(P23:V23) -> 1.6666667 | Z23: =IF(Y23=D23,TRUE,FALSE) -> TRUE | AA23: =ABS(D23-Y23) -> 2.220446e-16
B24: Arbeitszeit 2 ab | J24: - | K24: - | L24: =IF(OR(D24<0,D24>1.75),0,1) -> 1 | M24: =IF(ISBLANK(C24),"",((grün_plus*$D24/100%)*24)&"h/ "&(grün_minus*$D24/100%)*24&"h") | N24: =IF(ISBLANK(C24),"",((gelb_plus*$D24/100%)*24)&"h/ "&(gelb_minus*$D24/100%)*24&"h") | O24: =IF(ISBLANK(C24),"",((rot_plus*$D24/100%)*24)&"h/ "&(rot_minus*$D24/100%)*24&"h") | P24: =IF(UPPER(E24)="X",$X24,IF(AND(E24<1,E24>=0),E24,0)) -> 0 | Q24: =IF(UPPER(F24)="X",$X24,IF(AND(F24<1,F24>=0),F24,0)) -> 0 | R24: =IF(UPPER(G24)="X",$X24,IF(AND(G24<1,G24>=0),G24,0)) -> 0 | S24: =IF(UPPER(H24)="X",$X24,IF(AND(H24<1,H24>=0),H24,0)) -> 0 | T24: =IF(UPPER(I24)="X",$X24,IF(AND(I24<1,I24>=0),I24,0)) -> 0 | U24: =IF(UPPER(J24)="X",$X24,IF(AND(J24<1,J24>=0),J24,0)) -> 0 | V24: =IF(UPPER(K24)="X",$X24,IF(AND(K24<1,K24>=0),K24,0)) -> 0 | W24: =SUM(IF(OR(AND(E24<1,E24>0),UPPER(E24)="X"),1,0),IF(OR(AND(F24<1,F24>0),UPPER(F24)="X"),1,0),IF(OR(AND(G24<1,G24>0),UPPER(G24)="X"),1,0),IF(OR(AND(H24<1,H24>0),UPPER(H24)="X"),1,0),IF(OR(AND(I24<1,I24>0),UPPER(I24)="X"),1,0),IF(OR(AND(J24<1,J24>0),UPPER(J24)="X"),1,0),IF(OR(AND(K24<1,K24>0),UPPER(K24)="X"),1,0)) -> 0 | X24: =IFERROR(D24/W24,0) -> 0 | Y24: =SUM(P24:V24) -> 0 | Z24: =IF(Y24=D24,TRUE,FALSE) -> TRUE | AA24: =ABS(D24-Y24) -> 0
B25: Arbeitszeit 3 ab | J25: - | K25: - | L25: =IF(OR(D25<0,D25>1.75),0,1) -> 1 | M25: =IF(ISBLANK(C25),"",((grün_plus*$D25/100%)*24)&"h/ "&(grün_minus*$D25/100%)*24&"h") | N25: =IF(ISBLANK(C25),"",((gelb_plus*$D25/100%)*24)&"h/ "&(gelb_minus*$D25/100%)*24&"h") | O25: =IF(ISBLANK(C25),"",((rot_plus*$D25/100%)*24)&"h/ "&(rot_minus*$D25/100%)*24&"h") | P25: =IF(UPPER(E25)="X",$X25,IF(AND(E25<1,E25>=0),E25,0)) -> 0 | Q25: =IF(UPPER(F25)="X",$X25,IF(AND(F25<1,F25>=0),F25,0)) -> 0 | R25: =IF(UPPER(G25)="X",$X25,IF(AND(G25<1,G25>=0),G25,0)) -> 0 | S25: =IF(UPPER(H25)="X",$X25,IF(AND(H25<1,H25>=0),H25,0)) -> 0 | T25: =IF(UPPER(I25)="X",$X25,IF(AND(I25<1,I25>=0),I25,0)) -> 0 | U25: =IF(UPPER(J25)="X",$X25,IF(AND(J25<1,J25>=0),J25,0)) -> 0 | V25: =IF(UPPER(K25)="X",$X25,IF(AND(K25<1,K25>=0),K25,0)) -> 0 | W25: =SUM(IF(OR(AND(E25<1,E25>0),UPPER(E25)="X"),1,0),IF(OR(AND(F25<1,F25>0),UPPER(F25)="X"),1,0),IF(OR(AND(G25<1,G25>0),UPPER(G25)="X"),1,0),IF(OR(AND(H25<1,H25>0),UPPER(H25)="X"),1,0),IF(OR(AND(I25<1,I25>0),UPPER(I25)="X"),1,0),IF(OR(AND(J25<1,J25>0),UPPER(J25)="X"),1,0),IF(OR(AND(K25<1,K25>0),UPPER(K25)="X"),1,0)) -> 0 | X25: =IFERROR(D25/W25,0) -> 0 | Y25: =SUM(P25:V25) -> 0 | Z25: =IF(Y25=D25,TRUE,FALSE) -> TRUE | AA25: =ABS(D25-Y25) -> 0
B26: Arbeitszeit 4 ab | J26: - | K26: - | L26: =IF(OR(D26<0,D26>1.75),0,1) -> 1 | M26: =IF(ISBLANK(C26),"",((grün_plus*$D26/100%)*24)&"h/ "&(grün_minus*$D26/100%)*24&"h") | N26: =IF(ISBLANK(C26),"",((gelb_plus*$D26/100%)*24)&"h/ "&(gelb_minus*$D26/100%)*24&"h") | O26: =IF(ISBLANK(C26),"",((rot_plus*$D26/100%)*24)&"h/ "&(rot_minus*$D26/100%)*24&"h") | P26: =IF(UPPER(E26)="X",$X26,IF(AND(E26<1,E26>=0),E26,0)) -> 0 | Q26: =IF(UPPER(F26)="X",$X26,IF(AND(F26<1,F26>=0),F26,0)) -> 0 | R26: =IF(UPPER(G26)="X",$X26,IF(AND(G26<1,G26>=0),G26,0)) -> 0 | S26: =IF(UPPER(H26)="X",$X26,IF(AND(H26<1,H26>=0),H26,0)) -> 0 | T26: =IF(UPPER(I26)="X",$X26,IF(AND(I26<1,I26>=0),I26,0)) -> 0 | U26: =IF(UPPER(J26)="X",$X26,IF(AND(J26<1,J26>=0),J26,0)) -> 0 | V26: =IF(UPPER(K26)="X",$X26,IF(AND(K26<1,K26>=0),K26,0)) -> 0 | W26: =SUM(IF(OR(AND(E26<1,E26>0),UPPER(E26)="X"),1,0),IF(OR(AND(F26<1,F26>0),UPPER(F26)="X"),1,0),IF(OR(AND(G26<1,G26>0),UPPER(G26)="X"),1,0),IF(OR(AND(H26<1,H26>0),UPPER(H26)="X"),1,0),IF(OR(AND(I26<1,I26>0),UPPER(I26)="X"),1,0),IF(OR(AND(J26<1,J26>0),UPPER(J26)="X"),1,0),IF(OR(AND(K26<1,K26>0),UPPER(K26)="X"),1,0)) -> 0 | X26: =IFERROR(D26/W26,0) -> 0 | Y26: =SUM(P26:V26) -> 0 | Z26: =IF(Y26=D26,TRUE,FALSE) -> TRUE | AA26: =ABS(D26-Y26) -> 0
B27: Arbeitszeit 5 ab | J27: - | K27: - | L27: =IF(OR(D27<0,D27>1.75),0,1) -> 1 | M27: =IF(ISBLANK(C27),"",((grün_plus*$D27/100%)*24)&"h/ "&(grün_minus*$D27/100%)*24&"h") | N27: =IF(ISBLANK(C27),"",((gelb_plus*$D27/100%)*24)&"h/ "&(gelb_minus*$D27/100%)*24&"h") | O27: =IF(ISBLANK(C27),"",((rot_plus*$D27/100%)*24)&"h/ "&(rot_minus*$D27/100%)*24&"h") | P27: =IF(UPPER(E27)="X",$X27,IF(AND(E27<1,E27>=0),E27,0)) -> 0 | Q27: =IF(UPPER(F27)="X",$X27,IF(AND(F27<1,F27>=0),F27,0)) -> 0 | R27: =IF(UPPER(G27)="X",$X27,IF(AND(G27<1,G27>=0),G27,0)) -> 0 | S27: =IF(UPPER(H27)="X",$X27,IF(AND(H27<1,H27>=0),H27,0)) -> 0 | T27: =IF(UPPER(I27)="X",$X27,IF(AND(I27<1,I27>=0),I27,0)) -> 0 | U27: =IF(UPPER(J27)="X",$X27,IF(AND(J27<1,J27>=0),J27,0)) -> 0 | V27: =IF(UPPER(K27)="X",$X27,IF(AND(K27<1,K27>=0),K27,0)) -> 0 | W27: =SUM(IF(OR(AND(E27<1,E27>0),UPPER(E27)="X"),1,0),IF(OR(AND(F27<1,F27>0),UPPER(F27)="X"),1,0),IF(OR(AND(G27<1,G27>0),UPPER(G27)="X"),1,0),IF(OR(AND(H27<1,H27>0),UPPER(H27)="X"),1,0),IF(OR(AND(I27<1,I27>0),UPPER(I27)="X"),1,0),IF(OR(AND(J27<1,J27>0),UPPER(J27)="X"),1,0),IF(OR(AND(K27<1,K27>0),UPPER(K27)="X"),1,0)) -> 0 | X27: =IFERROR(D27/W27,0) -> 0 | Y27: =SUM(P27:V27) -> 0 | Z27: =IF(Y27=D27,TRUE,FALSE) -> TRUE | AA27: =ABS(D27-Y27) -> 0
B28: Arbeitszeit 6 ab | J28: - | K28: - | L28: =IF(OR(D28<0,D28>1.75),0,1) -> 1 | M28: =IF(ISBLANK(C28),"",((grün_plus*$D28/100%)*24)&"h/ "&(grün_minus*$D28/100%)*24&"h") | N28: =IF(ISBLANK(C28),"",((gelb_plus*$D28/100%)*24)&"h/ "&(gelb_minus*$D28/100%)*24&"h") | O28: =IF(ISBLANK(C28),"",((rot_plus*$D28/100%)*24)&"h/ "&(rot_minus*$D28/100%)*24&"h") | P28: =IF(UPPER(E28)="X",$X28,IF(AND(E28<1,E28>=0),E28,0)) -> 0 | Q28: =IF(UPPER(F28)="X",$X28,IF(AND(F28<1,F28>=0),F28,0)) -> 0 | R28: =IF(UPPER(G28)="X",$X28,IF(AND(G28<1,G28>=0),G28,0)) -> 0 | S28: =IF(UPPER(H28)="X",$X28,IF(AND(H28<1,H28>=0),H28,0)) -> 0 | T28: =IF(UPPER(I28)="X",$X28,IF(AND(I28<1,I28>=0),I28,0)) -> 0 | U28: =IF(UPPER(J28)="X",$X28,IF(AND(J28<1,J28>=0),J28,0)) -> 0 | V28: =IF(UPPER(K28)="X",$X28,IF(AND(K28<1,K28>=0),K28,0)) -> 0 | W28: =SUM(IF(OR(AND(E28<1,E28>0),UPPER(E28)="X"),1,0),IF(OR(AND(F28<1,F28>0),UPPER(F28)="X"),1,0),IF(OR(AND(G28<1,G28>0),UPPER(G28)="X"),1,0),IF(OR(AND(H28<1,H28>0),UPPER(H28)="X"),1,0),IF(OR(AND(I28<1,I28>0),UPPER(I28)="X"),1,0),IF(OR(AND(J28<1,J28>0),UPPER(J28)="X"),1,0),IF(OR(AND(K28<1,K28>0),UPPER(K28)="X"),1,0)) -> 0 | X28: =IFERROR(D28/W28,0) -> 0 | Y28: =SUM(P28:V28) -> 0 | Z28: =IF(Y28=D28,TRUE,FALSE) -> TRUE | AA28: =ABS(D28-Y28) -> 0
B29: Arbeitszeit 7 ab | J29: - | K29: - | L29: =IF(OR(D29<0,D29>1.75),0,1) -> 1 | M29: =IF(ISBLANK(C29),"",((grün_plus*$D29/100%)*24)&"h/ "&(grün_minus*$D29/100%)*24&"h") | N29: =IF(ISBLANK(C29),"",((gelb_plus*$D29/100%)*24)&"h/ "&(gelb_minus*$D29/100%)*24&"h") | O29: =IF(ISBLANK(C29),"",((rot_plus*$D29/100%)*24)&"h/ "&(rot_minus*$D29/100%)*24&"h") | P29: =IF(UPPER(E29)="X",$X29,IF(AND(E29<1,E29>=0),E29,0)) -> 0 | Q29: =IF(UPPER(F29)="X",$X29,IF(AND(F29<1,F29>=0),F29,0)) -> 0 | R29: =IF(UPPER(G29)="X",$X29,IF(AND(G29<1,G29>=0),G29,0)) -> 0 | S29: =IF(UPPER(H29)="X",$X29,IF(AND(H29<1,H29>=0),H29,0)) -> 0 | T29: =IF(UPPER(I29)="X",$X29,IF(AND(I29<1,I29>=0),I29,0)) -> 0 | U29: =IF(UPPER(J29)="X",$X29,IF(AND(J29<1,J29>=0),J29,0)) -> 0 | V29: =IF(UPPER(K29)="X",$X29,IF(AND(K29<1,K29>=0),K29,0)) -> 0 | W29: =SUM(IF(OR(AND(E29<1,E29>0),UPPER(E29)="X"),1,0),IF(OR(AND(F29<1,F29>0),UPPER(F29)="X"),1,0),IF(OR(AND(G29<1,G29>0),UPPER(G29)="X"),1,0),IF(OR(AND(H29<1,H29>0),UPPER(H29)="X"),1,0),IF(OR(AND(I29<1,I29>0),UPPER(I29)="X"),1,0),IF(OR(AND(J29<1,J29>0),UPPER(J29)="X"),1,0),IF(OR(AND(K29<1,K29>0),UPPER(K29)="X"),1,0)) -> 0 | X29: =IFERROR(D29/W29,0) -> 0 | Y29: =SUM(P29:V29) -> 0 | Z29: =IF(Y29=D29,TRUE,FALSE) -> TRUE | AA29: =ABS(D29-Y29) -> 0
AA30: =ROUND(SUM(AA23:AA29)*24,30) -> 5.3290705e-15
B31: Status | J31: =MATCH("Arbeitszeit 1 ab",B:B,0) -> 23
B32: Bezeichnung | D32: Abkürzung | E32: Unterscheidung | J32: 1
A33: 0
A34: =D34 -> U | B34: Urlaub | D34: U | E34: 0 | F34: 0 | H34: 1
A35: =D35 -> AU | B35: Arbeitsunfähigkeit mit AU-Schein | D35: AU | E35: 0 | F35: 0 | H35: 1
A36: =D36 -> AUoKS | B36: Arbeitsunfähigkeit ohne AU-Schein | D36: AUoKS | E36: 0 | F36: 0 | H36: 1
A37: =D37 -> AU_Db | B37: Arbeitsunfähig nach Dienstbeginn | D37: AU_Db | E37: 0 | F37: 2 | H37: 1
A38: =D38 -> KK | B38: Kind Krank | D38: KK | E38: 0 | F38: 0 | H38: 1
A39: =D39 -> RZ | B39: Reisezeit (ohne dienstliche Inanspruchnahme) | D39: RZ | E39: 1 | F39: 2 | G39: 3 | H39: 1
A40: =D40 -> DR | B40: Dienstreise mit dienstlicher Inanspruchnahme | D40: DR | E40: 1 | F40: 2 | H40: 1
A41: =D41 -> WB | B41: ganztägige Weiterbildung | D41: WB | E41: 2 | F41: 2 | H41: 1
A42: =D42 -> MuS | B42: Mutterschutz | D42: MuS | E42: 0 | F42: 0 | H42: 0
A43: =D43 -> EZ | B43: Elternzeit | D43: EZ | E43: 0 | F43: 0 | H43: 0
A44: =D44 -> Kur | B44: Kur/ Reha | D44: Kur | E44: 0 | F44: 0 | H44: 1
A45: =D45 -> G | B45: Gleittag | D45: G | E45: 1 | F45: 1 | H45: 1
A46: =D46 -> SU | B46: Freistellungen (z. B. Sonderurlaub) | D46: SU | E46: 0 | F46: 0 | H46: 1
A47: =D47 -> Ü | B47: angeordnete Überstunden | D47: Ü | E47: 1 | F47: 1 | H47: 1
A48: =D48 -> PjT | B48: Projekttag | D48: PjT | E48: 1 | F48: 1 | H48: 1
A49: =D49 -> Rufb | B49: Rufbereitschaft | D49: Rufb | E49: 1 | F49: 1
A50: =D50 -> BS | B50: Berufschule | D50: BS | E50: 2 | F50: 2 | H50: 4
B51: =B31 -> Status
B52: Abwesenheiten
B53: =B32 -> Bezeichnung | D53: =D32 -> Abkürzung | E53: =B32 -> Bezeichnung | I53: =D32 -> Abkürzung | L53: =B32 -> Bezeichnung | N53: =D32 -> Abkürzung
B54: =B34 -> Urlaub | D54: =D34 -> U | E54: =B39 -> Reisezeit (ohne dienstliche Inanspruchnahme) | I54: =D39 -> RZ | L54: =B44 -> Kur/ Reha | N54: =D44 -> Kur
B55: =B35 -> Arbeitsunfähigkeit mit AU-Schein | D55: =D35 -> AU | E55: =B40 -> Dienstreise mit dienstlicher Inanspruchnahme | I55: =D40 -> DR | L55: =B45 -> Gleittag | N55: =D45 -> G
B56: =B36 -> Arbeitsunfähigkeit ohne AU-Schein | D56: =D36 -> AUoKS | E56: =B41 -> ganztägige Weiterbildung | I56: =D41 -> WB | L56: =B46 -> Freistellungen (z. B. Sonderurlaub) | N56: =D46 -> SU
B57: =B37 -> Arbeitsunfähig nach Dienstbeginn | D57: =D37 -> AU_Db | E57: =B42 -> Mutterschutz | I57: =D42 -> MuS | L57: =B47 -> angeordnete Überstunden | N57: =D47 -> Ü
B58: =B38 -> Kind Krank | D58: =D38 -> KK | E58: =B43 -> Elternzeit | I58: =D43 -> EZ | L58: =B48 -> Projekttag | N58: =D48 -> PjT
E59: =B49 -> Rufbereitschaft | I59: =D49 -> Rufb | L59: =B50 -> Berufschule | N59: =D50 -> BS

Sheet Jan
BP1: =Tabellennamen -> Stammdaten | BV1: Zeitguthaben/-Schuld
B2: Name: | E2: =Name -> 0 | H2: Personalnummer/ Geburtsdatum | J2: =ZIH_Login -> 0 | L2: 245,222,179 | M2: Reisezeit | P2: Farb- codierung | Q2: =Informationen!V3 -> in eigener Verantwortung | T2: 112,173,71 | W2: Ansicht | AM2: 1 | BS2: Urlaub
B3: Monat: | C3: =VLOOKUP(C7,Informationen!$T$33:$U$44,2,FALSE) -> 1 | D3: =DATE(Aufzeichnungsjahr,C3,1) -> 43830 | E3: =D3 -> 43830 | H3: Jahr: | J3: =E3 -> 43830 | L3: 255,185,15 | M3: Arbeit am Wochenende/ an Feiertagen | Q3: =Informationen!V4 -> Information an den Vorgesetzten | T3: 255,185,15 | AL3: Ansicht | AM3: =MAX(AK10:AK40,AM2) -> 1 | AN3: =CHOOSE(AM3,"A1:S50","A1:AA50","A1:AG50") -> A1:S50 | BS3: aus dem Vormonat/ Vorhjahr | BV3: aus Vormonat/ Jahr | BW3: =Stammdaten!$S$14 -> 0 | BX3: =BV10 -> 1 | BY3: Beamten-Urlaub-Zeitzulage
L4: 255,69,0 | M4: Überschreitung der 10 Stunden-Grenze | Q4: =Informationen!V5 -> nur nach Genehmigung durch D2 und PR möglich | T4: 255,69,0 | BT4: =Stammdaten!$P$18 -> 0 | BV4: ="Zeitschuld/-Guthaben für "&MONTH(E4) -> Zeitschuld/-Guthaben für 1 | BW4: =BW5-BW3 -> 0 | BY4: =Informationen!$U$12 -> FALSE | BZ4: =Q41 -> 0
AL5: vom | BS5: ="Verbrauch in "& MONTH(E4) -> Verbrauch in 1 | BT5: =SUM(BT10:BT40)*-1 -> 0 | BV5: in FolgeMonat/ Jahr | BW5: =IF(R43+R42-S43<0,IF(BY4,BU40+BZ4,BU40),IF(BY4,BU40+BZ4,BU40)+S43) -> 0 | BX5: =BV40 -> 1
A6: KW | B6: Datum | C6: Nettoarbeitstag | D6: Feiertag | E6: Feiertage | F6: Tag | G6: =Stammdaten!B51 -> Status | H6: Arbeitszeit | S6: Kommentare/ Anmerkungen | T6: Sonderform der Arbeit | AL6: AZ_Block1 | AR6: AZ_Block2 | AX6: AZ_Block1 und AZ_Block2 | BM6: Zuschläge | BS6: in den Folgemonat/ FolgeJahr | BT6: =BT5+BT4 -> 0 | BU6: Phasenkontrolle | CF6: Nachtzuschlag ab 21 Uhr | CG6: Nachtzuschlag bis 6 Uhr folge Tag | CH6: Nachtzuschlag bis 6 Uhr selber Tag | CI6: Samstag zuschlag ab 13 Uhr
C7: =MID(CELL("filename",A1),SEARCH("]",CELL("filename",A1))+1,31) -> Jan | H7: Kommen 1 | I7: Gehen 1 | J7: Summe der Pausen 1 | K7: Kommen 2 | L7: Gehen 2 | M7: Summe der Pausen 2 | N7: Brutto-Std. (inkl. Pausen) | O7: Netto-Std. ohne Pausen, zzgl. Reisezeit | P7: Regel- arbeits- zeit (Soll-Std.) | Q7: Zeitgut- haben/ Zeitschuld +/- | R7: Wochen- saldo | T7: Nacht- arbeit | U7: Wochenend-/ Feiertagsarbeit | X7: Ange- ordnete Über- stunden | Z7: Rufbereitschaft | AB7: Einsatzzeit vor Ort | AD7: Einsatzzeit Telefon/ PC | AG7: Pauschale für die Rufbereit- schaft | AL7: Beginn1 | AM7: Ende1 | AN7: Pause1 | AO7: Bruttostunden1 | AP7: Blockunterbrechung | AQ7: Nettostunden1 | AR7: Beginn2 | AS7: Ende2 | AT7: Pause2 | AU7: Bruttostunden2 | AV7: Blockunterbrechung | AW7: Nettostunden2 | AX7: Beginn1 | AY7: Ende2 | AZ7: Pause1 und Pause2 | BA7: Bruttostunden gesamt | BB7: Blockunterbrechung | BC7: Nettostundengesamt | BD7: Überschreitung der maximalen Unterbrechung | BE7: Dienstreise? | BF7: Gesamt Nettostunden | BG7: Berechnung Reisezeit | BH7: Aktuelle AZ | BI7: Projekttag | BJ7: Anrechenbare AZ | BK7: Gesamt Bruttostunden | BL7: Reisezeit? | BM7: Nachtarbeit_AZ1 | BN7: Nachtarbeit_AZ2 | BO7: Feiertag | BP7: Samstag_1 | BQ7: Samstag_2 | BR7: Sonntag | BS7: Ist feiertag?? | BT7: Urlaub | BU7: Stunden | BV7: aktuelle Phase | BW7: aktuelle Wochenstunden | BX7: Ist Arbeitstag | BY7: Soll Arbeitstag | BZ7: Soll-Stunden | CA7: Mehrarbeit | CB7: Mehrarbeit Ruf | CF7: =21/24 -> 0.875 | CG7: =6/24+1 -> 1.25 | CH7: =6/24 -> 0.25 | CI7: =13/24 -> 0.54166667
K8: Beginn Reisezeit | L8: Ende Reisezeit | U8: Samstag | V8: Sonntag | W8: Feiertag | Z8: von | AA8: bis | AB8: von - bis | AC8: auf volle Stunden gerundete Einsatzzeiten (hh) | AD8: von - bis | AE8: auf halbe bzw. nächste volle Stunden gerundeten Einsatzseiten (hh,5 bzw. hh,0) | AF8: Summe der Einsatz- zeiten | AK8: Ansicht ändern | BD8: =max_Unterbrechung -> 0.12569444 | BE8: =COUNTIF(BE10:BE40,TRUE) -> 0 | BG8: RZ | BI8: =Projekttag (=WENN(G10=Stammdaten!$D$44;$BI$8;0)) | BL8: =COUNTIF(BL10:BL40,TRUE) -> 0 | BU8: Hier?! | CC8: trennzeichen zw. Den Zeiten | CD8: Rufbereitschaft beginn | CE8: Rufbereitschaft Ende, +1 wenn Ende am folgetag | CF8: 1. Einsatz | CG8: Dauer des Einsatzes | CH8: Beginn des 1. Einsatzes | CI8: Ende des 1. Einsatzes | CJ8: Beginn in RB? | CK8: Ende in RB? | CL8: Einsatz über RB? | CM8: Einsazzeit in RB | CN8: Nachtarbeit | CO8: Samstagsarbeit | CP8: Sonntagsarbeit | CQ8: Feiertagsarbeit | CR8: trennzeichen zw. Den Zeiten | CS8: 2. Einsatz | CT8: Dauer des Einsatzes | CU8: Beginn des 2. Einsatzes | CV8: Ende des 2. Einsatzes | CW8: Beginn in RB? | CX8: Ende in RB? | CY8: Einsatz über RB? | CZ8: Einsazzeit in RB | DA8: Nachtarbeit | DB8: Samstagsarbeit | DC8: Sonntagsarbeit | DD8: Feiertagsarbeit | DE8: trennzeichen zw. Den Zeiten | DF8: 3. Einsatz | DG8: Dauer des Einsatzes | DH8: Beginn des 3. Einsatzes | DI8: Ende des 3. Einsatzes | DJ8: Beginn in RB? | DK8: Ende in RB? | DL8: Einsatz über RB? | DM8: Einsazzeit in RB | DN8: Nachtarbeit | DO8: Samstagsarbeit | DP8: Sonntagsarbeit | DQ8: Feiertagsarbeit | DR8: trennzeichen zw. Den Zeiten | DS8: 4. Einsatz | DT8: Dauer des Einsatzes | DU8: Beginn des 4. Einsatzes | DV8: Ende des 4. Einsatzes | DW8: Beginn in RB? | DX8: Ende in RB? | DY8: Einsatz über RB? | DZ8: Einsazzeit in RB | EA8: Nachtarbeit | EB8: Samstagsarbeit | EC8: Sonntagsarbeit | ED8: Feiertagsarbeit | EE8: trennzeichen zw. Den Zeiten | EF8: 5. Einsatz | EG8: Dauer des Einsatzes | EH8: Beginn des 5. Einsatzes | EI8: Ende des 5. Einsatzes | EJ8: Beginn in RB? | EK8: Ende in RB? | EL8: Einsatz über RB? | EM8: Einsazzeit in RB | EN8: Nachtarbeit | EO8: Samstagsarbeit | EP8: Sonntagsarbeit | EQ8: Feiertagsarbeit | ER8: trennzeichen zw. Den Zeiten | ES8: 6. Einsatz | ET8: Dauer des Einsatzes | EU8: Beginn des 6. Einsatzes | EV8: Ende des 6. Einsatzes | EW8: Beginn in RB? | EX8: Ende in RB? | EY8: Einsatz über RB? | EZ8: Einsazzeit in RB | FA8: Nachtarbeit | FB8: Samstagsarbeit | FC8: Sonntagsarbeit | FD8: Feiertagsarbeit | FE8: trennzeichen zw. Den Zeiten | FF8: 7. Einsatz | FG8: Dauer des Einsatzes | FH8: Beginn des 7. Einsatzes | FI8: Ende des 7. Einsatzes | FJ8: Beginn in RB? | FK8: Ende in RB? | FL8: Einsatz über RB? | FM8: Einsazzeit in RB | FN8: Nachtarbeit | FO8: Samstagsarbeit | FP8: Sonntagsarbeit | FQ8: Feiertagsarbeit | FR8: trennzeichen zw. Den Zeiten | FS8: 8. Einsatz | FT8: Dauer des Einsatzes | FU8: Beginn des 8. Einsatzes | FV8: Ende des 8. Einsatzes | FW8: Beginn in RB? | FX8: Ende in RB? | FY8: Einsatz über RB? | FZ8: Einsazzeit in RB | GA8: Nachtarbeit | GB8: Samstagsarbeit | GC8: Sonntagsarbeit | GD8: Feiertagsarbeit | GE8: trennzeichen zw. Den Zeiten | GF8: 9. Einsatz | GG8: Dauer des Einsatzes | GH8: Beginn des 9. Einsatzes | GI8: Ende des 9. Einsatzes | GJ8: Beginn in RB? | GK8: Ende in RB? | GL8: Einsatz über RB? | GM8: Einsazzeit in RB | GN8: Nachtarbeit | GO8: Samstagsarbeit | GP8: Sonntagsarbeit | GQ8: Feiertagsarbeit | GR8: trennzeichen zw. Den Zeiten | GS8: 10. Einsatz | GT8: Dauer des Einsatzes | GU8: Beginn des 10. Einsatzes | GV8: Ende des 10. Einsatzes | GW8: Beginn in RB? | GX8: Ende in RB? | GY8: Einsatz über RB? | GZ8: Einsazzeit in RB | HA8: Nachtarbeit | HB8: Samstagsarbeit | HC8: Sonntagsarbeit | HD8: Feiertagsarbeit | HE8: trennzeichen zw. Den Zeiten | HF8: 11. Einsatz | HG8: Dauer des Einsatzes | HH8: Beginn des 11. Einsatzes | HI8: Ende des 11. Einsatzes | HJ8: Beginn in RB? | HK8: Ende in RB? | HL8: Einsatz über RB? | HM8: Einsazzeit in RB | HN8: Nachtarbeit | HO8: Samstagsarbeit | HP8: Sonntagsarbeit | HQ8: Feiertagsarbeit | HR8: trennzeichen zw. Den Zeiten | HS8: 12. Einsatz | HT8: Dauer des Einsatzes | HU8: Beginn des 12. Einsatzes | HV8: Ende des 12. Einsatzes | HW8: Beginn in RB? | HX8: Ende in RB? | HY8: Einsatz über RB? | HZ8: Einsazzeit in RB | IA8: Nachtarbeit | IB8: Samstagsarbeit | IC8: Sonntagsarbeit | ID8: Feiertagsarbeit | IE8: trennzeichen zw. Den Zeiten | IF8: 13. Einsatz | IG8: Dauer des Einsatzes | IH8: Beginn des 13. Einsatzes | II8: Ende des 13. Einsatzes | IJ8: Beginn in RB? | IK8: Ende in RB? | IL8: Einsatz über RB? | IM8: Einsazzeit in RB | IN8: Nachtarbeit | IO8: Samstagsarbeit | IP8: Sonntagsarbeit | IQ8: Feiertagsarbeit | IR8: trennzeichen zw. Den Zeiten | IS8: 14. Einsatz | IT8: Dauer des Einsatzes | IU8: Beginn des 14. Einsatzes | IV8: Ende des 14. Einsatzes | IW8: Beginn in RB? | IX8: Ende in RB? | IY8: Einsatz über RB? | IZ8: Einsazzeit in RB | JA8: Nachtarbeit | JB8: Samstagsarbeit | JC8: Sonntagsarbeit | JD8: Feiertagsarbeit | JE8: trennzeichen zw. Den Zeiten | JF8: 15. Einsatz | JG8: Dauer des Einsatzes | JH8: Beginn des 15. Einsatzes | JI8: Ende des 15. Einsatzes | JJ8: Beginn in RB? | JK8: Ende in RB? | JL8: Einsatz über RB? | JM8: Einsazzeit in RB | JN8: Nachtarbeit | JO8: Samstagsarbeit | JP8: Sonntagsarbeit | JQ8: Feiertagsarbeit | JR8: summe RB bei Vorort | JS8: Gerundetete Einsatzzeit auf x,0 | JT8: Summe Nachtarbeit | JU8: Summe Samstagsarbeit | JV8: Summe Sonntagsarbeit | JW8: Summe Feiertagsarbeit | JY8: trennzeichen zw. Den Zeiten | JZ8: 1. Einsatz Telefon PC | KA8: Dauer des Einsatzes | KB8: Beginn des 1. Einsatzes | KC8: Ende des 1. Einsatzes | KD8: Beginn in RB? | KE8: Ende in RB? | KF8: Einsatz über RB? | KG8: Einsazzeit in RB | KH8: Nachtarbeit | KI8: Samstagsarbeit | KJ8: Sonntagsarbeit | KK8: Feiertagsarbeit | KL8: trennzeichen zw. Den Zeiten | KM8: 2. Einsatz Telefon PC | KN8: Dauer des Einsatzes | KO8: Beginn des 2. Einsatzes | KP8: Ende des 2. Einsatzes | KQ8: Beginn in RB? | KR8: Ende in RB? | KS8: Einsatz über RB? | KT8: Einsazzeit in RB | KU8: Nachtarbeit | KV8: Samstagsarbeit | KW8: Sonntagsarbeit | KX8: Feiertagsarbeit | KY8: trennzeichen zw. Den Zeiten | KZ8: 3. Einsatz Telefon PC | LA8: Dauer des Einsatzes | LB8: Beginn des 3. Einsatzes | LC8: Ende des 3. Einsatzes | LD8: Beginn in RB? | LE8: Ende in RB? | LF8: Einsatz über RB? | LG8: Einsazzeit in RB | LH8: Nachtarbeit | LI8: Samstagsarbeit | LJ8: Sonntagsarbeit | LK8: Feiertagsarbeit | LL8: trennzeichen zw. Den Zeiten | LM8: 4. Einsatz Telefon PC | LN8: Dauer des Einsatzes | LO8: Beginn des 4. Einsatzes | LP8: Ende des 4. Einsatzes | LQ8: Beginn in RB? | LR8: Ende in RB? | LS8: Einsatz über RB? | LT8: Einsazzeit in RB | LU8: Nachtarbeit | LV8: Samstagsarbeit | LW8: Sonntagsarbeit | LX8: Feiertagsarbeit | LY8: trennzeichen zw. Den Zeiten | LZ8: 5. Einsatz Telefon PC | MA8: Dauer des Einsatzes | MB8: Beginn des 5. Einsatzes | MC8: Ende des 5. Einsatzes | MD8: Beginn in RB? | ME8: Ende in RB? | MF8: Einsatz über RB? | MG8: Einsazzeit in RB | MH8: Nachtarbeit | MI8: Samstagsarbeit | MJ8: Sonntagsarbeit | MK8: Feiertagsarbeit | ML8: trennzeichen zw. Den Zeiten | MM8: 6. Einsatz Telefon PC | MN8: Dauer des Einsatzes | MO8: Beginn des 6. Einsatzes | MP8: Ende des 6. Einsatzes | MQ8: Beginn in RB? | MR8: Ende in RB? | MS8: Einsatz über RB? | MT8: Einsazzeit in RB | MU8: Nachtarbeit | MV8: Samstagsarbeit | MW8: Sonntagsarbeit | MX8: Feiertagsarbeit | MY8: trennzeichen zw. Den Zeiten | MZ8: 7. Einsatz Telefon PC | NA8: Dauer des Einsatzes | NB8: Beginn des 7. Einsatzes | NC8: Ende des 7. Einsatzes | ND8: Beginn in RB? | NE8: Ende in RB? | NF8: Einsatz über RB? | NG8: Einsazzeit in RB | NH8: Nachtarbeit | NI8: Samstagsarbeit | NJ8: Sonntagsarbeit | NK8: Feiertagsarbeit | NL8: trennzeichen zw. Den Zeiten | NM8: 8. Einsatz Telefon PC | NN8: Dauer des Einsatzes | NO8: Beginn des 8. Einsatzes | NP8: Ende des 8. Einsatzes | NQ8: Beginn in RB? | NR8: Ende in RB? | NS8: Einsatz über RB? | NT8: Einsazzeit in RB | NU8: Nachtarbeit | NV8: Samstagsarbeit | NW8: Sonntagsarbeit | NX8: Feiertagsarbeit | NY8: trennzeichen zw. Den Zeiten | NZ8: 9. Einsatz Telefon PC | OA8: Dauer des Einsatzes | OB8: Beginn des 9. Einsatzes | OC8: Ende des 9. Einsatzes | OD8: Beginn in RB? | OE8: Ende in RB? | OF8: Einsatz über RB? | OG8: Einsazzeit in RB | OH8: Nachtarbeit | OI8: Samstagsarbeit | OJ8: Sonntagsarbeit | OK8: Feiertagsarbeit | OL8: trennzeichen zw. Den Zeiten | OM8: 10. Einsatz Telefon PC | ON8: Dauer des Einsatzes | OO8: Beginn des 10. Einsatzes | OP8: Ende des 10. Einsatzes | OQ8: Beginn in RB? | OR8: Ende in RB? | OS8: Einsatz über RB? | OT8: Einsazzeit in RB | OU8: Nachtarbeit | OV8: Samstagsarbeit | OW8: Sonntagsarbeit | OX8: Feiertagsarbeit | OY8: trennzeichen zw. Den Zeiten | OZ8: 11. Einsatz Telefon PC | PA8: Dauer des Einsatzes | PB8: Beginn des 11. Einsatzes | PC8: Ende des 11. Einsatzes | PD8: Beginn in RB? | PE8: Ende in RB? | PF8: Einsatz über RB? | PG8: Einsazzeit in RB | PH8: Nachtarbeit | PI8: Samstagsarbeit | PJ8: Sonntagsarbeit | PK8: Feiertagsarbeit | PL8: trennzeichen zw. Den Zeiten | PM8: 12. Einsatz Telefon PC | PN8: Dauer des Einsatzes | PO8: Beginn des 12. Einsatzes | PP8: Ende des 12. Einsatzes | PQ8: Beginn in RB? | PR8: Ende in RB? | PS8: Einsatz über RB? | PT8: Einsazzeit in RB | PU8: Nachtarbeit | PV8: Samstagsarbeit | PW8: Sonntagsarbeit | PX8: Feiertagsarbeit | PY8: trennzeichen zw. Den Zeiten | PZ8: 13. Einsatz Telefon PC | QA8: Dauer des Einsatzes | QB8: Beginn des 13. Einsatzes | QC8: Ende des 13. Einsatzes | QD8: Beginn in RB? | QE8: Ende in RB? | QF8: Einsatz über RB? | QG8: Einsazzeit in RB | QH8: Nachtarbeit | QI8: Samstagsarbeit | QJ8: Sonntagsarbeit | QK8: Feiertagsarbeit | QL8: trennzeichen zw. Den Zeiten | QM8: 14. Einsatz Telefon PC | QN8: Dauer des Einsatzes | QO8: Beginn des 14. Einsatzes | QP8: Ende des 14. Einsatzes | QQ8: Beginn in RB? | QR8: Ende in RB? | QS8: Einsatz über RB? | QT8: Einsazzeit in RB | QU8: Nachtarbeit | QV8: Samstagsarbeit | QW8: Sonntagsarbeit | QX8: Feiertagsarbeit | QY8: trennzeichen zw. Den Zeiten | QZ8: 15. Einsatz Telefon PC | RA8: Dauer des Einsatzes | RB8: Beginn des 15. Einsatzes | RC8: Ende des 15. Einsatzes | RD8: Beginn in RB? | RE8: Ende in RB? | RF8: Einsatz über RB? | RG8: Einsazzeit in RB | RH8: Nachtarbeit | RI8: Samstagsarbeit | RJ8: Sonntagsarbeit | RK8: Feiertagsarbeit | RL8: summe RB bei Telefon/PC | RM8: Gerundetete Einsatzzeit auf x,0 bzw. x,5 | RN8: Summe Nachtarbeit | RO8: Summe Samstagsarbeit | RP8: Summe Sonntagsarbeit | RQ8: Summe Feiertagsarbeit | RR8: Zeitguthaben von Spalte Q | RS8: WochenSaldo
A9: Gibt die Kalenderwoche wieder, Woche = Mo-So | B9: Gibt Datum wieder. Aufwährts zählend | C9: Gibt 0 wieder wenn es ein Feiertag, Wochenende oder ein Tag aus der "Feiertagsliste" ist, ansonsten 1 | D9: Gibt Namen für den Feiertag wieder | E9: Wie Spalte D, um komplizierte Formel zu verstecken | F9: Gibt den Wochentag zurück | G9: Wird zur Bestimmtung der täglichen Arbeitszeit benötigt und um anzuzeigen um welche Art von Arbeit es sich handelt | H9: Begin der Arbeitszeit | I9: Ende der Arbeitzeit | J9: Gesamte Pausen zwischen Arbeitsbegin und Arbeitsende | K9: Beginn der Arbeitszeit oder der Dienstreise bzw. Reisezeit | L9: Ende der Arbeitszeit oder der Dienstreise bzw. Reisezeit | M9: Gesamten Pausen zwischen dem zweiten Arbeitsbegin und Arbeitsende | N9: Gibt Summe der gesamten Arbeitzeit inkl. Der Pausen zurück | O9: Gibt Summe der Arbeitszeit ohne Pausen zurück | P9: Gibt die tägliche Arbeitzeit zurück | Q9: gibt die Differenz zwischen Soll-Stunden und Netto-Stunden zurück | R9: Nix drin | S9: Kommentarspallte für den Nutzer | T9: Summe der Nachtarbeit aus Arbeitsblock 1und 2 wenn nur die AZ betrachtet werden soll ohne Reisezeit =WENN(WENN(AT10;BA10;BA10+BB10)>0;WENN(AT10;BA10;BA10+BB10);"") | U9: Summe der Samstagsarbeit aus Block 1 und 2 wenn nur die AZ betrachtet werden soll =WENN(WENN(AT10;BD10;BD10+BE10)>0;WENN(AT10;BD10;BD10+BE10);"") | V9: Summer Sonntagsarbeit | W9: Summe der Feiertagsarbeit | X9: Gibt die Mehrarbeit zurück wenn bei Code (G) ein Ü steht | Z9: Beginn der Rufberitschaft | AA9: Ende der Rufbereitschaft (auch am nächsten Tag) | AB9: Einsatzzeit vor Ort, möglich mehrere Einstzätze einzutragen (es erfolgt keine automatische Berechnung) pro Einsatz auf volle Stunden runden?? | AC9: Manuelle eingabe der aufgerundeten Einsatzstunden | AD9: Einsatzzeit Telefon/ PC möglich mehrere Einstzätze einzutragen (es erfolgt keine automatische Berechnung) | AE9: Angabe der Mehrarbeit durch Einsatz | AG9: Angabe des Zeitguthabens für die Rufbereitschaft | AH9: Berechnung des Zeitguthabens (Mo-Fr >12h - 2h, Sa-So, Feit. >12 - 4; <12h Stunden*12,5%) | AI9: Berechnung der Rufbereitschaftsstunden | AL9: Holt AZ-Beginn1 | AM9: Holt AZ-Ende1 | AN9: Holt Pause1 | AO9: Berechnet Bruttostunden 1 | AP9: Berechnet die Unterbrechung zw. Den Blöcken; Hier immer 0 | AQ9: Berechnet Nettostunden1 | AR9: Holt AZ-Beginn2 | AS9: Holt AZ-Ende2 | AT9: Holt Pause2 | AU9: Berechnet Bruttostunden 2 | AV9: Berechnet die Unterbrechung zw. Den Blöcken; hier immer 0 | AW9: Berechnet Nettostunden2 | AX9: Holt AZ-Beginn1 | AY9: Holt AZ-Ende2 oder AZ-Ende1 wenn Ende2 leer ist | AZ9: Addiert Pause1 und Pause2 | BA9: Berechnet Bruttostunden von Block1 und Block2 | BB9: Berechnet die Unterbrechung zw. Den Blöcken | BC9: Berechnet Nettostundenvon Block1 und Block2 | BD9: Gibt wahr wieder wenn, die Maximale Unterbrechung nicht überschritten wurde. | BE9: Gibt wahr wieder wenn Code Dienstreise ist | BF9: Berechnet die gesamte Nettostunden. Bei DR, RZ wird nur Block1 berücksichtigt. Wenn max. Unterbrechung überschritten wird, werden Block1 und Block2 separat betrachtet, ansonsten gemeinsam. | BG9: Berechnung der Reisezeit gemäß SMI/SMF schreiben | BH9: gibt den aktellen täglichen Soll_Stunden wieder | BI9: Wenn Projekttag ist werden für alle 8h angesetzt, egal wie lange der Tag war. | BJ9: Gibt die Stunden zurück welche als AZ angerechnet werden. | BK9: Gibt die Bruttostunden wieder wie die Spalte Gesamt Nettostunden, außer bei RZ | BL9: Gibt wahr wieder wenn Code Reisezeit ist. | BM9: Wird überprüft Ob Arbeitszeit Im Arbeitszeitblock 1 zwischen 21Uhr und 6Uhr liegen | BN9: Wird geprüft ob Arbeitszeit im Arbeitszeitblock 2 zwischen 21Uhr und 6Uhr liegen | BO9: Gibt die Arbeitszeit an einem Feiertag wieder | BP9: Gibt die Arbeitszeit am Samstag ab 13Uhr wieder für den Arbeitsblock 1 | BQ9: Gibt die Arbeitszeit am Samstag ab 13Uhr wieder für den Arbeitsblock 2 | BR9: Gibt die Arbeitszeit am Sonntag wieder | BS9: ???? | BT9: Gibt 1 zurück wenn bei Code (G) ein U Steht und zählt die tage zusammen | BU9: Tägliche Summe der Mehrarbeit mit dem Vortag, zur Kontrolle der Aktuellen Phase | BV9: Gibt 1 bis 3 wieder bei erreichen der der drei verschiedenen Phasen | BW9: Gibt die zum dem Tag gehöhrende Wochenstundenzahl wieder | BX9: Gibt eine 1 Zurück wenn an dem Tag gearbeitet wurde | BY9: Gibt eine 1 zurück wenn an dem Tag gearbeitet werden sollte | BZ9: Gibt die täglichen Soll-Stunden wieder | CA9: Gibt die Zeitschuld/ -Guthaben an (Differenz zur Sollstunden) | HQ9: aufteilung der Einsatzzeiten | HR9: trennzeichen zw. Den Zeiten | HS9: Teilbereich der Einsatzzeiten | IB9: Teilbereich der Einsatzzeiten | IJ9: mit fehlerwert arbeiten | IK9: Teilbereich der Einsatzzeiten | IT9: Teilbereich der Einsatzzeiten | IX9: Summe der Einsatzzeiten | JD9: Dauer des Einsatzes | JE9: Beginn des 5. Einsatzes | JF9: Ende des 5. Einsatzes | JG9: Beginn in RB? | JH9: Ende in RB? | JI9: Einsatz über RB? | JJ9: Einsazzeit in RB | JK9: trennzeichen zw. Den Zeiten | JL9: 7. Einsatz Telefon PC | JM9: Dauer des Einsatzes | JN9: Beginn des 6. Einsatzes | JO9: Ende des 6. Einsatzes | JP9: Beginn in RB? | JQ9: Ende in RB? | JR9: Einsatz über RB? | JS9: Einsazzeit in RB | JT9: trennzeichen zw. Den Zeiten | JU9: 8. Einsatz Telefon PC | KC9: mit fehlerwert arbeiten | KD9: Teilbereich der Einsatzzeiten | KQ9: Teilbereich der Einsatzzeiten | KU9: Summe der Einsatzzeiten | LH9: trennzeichen zw. Den Zeiten | LI9: Teilbereich der Einsatzzeiten | LR9: Teilbereich der Einsatzzeiten | LZ9: mit fehlerwert arbeiten | MA9: Teilbereich der Einsatzzeiten | MJ9: Teilbereich der Einsatzzeiten | MN9: Summe der Einsatzzeiten
A10: =WEEKNUM(B10,21) -> 1 | B10: =D3 -> 43830 | C10: =NETWORKDAYS(B10,B10,Feiertage) -> 0 | D10: =IF(ISERROR(VLOOKUP(B10,Feiertage_Liste,3,FALSE)),"",(VLOOKUP(B10,Feiertage_Liste,3,FALSE))) -> Neujahr | E10: =D10 -> Neujahr | F10: =B10 -> 43830 | N10: =IF(BK10=0,"",BK10) | O10: =IF(BJ10=0,"",BJ10) | P10: =IF(OR(C10=0,B10=""),"",BZ10) | Q10: =IF(OR(AND(BJ10>0,B10<>"",G10=""),VLOOKUP((G10),Code_Liste,5,FALSE)=1),IF(ROUND(BJ10-BZ10,15)=0,"",ROUND(+BJ10-BZ10,15)),IF(AND(VLOOKUP(G10,Code_Liste,5,FALSE)=2,ROUND(+BJ10-BZ10,15)>0),ROUND(+BJ10-BZ10,15),"")) | R10: =IF(A10<WEEKNUM(B10+1,21),RS10,"") | T10: =IF(BM10+BN10+RN10+JT10<=0,"",BM10+BN10+RN10+JT10) | U10: =IF(OR(RO10+JU10>0,AND(WEEKDAY(B10,2)=6,BP10+BQ10>0)),BP10+BQ10+RO10+JU10,"") | V10: =IF(BR10+RP10+JV10>0,BR10+RP10+JV10,"") | W10: =IF(BO10+RQ10+JW10>0,BO10+RQ10+JW10,"") | X10: =IF(AND(UPPER(G10)=Stammdaten!$D$47,Q10>0),Q10,"") | AC10: =IF(JS10=0,"",JS10) | AE10: =IF(RM10=0,"",RM10) | AF10: =IF(AJ10=0,"",AJ10) | AG10: =AH10 | AH10: =IF(AI10=0,"",IF(AI10<12/24,ROUND(AI10*0.125,15),IF(C10=0,4/24,2/24))) | AI10: =IF(AND(ISBLANK(Z10),ISBLANK(AA10)),0,IF(AA10-Z10<=0,AA10+1-Z10,AA10-Z10)) -> 0 | AJ10: =SUM(AE10,AC10)/24 -> 0 | AK10: =IF(G10=Stammdaten!$I$59,3,IF(AND(OR(C10=0,WEEKDAY(B10,2)>=6),Q10<>""),2,0)) -> 0 | AL10: =H10 -> 0 | AM10: =I10 -> 0 | AN10: =J10 -> 0 | AO10: =AM10-AL10 -> 0 | AP10: 0 | AQ10: =IF(OR(AO10-AN10-AP10<=6/24,AND(AO10-AN10-AP10<=9/24, AN10+AP10>=0.5/24),AN10+AP10>=0.75/24),AO10-AN10-AP10,IF(AND(AO10-AN10-AP10<=9/24,AN10+AP10<0.5/24),AO10-0.5/24,IF(AND(AO10-AN10-AP10>9/24,AN10+AP10<0.75/24),AO10-0.75/24,"Fehler NettoStundenBerechnung"))) -> 0 | AR10: =IF(AND(BE10,K10>AL10),AL10,K10) -> 0 | AS10: =IF(AND(BE10,L10<AM10,NOT(ISBLANK(K10))),AM10,L10) -> 0 | AT10: =M10 -> 0 | AU10: =AS10-AR10 -> 0 | AV10: 0 | AW10: =IF(OR(AU10-AT10-AV10<=6/24,AND(AU10-AT10-AV10<=9/24, AT10+AV10>=0.5/24),AT10+AV10>=0.75/24),AU10-AT10-AV10,IF(AND(AU10-AT10-AV10<=9/24,AT10+AV10<0.5/24),AU10-0.5/24,IF(AND(AU10-AT10-AV10>9/24,AT10+AV10<0.75/24),AU10-0.75/24,"Fehler NettoStundenBerechnung"))) -> 0 | AX10: =H10 -> 0 | AY10: =IF(ISBLANK(L10),I10,L10) -> 0 | AZ10: =J10+M10 -> 0 | BA10: =AY10-AX10 -> 0 | BB10: =IF(K10>=I10,K10-I10,0) -> 0 | BC10: =IF(OR(BA10-AZ10-BB10<=6/24,AND(BA10-AZ10-BB10<=9/24, AZ10+BB10>=0.5/24),AZ10+BB10>=0.75/24),BA10-AZ10-BB10,IF(AND(BA10-AZ10-BB10<=9/24,AZ10+BB10<0.5/24),BA10-0.5/24,IF(AND(BA10-AZ10-BB10>9/24,AZ10+BB10<0.75/24),BA10-0.75/24,"Fehler NettoStundenBerechnung"))) -> 0 | BD10: =IF(BB10>=max_Unterbrechung, FALSE,TRUE) -> TRUE | BE10: =IF(UPPER(G10)=Stammdaten!$D$40,TRUE,FALSE) -> FALSE | BF10: =IF(BE10,AQ10,IF(BD10,BC10,AW10+AQ10)) -> 0 | BG10: =IF(UPPER(G10)=Stammdaten!$D$39,IF(C10=0,AU10/2,IF(AU10>=10/24,10/24,AU10)),0) -> 0 | BH10: =IF(OR(C10=0,B10=""),0,INDIRECT(ADDRESS(MATCH(B10,Soll_AZ,1)+MATCH("Arbeitszeit 1 ab",Stammdaten!B:B,0)-1,WEEKDAY(B10,2)+15,,,Tabellennamen),TRUE)) -> 0 | BI10: =IF(G10=Stammdaten!$D$48,BH10,0) -> 0 | BJ10: =ROUND(IF(BI10>0,BI10,IF(UPPER(G10)=Stammdaten!$D$39,BG10,IF(UPPER(G10)=Stammdaten!$D$40,IF(AO10+AU10=0,P10,IF(AND(AU10>0,AU10-AO10+AQ10<=10/24),AU10-AO10+AQ10,IF(OR(AU10=0,AQ10>=10/24),AQ10,10/24))),BF10))),15) -> 0 | BK10: =IF(BL10,"nur RZ",IF(BE10,AO10,IF(BD10,BA10,AU10+AO10))) -> 0 | BL10: =IF(UPPER(G10)=Stammdaten!$D$39,TRUE,FALSE) -> FALSE | BM10: =IF(OR(AND(H10<6/24,I10-J10<=6/24),AND(I10>21/24,H10+J10>=21/24)),I10-H10-J10,IF(H10<6/24,IF(I10>21/24,6/24-H10+I10-21/24,6/24-H10),IF(I10>21/24,I10-21/24,0))) -> 0 | BN10: =IF(OR(AND(K10<6/24,L10-M10<=6/24),AND(L10>21/24,K10+M10>=21/24)),L10-K10-M10,IF(K10<6/24,IF(L10>21/24,6/24-K10+L10-21/24,6/24-K10),IF(L10>21/24,L10-21/24,0))) -> 0 | BO10: =IF(BS10=1,BJ10,0) -> 0 | BP10: =IF(OR(I10<=13/24,H10>=21/24),0,IF(H10<=13/24,IF(I10<=21/24,I10-13/24,21/24-13/24),IF(I10<=21/24,I10-H10,21/24-H10))) -> 0 | BQ10: =IF(OR(L10<=13/24,K10>=21/24),0,IF(K10<=13/24,IF(L10<=21/24,L10-13/24,21/24-13/24),IF(L10<=21/24,L10-K10,21/24-K10))) -> 0 | BR10: =IF(WEEKDAY(B10,2)=7,BJ10,0) -> 0 | BS10: =IF(ISERROR(VLOOKUP(B10,Feiertage_Liste,2,FALSE)),0,VLOOKUP(B10,Feiertage_Liste,2,FALSE)) -> 1 | BT10: =IF(AND($G10="U",BY10=1),1,0) -> 0 | BU10: =BW3+CA10 -> 0 | BV10: =IF(OR(AND(BU10>=0,BU10<=(grün_plus*BW10/100%)),AND(BU10<=0,BU10>=(grün_minus*BW10/100%))),1,IF(OR(AND(BU10>0,BU10<=(rot_plus*BW10/100%)),AND(BU10<0,BU10>=(rot_minus*BW10/100%))),2,3)) -> 1 | BW10: =IF(B10="","",INDIRECT(ADDRESS(MATCH(B10,Soll_AZ,1)+MATCH("Arbeitszeit 1 ab",Stammdaten!B:B,0)-1,4,,,Tabellennamen),TRUE)) -> 1.6666667 | BX10: =IF(AND(B10<=TODAY(),OR(IF(ISERROR(VLOOKUP(UPPER(G10),Code_Liste,3,FALSE)),FALSE,VLOOKUP(UPPER(G10),Code_Liste,5,FALSE)=1),BJ10>0)),1,0) -> 0 | BY10: =IF(OR(C10=0,B10=""),0,IF(BZ10>0,1,0)) -> 0 | BZ10: =ROUND(IF(OR(C10=0,B10=""),0,INDIRECT(ADDRESS(MATCH(B10,Soll_AZ,1)+MATCH("Arbeitszeit 1 ab",Stammdaten!B:B,0)-1,WEEKDAY(B10,2)+15,,,Tabellennamen),TRUE)),15) -> 0 | CA10: =IF(OR(AND(BJ10>0,B10<>"",G10=""),VLOOKUP((G10),Code_Liste,5,FALSE)=1,AND(VLOOKUP((G10),Code_Liste,5,FALSE)=2,BJ10-BZ10>=0)),BJ10-BZ10,0) -> 0 | CB10: =AJ10 -> 0 | CC10: =IF(ISERROR(FIND(";",$AB10,1)),LEN($AB10)+1,FIND(";",$AB10,1)) -> 1 | CD10: =Z10 -> 0 | CE10: =IF($Z10>=$AA10,$AA10+1,$AA10) -> 1 | CF10: =IF(OR(ISBLANK($AB10),ISERR(MID($AB10,1,CC10-1))),"00:00-00:00",MID($AB10,1,CC10-1)) -> 00:00-00:00 | CG10: =IF(CI10-CH10<0,CI10-CH10+1,CI10-CH10) -> 1 | CH10: =IF(_xlfn.NUMBERVALUE(LEFT(CF10,FIND("-",CF10)))<$CD10,_xlfn.NUMBERVALUE(LEFT(CF10,FIND("-",CF10)))+1,_xlfn.NUMBERVALUE(LEFT(CF10,FIND("-",CF10)))) -> 0 | CI10: =IF(_xlfn.NUMBERVALUE(RIGHT(CF10,LEN(CF10)-FIND("-",CF10)))<=CH10,_xlfn.NUMBERVALUE(RIGHT(CF10,LEN(CF10)-FIND("-",CF10)))+1,_xlfn.NUMBERVALUE(RIGHT(CF10,LEN(CF10)-FIND("-",CF10)))) -> 1 | CJ10: =IF((CH10>=$CD10)*(CH10<$CE10),TRUE,FALSE) -> TRUE | CK10: =IF((CI10>=$CD10)*(CI10<$CE10),TRUE,FALSE) -> FALSE | CL10: =IF((CH10<=$CD10)*(CI10>=$CE10),TRUE,FALSE) -> TRUE | CM10: =ROUNDUP(IF(CJ10*CK10,CG10, IF(NOT(CJ10)*CK10,CI10-$CD10, IF(CJ10*NOT(CK10),$CE10-CH10, IF(CL10,$CE10-$CD10,0))))/(1/24),0)/24 -> 1 | CN10: =IF(OR(CM10>=1,CM10<=0),0, IF(OR(CH10>=$CG$7,CI10<=$CF$7),0, IF(CH10<$CH$7, IF(CI10<=$CH$7,CI10-CH10,$CH$7-CH10), IF(CH10<$CF$7, IF(CI10<$CG$7,CI10-$CF$7,$CG$7-$CF$7), IF(CI10<$CG$7,CI10-CH10,$CG$7-CH10))))) -> 0 | CO10: =IF(AND(CM10<1,CM10>0), IF(WEEKDAY($B10,2)=6, IF(CH10<$CI$7, IF(CI10<=$CI$7, 0, IF(CI10<=$CF$7, CI10-$CI$7, $CF$7-$CI$7)), IF(CI10<=$CF$7, CI10-CH10, IF($CF$7-CH10<=0, 0, $CF$7-CH10))), IF(WEEKDAY($B10+1,2)=6, IF(CH10<$CI$7+1, IF(CI10<=$CI$7+1, 0, IF(CI10<=$CF$7+1, CI10-$CI$7+1, $CF$7-$CI$7)), IF(CI10<=$CF$7+1, CI10-CH10, IF($CF$7+1-CH10<=0, 0, $CF$7+1-CH10))), 0)), 0) -> 0 | CP10: =IF(AND(CM10<1,CM10>0),IF(WEEKDAY($B10,2)=7,IF(CH10<1,IF(CI10<=1,CI10-CH10,1-CH10),0),IF(WEEKDAY($B10+1,2)=7,IF(CI10<1,0,IF(CH10<1,CI10-1,CI10-CH10)),0)),0) -> 0 | CQ10: =IF(AND(CM10<1,CM10>0),IF($BS10=1,IF(AND(CH10<=1,CI10<=1),CG10,IF(AND(CH10<1,CI10>=1),1-CH10,0)),IF($BS11=1,IF(AND(CH10<=1,CI10>1),CI10-1,IF(AND(CH10>1,CI10>1),CI10-CH10,0)),0)),0) -> 0 | CR10: =IF(ISERROR(FIND(";",$AB10,CC10+1)),LEN($AB10)+1,FIND(";",$AB10,CC10+1)) -> 1 | CS10: =IF(ISERR(MID($AB10,CC10+1,CR10-CC10-1)),"00:00-00:00",MID($AB10,CC10+1,CR10-CC10-1)) -> 00:00-00:00 | CT10: =IF(CV10-CU10<0,CV10-CU10+1,CV10-CU10) -> 1 | CU10: =IF(_xlfn.NUMBERVALUE(LEFT(CS10,FIND("-",CS10)))<$CD10,_xlfn.NUMBERVALUE(LEFT(CS10,FIND("-",CS10)))+1,_xlfn.NUMBERVALUE(LEFT(CS10,FIND("-",CS10)))) -> 0 | CV10: =IF(_xlfn.NUMBERVALUE(RIGHT(CS10,LEN(CS10)-FIND("-",CS10)))<=CU10,_xlfn.NUMBERVALUE(RIGHT(CS10,LEN(CS10)-FIND("-",CS10)))+1,_xlfn.NUMBERVALUE(RIGHT(CS10,LEN(CS10)-FIND("-",CS10)))) -> 1 | CW10: =IF((CU10>=$CD10)*(CU10<$CE10),TRUE,FALSE) -> TRUE | CX10: =IF((CV10>=$CD10)*(CV10<$CE10),TRUE,FALSE) -> FALSE | CY10: =IF((CU10<=$CD10)*(CV10>=$CE10),TRUE,FALSE) -> TRUE | CZ10: =ROUNDUP(IF(CW10*CX10,CT10, IF(NOT(CW10)*CX10,CV10-$CD10, IF(CW10*NOT(CX10),$CE10-CU10, IF(CY10,$CE10-$CD10,0))))/(1/24),0)/24 -> 1 | DA10: =IF(OR(CZ10>=1,CZ10<=0),0, IF(OR(CU10>=$CG$7,CV10<=$CF$7),0, IF(CU10<$CH$7, IF(CV10<=$CH$7,CV10-CU10,$CH$7-CU10), IF(CU10<$CF$7, IF(CV10<$CG$7,CV10-$CF$7,$CG$7-$CF$7), IF(CV10<$CG$7,CV10-CU10,$CG$7-CU10))))) -> 0 | DB10: =IF(AND(CZ10<1,CZ10>0), IF(WEEKDAY($B10,2)=6, IF(CU10<$CI$7, IF(CV10<=$CI$7, 0, IF(CV10<=$CF$7, CV10-$CI$7, $CF$7-$CI$7)), IF(CV10<=$CF$7, CV10-CU10, IF($CF$7-CU10<=0, 0, $CF$7-CU10))), IF(WEEKDAY($B10+1,2)=6, IF(CU10<$CI$7+1, IF(CV10<=$CI$7+1, 0, IF(CV10<=$CF$7+1, CV10-$CI$7+1, $CF$7-$CI$7)), IF(CV10<=$CF$7+1, CV10-CU10, IF($CF$7+1-CU10<=0, 0, $CF$7+1-CU10))), 0)), 0) -> 0 | DC10: =IF(AND(CZ10<1,CZ10>0),IF(WEEKDAY($B10,2)=7,IF(CU10<1,IF(CV10<=1,CV10-CU10,1-CU10),0),IF(WEEKDAY($B10+1,2)=7,IF(CV10<1,0,IF(CU10<1,CV10-1,CV10-CU10)),0)),0) -> 0 | DD10: =IF(AND(CZ10<1,CZ10>0),IF($BS10=1,IF(AND(CU10<=1,CV10<=1),CT10,IF(AND(CU10<1,CV10>=1),1-CU10,0)),IF($BS11=1,IF(AND(CU10<=1,CV10>1),CV10-1,IF(AND(CU10>1,CV10>1),CV10-CU10,0)),0)),0) -> 0 | DE10: =IF(ISERROR(FIND(";",$AB10,CR10+1)),LEN($AB10)+1,FIND(";",$AB10,CR10+1)) -> 1 | DF10: =IF(ISERR(MID($AB10,CR10+1,DE10-CR10-1)),"00:00-00:00",MID($AB10,CR10+1,DE10-CR10-1)) -> 00:00-00:00 | DG10: =IF(DI10-DH10<0,DI10-DH10+1,DI10-DH10) -> 1 | DH10: =IF(_xlfn.NUMBERVALUE(LEFT(DF10,FIND("-",DF10)))<$CD10,_xlfn.NUMBERVALUE(LEFT(DF10,FIND("-",DF10)))+1,_xlfn.NUMBERVALUE(LEFT(DF10,FIND("-",DF10)))) -> 0 | DI10: =IF(_xlfn.NUMBERVALUE(RIGHT(DF10,LEN(DF10)-FIND("-",DF10)))<=DH10,_xlfn.NUMBERVALUE(RIGHT(DF10,LEN(DF10)-FIND("-",DF10)))+1,_xlfn.NUMBERVALUE(RIGHT(DF10,LEN(DF10)-FIND("-",DF10)))) -> 1 | DJ10: =IF((DH10>=$CD10)*(DH10<$CE10),TRUE,FALSE) -> TRUE | DK10: =IF((DI10>=$CD10)*(DI10<$CE10),TRUE,FALSE) -> FALSE | DL10: =IF((DH10<=$CD10)*(DI10>=$CE10),TRUE,FALSE) -> TRUE | DM10: =ROUNDUP(IF(DJ10*DK10,DG10, IF(NOT(DJ10)*DK10,DI10-$CD10, IF(DJ10*NOT(DK10),$CE10-DH10, IF(DL10,$CE10-$CD10,0))))/(1/24),0)/24 -> 1 | DN10: =IF(OR(DM10>=1,DM10<=0),0, IF(OR(DH10>=$CG$7,DI10<=$CF$7),0, IF(DH10<$CH$7, IF(DI10<=$CH$7,DI10-DH10,$CH$7-DH10), IF(DH10<$CF$7, IF(DI10<$CG$7,DI10-$CF$7,$CG$7-$CF$7), IF(DI10<$CG$7,DI10-DH10,$CG$7-DH10))))) -> 0 | DO10: =IF(AND(DM10<1,DM10>0), IF(WEEKDAY($B10,2)=6, IF(DH10<$CI$7, IF(DI10<=$CI$7, 0, IF(DI10<=$CF$7, DI10-$CI$7, $CF$7-$CI$7)), IF(DI10<=$CF$7, DI10-DH10, IF($CF$7-DH10<=0, 0, $CF$7-DH10))), IF(WEEKDAY($B10+1,2)=6, IF(DH10<$CI$7+1, IF(DI10<=$CI$7+1, 0, IF(DI10<=$CF$7+1, DI10-$CI$7+1, $CF$7-$CI$7)), IF(DI10<=$CF$7+1, DI10-DH10, IF($CF$7+1-DH10<=0, 0, $CF$7+1-DH10))), 0)), 0) -> 0 | DP10: =IF(AND(DM10<1,DM10>0),IF(WEEKDAY($B10,2)=7,IF(DH10<1,IF(DI10<=1,DI10-DH10,1-DH10),0),IF(WEEKDAY($B10+1,2)=7,IF(DI10<1,0,IF(DH10<1,DI10-1,DI10-DH10)),0)),0) -> 0 | DQ10: =IF(AND(DM10<1,DM10>0),IF($BS10=1,IF(AND(DH10<=1,DI10<=1),DG10,IF(AND(DH10<1,DI10>=1),1-DH10,0)),IF($BS11=1,IF(AND(DH10<=1,DI10>1),DI10-1,IF(AND(DH10>1,DI10>1),DI10-DH10,0)),0)),0) -> 0 | DR10: =IF(ISERROR(FIND(";",$AB10,DE10+1)),LEN($AB10)+1,FIND(";",$AB10,DE10+1)) -> 1 | DS10: =IF(ISERR(MID($AB10,DE10+1,DR10-DE10-1)),"00:00-00:00",MID($AB10,DE10+1,DR10-DE10-1)) -> 00:00-00:00 | DT10: =IF(DV10-DU10<0,DV10-DU10+1,DV10-DU10) -> 1 | DU10: =IF(_xlfn.NUMBERVALUE(LEFT(DS10,FIND("-",DS10)))<$CD10,_xlfn.NUMBERVALUE(LEFT(DS10,FIND("-",DS10)))+1,_xlfn.NUMBERVALUE(LEFT(DS10,FIND("-",DS10)))) -> 0 | DV10: =IF(_xlfn.NUMBERVALUE(RIGHT(DS10,LEN(DS10)-FIND("-",DS10)))<=DU10,_xlfn.NUMBERVALUE(RIGHT(DS10,LEN(DS10)-FIND("-",DS10)))+1,_xlfn.NUMBERVALUE(RIGHT(DS10,LEN(DS10)-FIND("-",DS10)))) -> 1 | DW10: =IF((DU10>=$CD10)*(DU10<$CE10),TRUE,FALSE) -> TRUE | DX10: =IF((DV10>=$CD10)*(DV10<$CE10),TRUE,FALSE) -> FALSE | DY10: =IF((DU10<=$CD10)*(DV10>=$CE10),TRUE,FALSE) -> TRUE | DZ10: =ROUNDUP(IF(DW10*DX10,DT10, IF(NOT(DW10)*DX10,DV10-$CD10, IF(DW10*NOT(DX10),$CE10-DU10, IF(DY10,$CE10-$CD10,0))))/(1/24),0)/24 -> 1 | EA10: =IF(OR(DZ10>=1,DZ10<=0),0, IF(OR(DU10>=$CG$7,DV10<=$CF$7),0, IF(DU10<$CH$7, IF(DV10<=$CH$7,DV10-DU10,$CH$7-DU10), IF(DU10<$CF$7, IF(DV10<$CG$7,DV10-$CF$7,$CG$7-$CF$7), IF(DV10<$CG$7,DV10-DU10,$CG$7-DU10))))) -> 0 | EB10: =IF(AND(DZ10<1,DZ10>0), IF(WEEKDAY($B10,2)=6, IF(DU10<$CI$7, IF(DV10<=$CI$7, 0, IF(DV10<=$CF$7, DV10-$CI$7, $CF$7-$CI$7)), IF(DV10<=$CF$7, DV10-DU10, IF($CF$7-DU10<=0, 0, $CF$7-DU10))), IF(WEEKDAY($B10+1,2)=6, IF(DU10<$CI$7+1, IF(DV10<=$CI$7+1, 0, IF(DV10<=$CF$7+1, DV10-$CI$7+1, $CF$7-$CI$7)), IF(DV10<=$CF$7+1, DV10-DU10, IF($CF$7+1-DU10<=0, 0, $CF$7+1-DU10))), 0)), 0) -> 0 | EC10: =IF(AND(DZ10<1,DZ10>0),IF(WEEKDAY($B10,2)=7,IF(DU10<1,IF(DV10<=1,DV10-DU10,1-DU10),0),IF(WEEKDAY($B10+1,2)=7,IF(DV10<1,0,IF(DU10<1,DV10-1,DV10-DU10)),0)),0) -> 0 | ED10: =IF(AND(DZ10<1,DZ10>0),IF($BS10=1,IF(AND(DU10<=1,DV10<=1),DT10,IF(AND(DU10<1,DV10>=1),1-DU10,0)),IF($BS11=1,IF(AND(DU10<=1,DV10>1),DV10-1,IF(AND(DU10>1,DV10>1),DV10-DU10,0)),0)),0) -> 0 | EE10: =IF(ISERROR(FIND(";",$AB10,DR10+1)),LEN($AB10)+1,FIND(";",$AB10,DR10+1)) -> 1 | EF10: =IF(ISERR(MID($AB10,DR10+1,EE10-DR10-1)),"00:00-00:00",MID($AB10,DR10+1,EE10-DR10-1)) -> 00:00-00:00 | EG10: =IF(EI10-EH10<0,EI10-EH10+1,EI10-EH10) -> 1 | EH10: =IF(_xlfn.NUMBERVALUE(LEFT(EF10,FIND("-",EF10)))<$CD10,_xlfn.NUMBERVALUE(LEFT(EF10,FIND("-",EF10)))+1,_xlfn.NUMBERVALUE(LEFT(EF10,FIND("-",EF10)))) -> 0 | EI10: =IF(_xlfn.NUMBERVALUE(RIGHT(EF10,LEN(EF10)-FIND("-",EF10)))<=EH10,_xlfn.NUMBERVALUE(RIGHT(EF10,LEN(EF10)-FIND("-",EF10)))+1,_xlfn.NUMBERVALUE(RIGHT(EF10,LEN(EF10)-FIND("-",EF10)))) -> 1 | EJ10: =IF((EH10>=$CD10)*(EH10<$CE10),TRUE,FALSE) -> TRUE | EK10: =IF((EI10>=$CD10)*(EI10<$CE10),TRUE,FALSE) -> FALSE | EL10: =IF((EH10<=$CD10)*(EI10>=$CE10),TRUE,FALSE) -> TRUE | EM10: =ROUNDUP(IF(EJ10*EK10,EG10, IF(NOT(EJ10)*EK10,EI10-$CD10, IF(EJ10*NOT(EK10),$CE10-EH10, IF(EL10,$CE10-$CD10,0))))/(1/24),0)/24 -> 1 | EN10: =IF(OR(EM10>=1,EM10<=0),0, IF(OR(EH10>=$CG$7,EI10<=$CF$7),0, IF(EH10<$CH$7, IF(EI10<=$CH$7,EI10-EH10,$CH$7-EH10), IF(EH10<$CF$7, IF(EI10<$CG$7,EI10-$CF$7,$CG$7-$CF$7), IF(EI10<$CG$7,EI10-EH10,$CG$7-EH10))))) -> 0 | EO10: =IF(AND(EM10<1,EM10>0), IF(WEEKDAY($B10,2)=6, IF(EH10<$CI$7, IF(EI10<=$CI$7, 0, IF(EI10<=$CF$7, EI10-$CI$7, $CF$7-$CI$7)), IF(EI10<=$CF$7, EI10-EH10, IF($CF$7-EH10<=0, 0, $CF$7-EH10))), IF(WEEKDAY($B10+1,2)=6, IF(EH10<$CI$7+1, IF(EI10<=$CI$7+1, 0, IF(EI10<=$CF$7+1, EI10-$CI$7+1, $CF$7-$CI$7)), IF(EI10<=$CF$7+1, EI10-EH10, IF($CF$7+1-EH10<=0, 0, $CF$7+1-EH10))), 0)), 0) -> 0 | EP10: =IF(AND(EM10<1,EM10>0),IF(WEEKDAY($B10,2)=7,IF(EH10<1,IF(EI10<=1,EI10-EH10,1-EH10),0),IF(WEEKDAY($B10+1,2)=7,IF(EI10<1,0,IF(EH10<1,EI10-1,EI10-EH10)),0)),0) -> 0 | EQ10: =IF(AND(EM10<1,EM10>0),IF($BS10=1,IF(AND(EH10<=1,EI10<=1),EG10,IF(AND(EH10<1,EI10>=1),1-EH10,0)),IF($BS11=1,IF(AND(EH10<=1,EI10>1),EI10-1,IF(AND(EH10>1,EI10>1),EI10-EH10,0)),0)),0) -> 0 | ER10: =IF(ISERROR(FIND(";",$AB10,EE10+1)),LEN($AB10)+1,FIND(";",$AB10,EE10+1)) -> 1 | ES10: =IF(ISERR(MID($AB10,EE10+1,ER10-EE10-1)),"00:00-00:00",MID($AB10,EE10+1,ER10-EE10-1)) -> 00:00-00:00 | ET10: =IF(EV10-EU10<0,EV10-EU10+1,EV10-EU10) -> 1 | EU10: =IF(_xlfn.NUMBERVALUE(LEFT(ES10,FIND("-",ES10)))<$CD10,_xlfn.NUMBERVALUE(LEFT(ES10,FIND("-",ES10)))+1,_xlfn.NUMBERVALUE(LEFT(ES10,FIND("-",ES10)))) -> 0 | EV10: =IF(_xlfn.NUMBERVALUE(RIGHT(ES10,LEN(ES10)-FIND("-",ES10)))<=EU10,_xlfn.NUMBERVALUE(RIGHT(ES10,LEN(ES10)-FIND("-",ES10)))+1,_xlfn.NUMBERVALUE(RIGHT(ES10,LEN(ES10)-FIND("-",ES10)))) -> 1 | EW10: =IF((EU10>=$CD10)*(EU10<$CE10),TRUE,FALSE) -> TRUE | EX10: =IF((EV10>=$CD10)*(EV10<$CE10),TRUE,FALSE) -> FALSE | EY10: =IF((EU10<=$CD10)*(EV10>=$CE10),TRUE,FALSE) -> TRUE | EZ10: =ROUNDUP(IF(EW10*EX10,ET10, IF(NOT(EW10)*EX10,EV10-$CD10, IF(EW10*NOT(EX10),$CE10-EU10, IF(EY10,$CE10-$CD10,0))))/(1/24),0)/24 -> 1 | FA10: =IF(OR(EZ10>=1,EZ10<=0),0, IF(OR(EU10>=$CG$7,EV10<=$CF$7),0, IF(EU10<$CH$7, IF(EV10<=$CH$7,EV10-EU10,$CH$7-EU10), IF(EU10<$CF$7, IF(EV10<$CG$7,EV10-$CF$7,$CG$7-$CF$7), IF(EV10<$CG$7,EV10-EU10,$CG$7-EU10))))) -> 0 | FB10: =IF(AND(EZ10<1,EZ10>0), IF(WEEKDAY($B10,2)=6, IF(EU10<$CI$7, IF(EV10<=$CI$7, 0, IF(EV10<=$CF$7, EV10-$CI$7, $CF$7-$CI$7)), IF(EV10<=$CF$7, EV10-EU10, IF($CF$7-EU10<=0, 0, $CF$7-EU10))), IF(WEEKDAY($B10+1,2)=6, IF(EU10<$CI$7+1, IF(EV10<=$CI$7+1, 0, IF(EV10<=$CF$7+1, EV10-$CI$7+1, $CF$7-$CI$7)), IF(EV10<=$CF$7+1, EV10-EU10, IF($CF$7+1-EU10<=0, 0, $CF$7+1-EU10))), 0)), 0) -> 0 | FC10: =IF(AND(EZ10<1,EZ10>0),IF(WEEKDAY($B10,2)=7,IF(EU10<1,IF(EV10<=1,EV10-EU10,1-EU10),0),IF(WEEKDAY($B10+1,2)=7,IF(EV10<1,0,IF(EU10<1,EV10-1,EV10-EU10)),0)),0) -> 0 | FD10: =IF(AND(EZ10<1,EZ10>0),IF($BS10=1,IF(AND(EU10<=1,EV10<=1),ET10,IF(AND(EU10<1,EV10>=1),1-EU10,0)),IF($BS11=1,IF(AND(EU10<=1,EV10>1),EV10-1,IF(AND(EU10>1,EV10>1),EV10-EU10,0)),0)),0) -> 0 | FE10: =IF(ISERROR(FIND(";",$AB10,ER10+1)),LEN($AB10)+1,FIND(";",$AB10,ER10+1)) -> 1 | FF10: =IF(ISERR(MID($AB10,ER10+1,FE10-ER10-1)),"00:00-00:00",MID($AB10,ER10+1,FE10-ER10-1)) -> 00:00-00:00 | FG10: =IF(FI10-FH10<0,FI10-FH10+1,FI10-FH10) -> 1 | FH10: =IF(_xlfn.NUMBERVALUE(LEFT(FF10,FIND("-",FF10)))<$CD10,_xlfn.NUMBERVALUE(LEFT(FF10,FIND("-",FF10)))+1,_xlfn.NUMBERVALUE(LEFT(FF10,FIND("-",FF10)))) -> 0 | FI10: =IF(_xlfn.NUMBERVALUE(RIGHT(FF10,LEN(FF10)-FIND("-",FF10)))<=FH10,_xlfn.NUMBERVALUE(RIGHT(FF10,LEN(FF10)-FIND("-",FF10)))+1,_xlfn.NUMBERVALUE(RIGHT(FF10,LEN(FF10)-FIND("-",FF10)))) -> 1 | FJ10: =IF((FH10>=$CD10)*(FH10<$CE10),TRUE,FALSE) -> TRUE | FK10: =IF((FI10>=$CD10)*(FI10<$CE10),TRUE,FALSE) -> FALSE | FL10: =IF((FH10<=$CD10)*(FI10>=$CE10),TRUE,FALSE) -> TRUE | FM10: =ROUNDUP(IF(FJ10*FK10,FG10, IF(NOT(FJ10)*FK10,FI10-$CD10, IF(FJ10*NOT(FK10),$CE10-FH10, IF(FL10,$CE10-$CD10,0))))/(1/24),0)/24 -> 1 | FN10: =IF(OR(FM10>=1,FM10<=0),0, IF(OR(FH10>=$CG$7,FI10<=$CF$7),0, IF(FH10<$CH$7, IF(FI10<=$CH$7,FI10-FH10,$CH$7-FH10), IF(FH10<$CF$7, IF(FI10<$CG$7,FI10-$CF$7,$CG$7-$CF$7), IF(FI10<$CG$7,FI10-FH10,$CG$7-FH10))))) -> 0 | FO10: =IF(AND(FM10<1,FM10>0), IF(WEEKDAY($B10,2)=6, IF(FH10<$CI$7, IF(FI10<=$CI$7, 0, IF(FI10<=$CF$7, FI10-$CI$7, $CF$7-$CI$7)), IF(FI10<=$CF$7, FI10-FH10, IF($CF$7-FH10<=0, 0, $CF$7-FH10))), IF(WEEKDAY($B10+1,2)=6, IF(FH10<$CI$7+1, IF(FI10<=$CI$7+1, 0, IF(FI10<=$CF$7+1, FI10-$CI$7+1, $CF$7-$CI$7)), IF(FI10<=$CF$7+1, FI10-FH10, IF($CF$7+1-FH10<=0, 0, $CF$7+1-FH10))), 0)), 0) -> 0 | FP10: =IF(AND(FM10<1,FM10>0),IF(WEEKDAY($B10,2)=7,IF(FH10<1,IF(FI10<=1,FI10-FH10,1-FH10),0),IF(WEEKDAY($B10+1,2)=7,IF(FI10<1,0,IF(FH10<1,FI10-1,FI10-FH10)),0)),0) -> 0 | FQ10: =IF(AND(FM10<1,FM10>0),IF($BS10=1,IF(AND(FH10<=1,FI10<=1),FG10,IF(AND(FH10<1,FI10>=1),1-FH10,0)),IF($BS11=1,IF(AND(FH10<=1,FI10>1),FI10-1,IF(AND(FH10>1,FI10>1),FI10-FH10,0)),0)),0) -> 0 | FR10: =IF(ISERROR(FIND(";",$AB10,FE10+1)),LEN($AB10)+1,FIND(";",$AB10,FE10+1)) -> 1 | FS10: =IF(ISERR(MID($AB10,FE10+1,FR10-FE10-1)),"00:00-00:00",MID($AB10,FE10+1,FR10-FE10-1)) -> 00:00-00:00 | FT10: =IF(FV10-FU10<0,FV10-FU10+1,FV10-FU10) -> 1 | FU10: =IF(_xlfn.NUMBERVALUE(LEFT(FS10,FIND("-",FS10)))<$CD10,_xlfn.NUMBERVALUE(LEFT(FS10,FIND("-",FS10)))+1,_xlfn.NUMBERVALUE(LEFT(FS10,FIND("-",FS10)))) -> 0 | FV10: =IF(_xlfn.NUMBERVALUE(RIGHT(FS10,LEN(FS10)-FIND("-",FS10)))<=FU10,_xlfn.NUMBERVALUE(RIGHT(FS10,LEN(FS10)-FIND("-",FS10)))+1,_xlfn.NUMBERVALUE(RIGHT(FS10,LEN(FS10)-FIND("-",FS10)))) -> 1 | FW10: =IF((FU10>=$CD10)*(FU10<$CE10),TRUE,FALSE) -> TRUE | FX10: =IF((FV10>=$CD10)*(FV10<$CE10),TRUE,FALSE) -> FALSE | FY10: =IF((FU10<=$CD10)*(FV10>=$CE10),TRUE,FALSE) -> TRUE | FZ10: =ROUNDUP(IF(FW10*FX10,FT10, IF(NOT(FW10)*FX10,FV10-$CD10, IF(FW10*NOT(FX10),$CE10-FU10, IF(FY10,$CE10-$CD10,0))))/(1/24),0)/24 -> 1 | GA10: =IF(OR(FZ10>=1,FZ10<=0),0, IF(OR(FU10>=$CG$7,FV10<=$CF$7),0, IF(FU10<$CH$7, IF(FV10<=$CH$7,FV10-FU10,$CH$7-FU10), IF(FU10<$CF$7, IF(FV10<$CG$7,FV10-$CF$7,$CG$7-$CF$7), IF(FV10<$CG$7,FV10-FU10,$CG$7-FU10))))) -> 0 | GB10: =IF(AND(FZ10<1,FZ10>0), IF(WEEKDAY($B10,2)=6, IF(FU10<$CI$7, IF(FV10<=$CI$7, 0, IF(FV10<=$CF$7, FV10-$CI$7, $CF$7-$CI$7)), IF(FV10<=$CF$7, FV10-FU10, IF($CF$7-FU10<=0, 0, $CF$7-FU10))), IF(WEEKDAY($B10+1,2)=6, IF(FU10<$CI$7+1, IF(FV10<=$CI$7+1, 0, IF(FV10<=$CF$7+1, FV10-$CI$7+1, $CF$7-$CI$7)), IF(FV10<=$CF$7+1, FV10-FU10, IF($CF$7+1-FU10<=0, 0, $CF$7+1-FU10))), 0)), 0) -> 0 | GC10: =IF(AND(FZ10<1,FZ10>0),IF(WEEKDAY($B10,2)=7,IF(FU10<1,IF(FV10<=1,FV10-FU10,1-FU10),0),IF(WEEKDAY($B10+1,2)=7,IF(FV10<1,0,IF(FU10<1,FV10-1,FV10-FU10)),0)),0) -> 0 | GD10: =IF(AND(FZ10<1,FZ10>0),IF($BS10=1,IF(AND(FU10<=1,FV10<=1),FT10,IF(AND(FU10<1,FV10>=1),1-FU10,0)),IF($BS11=1,IF(AND(FU10<=1,FV10>1),FV10-1,IF(AND(FU10>1,FV10>1),FV10-FU10,0)),0)),0) -> 0 | GE10: =IF(ISERROR(FIND(";",$AB10,FR10+1)),LEN($AB10)+1,FIND(";",$AB10,FR10+1)) -> 1 | GF10: =IF(ISERR(MID($AB10,FR10+1,GE10-FR10-1)),"00:00-00:00",MID($AB10,FR10+1,GE10-FR10-1)) -> 00:00-00:00 | GG10: =IF(GI10-GH10<0,GI10-GH10+1,GI10-GH10) -> 1 | GH10: =IF(_xlfn.NUMBERVALUE(LEFT(GF10,FIND("-",GF10)))<$CD10,_xlfn.NUMBERVALUE(LEFT(GF10,FIND("-",GF10)))+1,_xlfn.NUMBERVALUE(LEFT(GF10,FIND("-",GF10)))) -> 0 | GI10: =IF(_xlfn.NUMBERVALUE(RIGHT(GF10,LEN(GF10)-FIND("-",GF10)))<=GH10,_xlfn.NUMBERVALUE(RIGHT(GF10,LEN(GF10)-FIND("-",GF10)))+1,_xlfn.NUMBERVALUE(RIGHT(GF10,LEN(GF10)-FIND("-",GF10)))) -> 1 | GJ10: =IF((GH10>=$CD10)*(GH10<$CE10),TRUE,FALSE) -> TRUE | GK10: =IF((GI10>=$CD10)*(GI10<$CE10),TRUE,FALSE) -> FALSE | GL10: =IF((GH10<=$CD10)*(GI10>=$CE10),TRUE,FALSE) -> TRUE | GM10: =ROUNDUP(IF(GJ10*GK10,GG10, IF(NOT(GJ10)*GK10,GI10-$CD10, IF(GJ10*NOT(GK10),$CE10-GH10, IF(GL10,$CE10-$CD10,0))))/(1/24),0)/24 -> 1 | GN10: =IF(OR(GM10>=1,GM10<=0),0, IF(OR(GH10>=$CG$7,GI10<=$CF$7),0, IF(GH10<$CH$7, IF(GI10<=$CH$7,GI10-GH10,$CH$7-GH10), IF(GH10<$CF$7, IF(GI10<$CG$7,GI10-$CF$7,$CG$7-$CF$7), IF(GI10<$CG$7,GI10-GH10,$CG$7-GH10))))) -> 0 | GO10: =IF(AND(GM10<1,GM10>0), IF(WEEKDAY($B10,2)=6, IF(GH10<$CI$7, IF(GI10<=$CI$7, 0, IF(GI10<=$CF$7, GI10-$CI$7, $CF$7-$CI$7)), IF(GI10<=$CF$7, GI10-GH10, IF($CF$7-GH10<=0, 0, $CF$7-GH10))), IF(WEEKDAY($B10+1,2)=6, IF(GH10<$CI$7+1, IF(GI10<=$CI$7+1, 0, IF(GI10<=$CF$7+1, GI10-$CI$7+1, $CF$7-$CI$7)), IF(GI10<=$CF$7+1, GI10-GH10, IF($CF$7+1-GH10<=0, 0, $CF$7+1-GH10))), 0)), 0) -> 0 | GP10: =IF(AND(GM10<1,GM10>0),IF(WEEKDAY($B10,2)=7,IF(GH10<1,IF(GI10<=1,GI10-GH10,1-GH10),0),IF(WEEKDAY($B10+1,2)=7,IF(GI10<1,0,IF(GH10<1,GI10-1,GI10-GH10)),0)),0) -> 0 | GQ10: =IF(AND(GM10<1,GM10>0),IF($BS10=1,IF(AND(GH10<=1,GI10<=1),GG10,IF(AND(GH10<1,GI10>=1),1-GH10,0)),IF($BS11=1,IF(AND(GH10<=1,GI10>1),GI10-1,IF(AND(GH10>1,GI10>1),GI10-GH10,0)),0)),0) -> 0 | GR10: =IF(ISERROR(FIND(";",$AB10,GE10+1)),LEN($AB10)+1,FIND(";",$AB10,GE10+1)) -> 1 | GS10: =IF(ISERR(MID($AB10,GE10+1,GR10-GE10-1)),"00:00-00:00",MID($AB10,GE10+1,GR10-GE10-1)) -> 00:00-00:00 | GT10: =IF(GV10-GU10<0,GV10-GU10+1,GV10-GU10) -> 1 | GU10: =IF(_xlfn.NUMBERVALUE(LEFT(GS10,FIND("-",GS10)))<$CD10,_xlfn.NUMBERVALUE(LEFT(GS10,FIND("-",GS10)))+1,_xlfn.NUMBERVALUE(LEFT(GS10,FIND("-",GS10)))) -> 0 | GV10: =IF(_xlfn.NUMBERVALUE(RIGHT(GS10,LEN(GS10)-FIND("-",GS10)))<=GU10,_xlfn.NUMBERVALUE(RIGHT(GS10,LEN(GS10)-FIND("-",GS10)))+1,_xlfn.NUMBERVALUE(RIGHT(GS10,LEN(GS10)-FIND("-",GS10)))) -> 1 | GW10: =IF((GU10>=$CD10)*(GU10<$CE10),TRUE,FALSE) -> TRUE | GX10: =IF((GV10>=$CD10)*(GV10<$CE10),TRUE,FALSE) -> FALSE | GY10: =IF((GU10<=$CD10)*(GV10>=$CE10),TRUE,FALSE) -> TRUE | GZ10: =ROUNDUP(IF(GW10*GX10,GT10, IF(NOT(GW10)*GX10,GV10-$CD10, IF(GW10*NOT(GX10),$CE10-GU10, IF(GY10,$CE10-$CD10,0))))/(1/24),0)/24 -> 1 | HA10: =IF(OR(GZ10>=1,GZ10<=0),0, IF(OR(GU10>=$CG$7,GV10<=$CF$7),0, IF(GU10<$CH$7, IF(GV10<=$CH$7,GV10-GU10,$CH$7-GU10), IF(GU10<$CF$7, IF(GV10<$CG$7,GV10-$CF$7,$CG$7-$CF$7), IF(GV10<$CG$7,GV10-GU10,$CG$7-GU10))))) -> 0 | HB10: =IF(AND(GZ10<1,GZ10>0), IF(WEEKDAY($B10,2)=6, IF(GU10<$CI$7, IF(GV10<=$CI$7, 0, IF(GV10<=$CF$7, GV10-$CI$7, $CF$7-$CI$7)), IF(GV10<=$CF$7, GV10-GU10, IF($CF$7-GU10<=0, 0, $CF$7-GU10))), IF(WEEKDAY($B10+1,2)=6, IF(GU10<$CI$7+1, IF(GV10<=$CI$7+1, 0, IF(GV10<=$CF$7+1, GV10-$CI$7+1, $CF$7-$CI$7)), IF(GV10<=$CF$7+1, GV10-GU10, IF($CF$7+1-GU10<=0, 0, $CF$7+1-GU10))), 0)), 0) -> 0 | HC10: =IF(AND(GZ10<1,GZ10>0),IF(WEEKDAY($B10,2)=7,IF(GU10<1,IF(GV10<=1,GV10-GU10,1-GU10),0),IF(WEEKDAY($B10+1,2)=7,IF(GV10<1,0,IF(GU10<1,GV10-1,GV10-GU10)),0)),0) -> 0 | HD10: =IF(AND(GZ10<1,GZ10>0),IF($BS10=1,IF(AND(GU10<=1,GV10<=1),GT10,IF(AND(GU10<1,GV10>=1),1-GU10,0)),IF($BS11=1,IF(AND(GU10<=1,GV10>1),GV10-1,IF(AND(GU10>1,GV10>1),GV10-GU10,0)),0)),0) -> 0 | HE10: =IF(ISERROR(FIND(";",$AB10,GR10+1)),LEN($AB10)+1,FIND(";",$AB10,GR10+1)) -> 1 | HF10: =IF(ISERR(MID($AB10,GR10+1,HE10-GR10-1)),"00:00-00:00",MID($AB10,GR10+1,HE10-GR10-1)) -> 00:00-00:00 | HG10: =IF(HI10-HH10<0,HI10-HH10+1,HI10-HH10) -> 1 | HH10: =IF(_xlfn.NUMBERVALUE(LEFT(HF10,FIND("-",HF10)))<$CD10,_xlfn.NUMBERVALUE(LEFT(HF10,FIND("-",HF10)))+1,_xlfn.NUMBERVALUE(LEFT(HF10,FIND("-",HF10)))) -> 0 | HI10: =IF(_xlfn.NUMBERVALUE(RIGHT(HF10,LEN(HF10)-FIND("-",HF10)))<=HH10,_xlfn.NUMBERVALUE(RIGHT(HF10,LEN(HF10)-FIND("-",HF10)))+1,_xlfn.NUMBERVALUE(RIGHT(HF10,LEN(HF10)-FIND("-",HF10)))) -> 1 | HJ10: =IF((HH10>=$CD10)*(HH10<$CE10),TRUE,FALSE) -> TRUE | HK10: =IF((HI10>=$CD10)*(HI10<$CE10),TRUE,FALSE) -> FALSE | HL10: =IF((HH10<=$CD10)*(HI10>=$CE10),TRUE,FALSE) -> TRUE | HM10: =ROUNDUP(IF(HJ10*HK10,HG10, IF(NOT(HJ10)*HK10,HI10-$CD10, IF(HJ10*NOT(HK10),$CE10-HH10, IF(HL10,$CE10-$CD10,0))))/(1/24),0)/24 -> 1 | HN10: =IF(OR(HM10>=1,HM10<=0),0, IF(OR(HH10>=$CG$7,HI10<=$CF$7),0, IF(HH10<$CH$7, IF(HI10<=$CH$7,HI10-HH10,$CH$7-HH10), IF(HH10<$CF$7, IF(HI10<$CG$7,HI10-$CF$7,$CG$7-$CF$7), IF(HI10<$CG$7,HI10-HH10,$CG$7-HH10))))) -> 0 | HO10: =IF(AND(HM10<1,HM10>0), IF(WEEKDAY($B10,2)=6, IF(HH10<$CI$7, IF(HI10<=$CI$7, 0, IF(HI10<=$CF$7, HI10-$CI$7, $CF$7-$CI$7)), IF(HI10<=$CF$7, HI10-HH10, IF($CF$7-HH10<=0, 0, $CF$7-HH10))), IF(WEEKDAY($B10+1,2)=6, IF(HH10<$CI$7+1, IF(HI10<=$CI$7+1, 0, IF(HI10<=$CF$7+1, HI10-$CI$7+1, $CF$7-$CI$7)), IF(HI10<=$CF$7+1, HI10-HH10, IF($CF$7+1-HH10<=0, 0, $CF$7+1-HH10))), 0)), 0) -> 0 | HP10: =IF(AND(HM10<1,HM10>0),IF(WEEKDAY($B10,2)=7,IF(HH10<1,IF(HI10<=1,HI10-HH10,1-HH10),0),IF(WEEKDAY($B10+1,2)=7,IF(HI10<1,0,IF(HH10<1,HI10-1,HI10-HH10)),0)),0) -> 0 | HQ10: =IF(AND(HM10<1,HM10>0),IF($BS10=1,IF(AND(HH10<=1,HI10<=1),HG10,IF(AND(HH10<1,HI10>=1),1-HH10,0)),IF($BS11=1,IF(AND(HH10<=1,HI10>1),HI10-1,IF(AND(HH10>1,HI10>1),HI10-HH10,0)),0)),0) -> 0 | HR10: =IF(ISERROR(FIND(";",$AB10,HE10+1)),LEN($AB10)+1,FIND(";",$AB10,HE10+1)) -> 1 | HS10: =IF(ISERR(MID($AB10,HE10+1,HR10-HE10-1)),"00:00-00:00",MID($AB10,HE10+1,HR10-HE10-1)) -> 00:00-00:00 | HT10: =IF(HV10-HU10<0,HV10-HU10+1,HV10-HU10) -> 1 | HU10: =IF(_xlfn.NUMBERVALUE(LEFT(HS10,FIND("-",HS10)))<$CD10,_xlfn.NUMBERVALUE(LEFT(HS10,FIND("-",HS10)))+1,_xlfn.NUMBERVALUE(LEFT(HS10,FIND("-",HS10)))) -> 0 | HV10: =IF(_xlfn.NUMBERVALUE(RIGHT(HS10,LEN(HS10)-FIND("-",HS10)))<=HU10,_xlfn.NUMBERVALUE(RIGHT(HS10,LEN(HS10)-FIND("-",HS10)))+1,_xlfn.NUMBERVALUE(RIGHT(HS10,LEN(HS10)-FIND("-",HS10)))) -> 1 | HW10: =IF((HU10>=$CD10)*(HU10<$CE10),TRUE,FALSE) -> TRUE | HX10: =IF((HV10>=$CD10)*(HV10<$CE10),TRUE,FALSE) -> FALSE | HY10: =IF((HU10<=$CD10)*(HV10>=$CE10),TRUE,FALSE) -> TRUE | HZ10: =ROUNDUP(IF(HW10*HX10,HT10, IF(NOT(HW10)*HX10,HV10-$CD10, IF(HW10*NOT(HX10),$CE10-HU10, IF(HY10,$CE10-$CD10,0))))/(1/24),0)/24 -> 1 | IA10: =IF(OR(HZ10>=1,HZ10<=0),0, IF(OR(HU10>=$CG$7,HV10<=$CF$7),0, IF(HU10<$CH$7, IF(HV10<=$CH$7,HV10-HU10,$CH$7-HU10), IF(HU10<$CF$7, IF(HV10<$CG$7,HV10-$CF$7,$CG$7-$CF$7), IF(HV10<$CG$7,HV10-HU10,$CG$7-HU10))))) -> 0 | IB10: =IF(AND(HZ10<1,HZ10>0), IF(WEEKDAY($B10,2)=6, IF(HU10<$CI$7, IF(HV10<=$CI$7, 0, IF(HV10<=$CF$7, HV10-$CI$7, $CF$7-$CI$7)), IF(HV10<=$CF$7, HV10-HU10, IF($CF$7-HU10<=0, 0, $CF$7-HU10))), IF(WEEKDAY($B10+1,2)=6, IF(HU10<$CI$7+1, IF(HV10<=$CI$7+1, 0, IF(HV10<=$CF$7+1, HV10-$CI$7+1, $CF$7-$CI$7)), IF(HV10<=$CF$7+1, HV10-HU10, IF($CF$7+1-HU10<=0, 0, $CF$7+1-HU10))), 0)), 0) -> 0 | IC10: =IF(AND(HZ10<1,HZ10>0),IF(WEEKDAY($B10,2)=7,IF(HU10<1,IF(HV10<=1,HV10-HU10,1-HU10),0),IF(WEEKDAY($B10+1,2)=7,IF(HV10<1,0,IF(HU10<1,HV10-1,HV10-HU10)),0)),0) -> 0 | ID10: =IF(AND(HZ10<1,HZ10>0),IF($BS10=1,IF(AND(HU10<=1,HV10<=1),HT10,IF(AND(HU10<1,HV10>=1),1-HU10,0)),IF($BS11=1,IF(AND(HU10<=1,HV10>1),HV10-1,IF(AND(HU10>1,HV10>1),HV10-HU10,0)),0)),0) -> 0 | IE10: =IF(ISERROR(FIND(";",$AB10,HR10+1)),LEN($AB10)+1,FIND(";",$AB10,HR10+1)) -> 1 | IF10: =IF(ISERR(MID($AB10,HR10+1,IE10-HR10-1)),"00:00-00:00",MID($AB10,HR10+1,IE10-HR10-1)) -> 00:00-00:00 | IG10: =IF(II10-IH10<0,II10-IH10+1,II10-IH10) -> 1 | IH10: =IF(_xlfn.NUMBERVALUE(LEFT(IF10,FIND("-",IF10)))<$CD10,_xlfn.NUMBERVALUE(LEFT(IF10,FIND("-",IF10)))+1,_xlfn.NUMBERVALUE(LEFT(IF10,FIND("-",IF10)))) -> 0 | II10: =IF(_xlfn.NUMBERVALUE(RIGHT(IF10,LEN(IF10)-FIND("-",IF10)))<=IH10,_xlfn.NUMBERVALUE(RIGHT(IF10,LEN(IF10)-FIND("-",IF10)))+1,_xlfn.NUMBERVALUE(RIGHT(IF10,LEN(IF10)-FIND("-",IF10)))) -> 1 | IJ10: =IF((IH10>=$CD10)*(IH10<$CE10),TRUE,FALSE) -> TRUE | IK10: =IF((II10>=$CD10)*(II10<$CE10),TRUE,FALSE) -> FALSE | IL10: =IF((IH10<=$CD10)*(II10>=$CE10),TRUE,FALSE) -> TRUE | IM10: =ROUNDUP(IF(IJ10*IK10,IG10, IF(NOT(IJ10)*IK10,II10-$CD10, IF(IJ10*NOT(IK10),$CE10-IH10, IF(IL10,$CE10-$CD10,0))))/(1/24),0)/24 -> 1 | IN10: =IF(OR(IM10>=1,IM10<=0),0, IF(OR(IH10>=$CG$7,II10<=$CF$7),0, IF(IH10<$CH$7, IF(II10<=$CH$7,II10-IH10,$CH$7-IH10), IF(IH10<$CF$7, IF(II10<$CG$7,II10-$CF$7,$CG$7-$CF$7), IF(II10<$CG$7,II10-IH10,$CG$7-IH10))))) -> 0 | IO10: =IF(AND(IM10<1,IM10>0), IF(WEEKDAY($B10,2)=6, IF(IH10<$CI$7, IF(II10<=$CI$7, 0, IF(II10<=$CF$7, II10-$CI$7, $CF$7-$CI$7)), IF(II10<=$CF$7, II10-IH10, IF($CF$7-IH10<=0, 0, $CF$7-IH10))), IF(WEEKDAY($B10+1,2)=6, IF(IH10<$CI$7+1, IF(II10<=$CI$7+1, 0, IF(II10<=$CF$7+1, II10-$CI$7+1, $CF$7-$CI$7)), IF(II10<=$CF$7+1, II10-IH10, IF($CF$7+1-IH10<=0, 0, $CF$7+1-IH10))), 0)), 0) -> 0 | IP10: =IF(AND(IM10<1,IM10>0),IF(WEEKDAY($B10,2)=7,IF(IH10<1,IF(II10<=1,II10-IH10,1-IH10),0),IF(WEEKDAY($B10+1,2)=7,IF(II10<1,0,IF(IH10<1,II10-1,II10-IH10)),0)),0) -> 0 | IQ10: =IF(AND(IM10<1,IM10>0),IF($BS10=1,IF(AND(IH10<=1,II10<=1),IG10,IF(AND(IH10<1,II10>=1),1-IH10,0)),IF($BS11=1,IF(AND(IH10<=1,II10>1),II10-1,IF(AND(IH10>1,II10>1),II10-IH10,0)),0)),0) -> 0 | IR10: =IF(ISERROR(FIND(";",$AB10,IE10+1)),LEN($AB10)+1,FIND(";",$AB10,IE10+1)) -> 1 | IS10: =IF(ISERR(MID($AB10,IE10+1,IR10-IE10-1)),"00:00-00:00",MID($AB10,IE10+1,IR10-IE10-1)) -> 00:00-00:00 | IT10: =IF(IV10-IU10<0,IV10-IU10+1,IV10-IU10) -> 1 | IU10: =IF(_xlfn.NUMBERVALUE(LEFT(IS10,FIND("-",IS10)))<$CD10,_xlfn.NUMBERVALUE(LEFT(IS10,FIND("-",IS10)))+1,_xlfn.NUMBERVALUE(LEFT(IS10,FIND("-",IS10)))) -> 0 | IV10: =IF(_xlfn.NUMBERVALUE(RIGHT(IS10,LEN(IS10)-FIND("-",IS10)))<=IU10,_xlfn.NUMBERVALUE(RIGHT(IS10,LEN(IS10)-FIND("-",IS10)))+1,_xlfn.NUMBERVALUE(RIGHT(IS10,LEN(IS10)-FIND("-",IS10)))) -> 1 | IW10: =IF((IU10>=$CD10)*(IU10<$CE10),TRUE,FALSE) -> TRUE | IX10: =IF((IV10>=$CD10)*(IV10<$CE10),TRUE,FALSE) -> FALSE | IY10: =IF((IU10<=$CD10)*(IV10>=$CE10),TRUE,FALSE) -> TRUE | IZ10: =ROUNDUP(IF(IW10*IX10,IT10, IF(NOT(IW10)*IX10,IV10-$CD10, IF(IW10*NOT(IX10),$CE10-IU10, IF(IY10,$CE10-$CD10,0))))/(1/24),0)/24 -> 1 | JA10: =IF(OR(IZ10>=1,IZ10<=0),0, IF(OR(IU10>=$CG$7,IV10<=$CF$7),0, IF(IU10<$CH$7, IF(IV10<=$CH$7,IV10-IU10,$CH$7-IU10), IF(IU10<$CF$7, IF(IV10<$CG$7,IV10-$CF$7,$CG$7-$CF$7), IF(IV10<$CG$7,IV10-IU10,$CG$7-IU10))))) -> 0 | JB10: =IF(AND(IZ10<1,IZ10>0), IF(WEEKDAY($B10,2)=6, IF(IU10<$CI$7, IF(IV10<=$CI$7, 0, IF(IV10<=$CF$7, IV10-$CI$7, $CF$7-$CI$7)), IF(IV10<=$CF$7, IV10-IU10, IF($CF$7-IU10<=0, 0, $CF$7-IU10))), IF(WEEKDAY($B10+1,2)=6, IF(IU10<$CI$7+1, IF(IV10<=$CI$7+1, 0, IF(IV10<=$CF$7+1, IV10-$CI$7+1, $CF$7-$CI$7)), IF(IV10<=$CF$7+1, IV10-IU10, IF($CF$7+1-IU10<=0, 0, $CF$7+1-IU10))), 0)), 0) -> 0 | JC10: =IF(AND(IZ10<1,IZ10>0),IF(WEEKDAY($B10,2)=7,IF(IU10<1,IF(IV10<=1,IV10-IU10,1-IU10),0),IF(WEEKDAY($B10+1,2)=7,IF(IV10<1,0,IF(IU10<1,IV10-1,IV10-IU10)),0)),0) -> 0 | JD10: =IF(AND(IZ10<1,IZ10>0),IF($BS10=1,IF(AND(IU10<=1,IV10<=1),IT10,IF(AND(IU10<1,IV10>=1),1-IU10,0)),IF($BS11=1,IF(AND(IU10<=1,IV10>1),IV10-1,IF(AND(IU10>1,IV10>1),IV10-IU10,0)),0)),0) -> 0 | JE10: =IF(ISERROR(FIND(";",$AB10,IR10+1)),LEN($AB10)+1,FIND(";",$AB10,IR10+1)) -> 1 | JF10: =IF(ISERR(MID($AB10,IR10+1,JE10-IR10-1)),"00:00-00:00",MID($AB10,IR10+1,JE10-IR10-1)) -> 00:00-00:00 | JG10: =IF(JI10-JH10<0,JI10-JH10+1,JI10-JH10) -> 1 | JH10: =IF(_xlfn.NUMBERVALUE(LEFT(JF10,FIND("-",JF10)))<$CD10,_xlfn.NUMBERVALUE(LEFT(JF10,FIND("-",JF10)))+1,_xlfn.NUMBERVALUE(LEFT(JF10,FIND("-",JF10)))) -> 0 | JI10: =IF(_xlfn.NUMBERVALUE(RIGHT(JF10,LEN(JF10)-FIND("-",JF10)))<=JH10,_xlfn.NUMBERVALUE(RIGHT(JF10,LEN(JF10)-FIND("-",JF10)))+1,_xlfn.NUMBERVALUE(RIGHT(JF10,LEN(JF10)-FIND("-",JF10)))) -> 1 | JJ10: =IF((JH10>=$CD10)*(JH10<$CE10),TRUE,FALSE) -> TRUE | JK10: =IF((JI10>=$CD10)*(JI10<$CE10),TRUE,FALSE) -> FALSE | JL10: =IF((JH10<=$CD10)*(JI10>=$CE10),TRUE,FALSE) -> TRUE | JM10: =ROUNDUP(IF(JJ10*JK10,JG10, IF(NOT(JJ10)*JK10,JI10-$CD10, IF(JJ10*NOT(JK10),$CE10-JH10, IF(JL10,$CE10-$CD10,0))))/(1/24),0)/24 -> 1 | JN10: =IF(OR(JM10>=1,JM10<=0),0, IF(OR(JH10>=$CG$7,JI10<=$CF$7),0, IF(JH10<$CH$7, IF(JI10<=$CH$7,JI10-JH10,$CH$7-JH10), IF(JH10<$CF$7, IF(JI10<$CG$7,JI10-$CF$7,$CG$7-$CF$7), IF(JI10<$CG$7,JI10-JH10,$CG$7-JH10))))) -> 0 | JO10: =IF(AND(JM10<1,JM10>0), IF(WEEKDAY($B10,2)=6, IF(JH10<$CI$7, IF(JI10<=$CI$7, 0, IF(JI10<=$CF$7, JI10-$CI$7, $CF$7-$CI$7)), IF(JI10<=$CF$7, JI10-JH10, IF($CF$7-JH10<=0, 0, $CF$7-JH10))), IF(WEEKDAY($B10+1,2)=6, IF(JH10<$CI$7+1, IF(JI10<=$CI$7+1, 0, IF(JI10<=$CF$7+1, JI10-$CI$7+1, $CF$7-$CI$7)), IF(JI10<=$CF$7+1, JI10-JH10, IF($CF$7+1-JH10<=0, 0, $CF$7+1-JH10))), 0)), 0) -> 0 | JP10: =IF(AND(JM10<1,JM10>0),IF(WEEKDAY($B10,2)=7,IF(JH10<1,IF(JI10<=1,JI10-JH10,1-JH10),0),IF(WEEKDAY($B10+1,2)=7,IF(JI10<1,0,IF(JH10<1,JI10-1,JI10-JH10)),0)),0) -> 0 | JQ10: =IF(AND(JM10<1,JM10>0),IF($BS10=1,IF(AND(JH10<=1,JI10<=1),JG10,IF(AND(JH10<1,JI10>=1),1-JH10,0)),IF($BS11=1,IF(AND(JH10<=1,JI10>1),JI10-1,IF(AND(JH10>1,JI10>1),JI10-JH10,0)),0)),0) -> 0 | JR10: =IF(AND(ISBLANK(Z10),ISBLANK(AA10)),0,SUM(JM10,IZ10,HZ10,IM10,HM10,GZ10,GM10,FZ10,FM10,EZ10,EM10,DZ10,DM10,CZ10,CM10)) -> 0 | JS10: =JR10*24 -> 0 | JT10: =IF(AND(ISBLANK(Z10),ISBLANK(AA10)),0,SUM(JN10,JA10,IA10,IN10,HN10,HA10,GN10,GA10,FN10,FA10,EN10,EA10,DN10,DA10,CN10)) -> 0 | JU10: =IF(AND(ISBLANK(Z10),ISBLANK(AA10)),0,SUM(JO10,JB10,IB10,IO10,HO10,HB10,GO10,GB10,FO10,FB10,EO10,EB10,DO10,DB10,CO10)) -> 0 | JV10: =IF(AND(ISBLANK(Z10),ISBLANK(AA10)),0,SUM(JP10,JC10,IC10,IP10,HP10,HC10,GP10,GC10,FP10,FC10,EP10,EC10,DP10,DC10,CP10)) -> 0 | JW10: =IF(AND(ISBLANK(Z10),ISBLANK(AA10)),0,SUM(JQ10,JD10,ID10,IQ10,HQ10,HD10,GQ10,GD10,FQ10,FD10,EQ10,ED10,DQ10,DD10,CQ10)) -> 0 | JY10: =IF(ISERROR(FIND(";",$AD10,1)),LEN($AD10)+1,FIND(";",$AD10,1)) -> 1 | JZ10: =IF(OR(ISBLANK($AD10),ISERR(MID($AD10,1,JY10-1))),"00:00-00:00",MID($AD10,1,JY10-1)) -> 00:00-00:00 | KA10: =IF(KC10-KB10<0,KC10-KB10+1,KC10-KB10) -> 1 | KB10: =IF(_xlfn.NUMBERVALUE(LEFT(JZ10,FIND("-",JZ10)))<$CD10,_xlfn.NUMBERVALUE(LEFT(JZ10,FIND("-",JZ10)))+1,_xlfn.NUMBERVALUE(LEFT(JZ10,FIND("-",JZ10)))) -> 0 | KC10: =IF(_xlfn.NUMBERVALUE(RIGHT(JZ10,LEN(JZ10)-FIND("-",JZ10)))<=KB10,_xlfn.NUMBERVALUE(RIGHT(JZ10,LEN(JZ10)-FIND("-",JZ10)))+1,_xlfn.NUMBERVALUE(RIGHT(JZ10,LEN(JZ10)-FIND("-",JZ10)))) -> 1 | KD10: =IF((KB10>=$CD10)*(KB10<$CE10),TRUE,FALSE) -> TRUE | KE10: =IF((KC10>=$CD10)*(KC10<$CE10),TRUE,FALSE) -> FALSE | KF10: =IF((KB10<=$CD10)*(KC10>=$CE10),TRUE,FALSE) -> TRUE | KG10: =IF(KD10*KE10,KA10, IF(NOT(KD10)*KE10,KC10-$CD10, IF(KD10*NOT(KE10),$CE10-KB10, IF(KF10,$CE10-$CD10,0)))) -> 1 | KH10: =IF(OR(KG10>=1,KG10<=0),0, IF(OR(KB10>=$CG$7,KC10<=$CF$7),0, IF(KB10<$CH$7, IF(KC10<=$CH$7,KC10-KB10,$CH$7-KB10), IF(KB10<$CF$7, IF(KC10<$CG$7,KC10-$CF$7,$CG$7-$CF$7), IF(KC10<$CG$7,KC10-KB10,$CG$7-KB10))))) -> 0 | KI10: =IF(AND(KG10<1,KG10>0), IF(WEEKDAY($B10,2)=6, IF(KB10<$CI$7, IF(KC10<=$CI$7, 0, IF(KC10<=$CF$7, KC10-$CI$7, $CF$7-$CI$7)), IF(KC10<=$CF$7, KC10-KB10, IF($CF$7-KB10<=0, 0, $CF$7-KB10))), IF(WEEKDAY($B10+1,2)=6, IF(KB10<$CI$7+1, IF(KC10<=$CI$7+1, 0, IF(KC10<=$CF$7+1, KC10-$CI$7+1, $CF$7-$CI$7)), IF(KC10<=$CF$7+1, KC10-KB10, IF($CF$7+1-KB10<=0, 0, $CF$7+1-KB10))), 0)), 0) -> 0 | KJ10: =IF(AND(KG10<1,KG10>0),IF(WEEKDAY($B10,2)=7,IF(KB10<1,IF(KC10<=1,KC10-KB10,1-KB10),0),IF(WEEKDAY($B10+1,2)=7,IF(KC10<1,0,IF(KB10<1,KC10-1,KC10-KB10)),0)),0) -> 0 | KK10: =IF(AND(KG10<1,KG10>0),IF($BS10=1,IF(AND(KB10<=1,KC10<=1),KA10,IF(AND(KB10<1,KC10>=1),1-KB10,0)),IF($BS11=1,IF(AND(KB10<=1,KC10>1),KC10-1,IF(AND(KB10>1,KC10>1),KC10-KB10,0)),0)),0) -> 0 | KL10: =IF(ISERROR(FIND(";",$AD10,JY10+1)),LEN($AD10)+1,FIND(";",$AD10,JY10+1)) -> 1 | KM10: =IF(ISERR(MID($AD10,JY10+1,KL10-JY10-1)),"00:00-00:00",MID($AD10,JY10+1,KL10-JY10-1)) -> 00:00-00:00 | KN10: =IF(KP10-KO10<0,KP10-KO10+1,KP10-KO10) -> 1 | KO10: =IF(_xlfn.NUMBERVALUE(LEFT(KM10,FIND("-",KM10)))<$CD10,_xlfn.NUMBERVALUE(LEFT(KM10,FIND("-",KM10)))+1,_xlfn.NUMBERVALUE(LEFT(KM10,FIND("-",KM10)))) -> 0 | KP10: =IF(_xlfn.NUMBERVALUE(RIGHT(KM10,LEN(KM10)-FIND("-",KM10)))<=KO10,_xlfn.NUMBERVALUE(RIGHT(KM10,LEN(KM10)-FIND("-",KM10)))+1,_xlfn.NUMBERVALUE(RIGHT(KM10,LEN(KM10)-FIND("-",KM10)))) -> 1 | KQ10: =IF((KO10>=$CD10)*(KO10<$CE10),TRUE,FALSE) -> TRUE | KR10: =IF((KP10>=$CD10)*(KP10<$CE10),TRUE,FALSE) -> FALSE | KS10: =IF((KO10<=$CD10)*(KP10>=$CE10),TRUE,FALSE) -> TRUE | KT10: =IF(KQ10*KR10,KN10, IF(NOT(KQ10)*KR10,KP10-$CD10, IF(KQ10*NOT(KR10),$CE10-KO10, IF(KS10,$CE10-$CD10,0)))) -> 1 | KU10: =IF(OR(KT10>=1,KT10<=0),0, IF(OR(KO10>=$CG$7,KP10<=$CF$7),0, IF(KO10<$CH$7, IF(KP10<=$CH$7,KP10-KO10,$CH$7-KO10), IF(KO10<$CF$7, IF(KP10<$CG$7,KP10-$CF$7,$CG$7-$CF$7), IF(KP10<$CG$7,KP10-KO10,$CG$7-KO10))))) -> 0 | KV10: =IF(AND(KT10<1,KT10>0), IF(WEEKDAY($B10,2)=6, IF(KO10<$CI$7, IF(KP10<=$CI$7, 0, IF(KP10<=$CF$7, KP10-$CI$7, $CF$7-$CI$7)), IF(KP10<=$CF$7, KP10-KO10, IF($CF$7-KO10<=0, 0, $CF$7-KO10))), IF(WEEKDAY($B10+1,2)=6, IF(KO10<$CI$7+1, IF(KP10<=$CI$7+1, 0, IF(KP10<=$CF$7+1, KP10-$CI$7+1, $CF$7-$CI$7)), IF(KP10<=$CF$7+1, KP10-KO10, IF($CF$7+1-KO10<=0, 0, $CF$7+1-KO10))), 0)), 0) -> 0 | KW10: =IF(AND(KT10<1,KT10>0),IF(WEEKDAY($B10,2)=7,IF(KO10<1,IF(KP10<=1,KP10-KO10,1-KO10),0),IF(WEEKDAY($B10+1,2)=7,IF(KP10<1,0,IF(KO10<1,KP10-1,KP10-KO10)),0)),0) -> 0 | KX10: =IF(AND(KT10<1,KT10>0),IF($BS10=1,IF(AND(KO10<=1,KP10<=1),KN10,IF(AND(KO10<1,KP10>=1),1-KO10,0)),IF($BS11=1,IF(AND(KO10<=1,KP10>1),KP10-1,IF(AND(KO10>1,KP10>1),KP10-KO10,0)),0)),0) -> 0 | KY10: =IF(ISERROR(FIND(";",$AD10,KL10+1)),LEN($AD10)+1,FIND(";",$AD10,KL10+1)) -> 1 | KZ10: =IF(ISERR(MID($AD10,KL10+1,KY10-KL10-1)),"00:00-00:00",MID($AD10,KL10+1,KY10-KL10-1)) -> 00:00-00:00 | LA10: =IF(LC10-LB10<0,LC10-LB10+1,LC10-LB10) -> 1 | LB10: =IF(_xlfn.NUMBERVALUE(LEFT(KZ10,FIND("-",KZ10)))<$CD10,_xlfn.NUMBERVALUE(LEFT(KZ10,FIND("-",KZ10)))+1,_xlfn.NUMBERVALUE(LEFT(KZ10,FIND("-",KZ10)))) -> 0 | LC10: =IF(_xlfn.NUMBERVALUE(RIGHT(KZ10,LEN(KZ10)-FIND("-",KZ10)))<=LB10,_xlfn.NUMBERVALUE(RIGHT(KZ10,LEN(KZ10)-FIND("-",KZ10)))+1,_xlfn.NUMBERVALUE(RIGHT(KZ10,LEN(KZ10)-FIND("-",KZ10)))) -> 1 | LD10: =IF((LB10>=$CD10)*(LB10<$CE10),TRUE,FALSE) -> TRUE | LE10: =IF((LC10>=$CD10)*(LC10<$CE10),TRUE,FALSE) -> FALSE | LF10: =IF((LB10<=$CD10)*(LC10>=$CE10),TRUE,FALSE) -> TRUE | LG10: =IF(LD10*LE10,LA10, IF(NOT(LD10)*LE10,LC10-$CD10, IF(LD10*NOT(LE10),$CE10-LB10, IF(LF10,$CE10-$CD10,0)))) -> 1 | LH10: =IF(OR(LG10>=1,LG10<=0),0, IF(OR(LB10>=$CG$7,LC10<=$CF$7),0, IF(LB10<$CH$7, IF(LC10<=$CH$7,LC10-LB10,$CH$7-LB10), IF(LB10<$CF$7, IF(LC10<$CG$7,LC10-$CF$7,$CG$7-$CF$7), IF(LC10<$CG$7,LC10-LB10,$CG$7-LB10))))) -> 0 | LI10: =IF(AND(LG10<1,LG10>0), IF(WEEKDAY($B10,2)=6, IF(LB10<$CI$7, IF(LC10<=$CI$7, 0, IF(LC10<=$CF$7, LC10-$CI$7, $CF$7-$CI$7)), IF(LC10<=$CF$7, LC10-LB10, IF($CF$7-LB10<=0, 0, $CF$7-LB10))), IF(WEEKDAY($B10+1,2)=6, IF(LB10<$CI$7+1, IF(LC10<=$CI$7+1, 0, IF(LC10<=$CF$7+1, LC10-$CI$7+1, $CF$7-$CI$7)), IF(LC10<=$CF$7+1, LC10-LB10, IF($CF$7+1-LB10<=0, 0, $CF$7+1-LB10))), 0)), 0) -> 0 | LJ10: =IF(AND(LG10<1,LG10>0),IF(WEEKDAY($B10,2)=7,IF(LB10<1,IF(LC10<=1,LC10-LB10,1-LB10),0),IF(WEEKDAY($B10+1,2)=7,IF(LC10<1,0,IF(LB10<1,LC10-1,LC10-LB10)),0)),0) -> 0 | LK10: =IF(AND(LG10<1,LG10>0),IF($BS10=1,IF(AND(LB10<=1,LC10<=1),LA10,IF(AND(LB10<1,LC10>=1),1-LB10,0)),IF($BS11=1,IF(AND(LB10<=1,LC10>1),LC10-1,IF(AND(LB10>1,LC10>1),LC10-LB10,0)),0)),0) -> 0 | LL10: =IF(ISERROR(FIND(";",$AD10,KY10+1)),LEN($AD10)+1,FIND(";",$AD10,KY10+1)) -> 1 | LM10: =IF(ISERR(MID($AD10,KY10+1,LL10-KY10-1)),"00:00-00:00",MID($AD10,KY10+1,LL10-KY10-1)) -> 00:00-00:00 | LN10: =IF(LP10-LO10<0,LP10-LO10+1,LP10-LO10) -> 1 | LO10: =IF(_xlfn.NUMBERVALUE(LEFT(LM10,FIND("-",LM10)))<$CD10,_xlfn.NUMBERVALUE(LEFT(LM10,FIND("-",LM10)))+1,_xlfn.NUMBERVALUE(LEFT(LM10,FIND("-",LM10)))) -> 0 | LP10: =IF(_xlfn.NUMBERVALUE(RIGHT(LM10,LEN(LM10)-FIND("-",LM10)))<=LO10,_xlfn.NUMBERVALUE(RIGHT(LM10,LEN(LM10)-FIND("-",LM10)))+1,_xlfn.NUMBERVALUE(RIGHT(LM10,LEN(LM10)-FIND("-",LM10)))) -> 1 | LQ10: =IF((LO10>=$CD10)*(LO10<$CE10),TRUE,FALSE) -> TRUE | LR10: =IF((LP10>=$CD10)*(LP10<$CE10),TRUE,FALSE) -> FALSE | LS10: =IF((LO10<=$CD10)*(LP10>=$CE10),TRUE,FALSE) -> TRUE | LT10: =IF(LQ10*LR10,LN10, IF(NOT(LQ10)*LR10,LP10-$CD10, IF(LQ10*NOT(LR10),$CE10-LO10, IF(LS10,$CE10-$CD10,0)))) -> 1 | LU10: =IF(OR(LT10>=1,LT10<=0),0, IF(OR(LO10>=$CG$7,LP10<=$CF$7),0, IF(LO10<$CH$7, IF(LP10<=$CH$7,LP10-LO10,$CH$7-LO10), IF(LO10<$CF$7, IF(LP10<$CG$7,LP10-$CF$7,$CG$7-$CF$7), IF(LP10<$CG$7,LP10-LO10,$CG$7-LO10))))) -> 0 | LV10: =IF(AND(LT10<1,LT10>0), IF(WEEKDAY($B10,2)=6, IF(LO10<$CI$7, IF(LP10<=$CI$7, 0, IF(LP10<=$CF$7, LP10-$CI$7, $CF$7-$CI$7)), IF(LP10<=$CF$7, LP10-LO10, IF($CF$7-LO10<=0, 0, $CF$7-LO10))), IF(WEEKDAY($B10+1,2)=6, IF(LO10<$CI$7+1, IF(LP10<=$CI$7+1, 0, IF(LP10<=$CF$7+1, LP10-$CI$7+1, $CF$7-$CI$7)), IF(LP10<=$CF$7+1, LP10-LO10, IF($CF$7+1-LO10<=0, 0, $CF$7+1-LO10))), 0)), 0) -> 0 | LW10: =IF(AND(LT10<1,LT10>0),IF(WEEKDAY($B10,2)=7,IF(LO10<1,IF(LP10<=1,LP10-LO10,1-LO10),0),IF(WEEKDAY($B10+1,2)=7,IF(LP10<1,0,IF(LO10<1,LP10-1,LP10-LO10)),0)),0) -> 0 | LX10: =IF(AND(LT10<1,LT10>0),IF($BS10=1,IF(AND(LO10<=1,LP10<=1),LN10,IF(AND(LO10<1,LP10>=1),1-LO10,0)),IF($BS11=1,IF(AND(LO10<=1,LP10>1),LP10-1,IF(AND(LO10>1,LP10>1),LP10-LO10,0)),0)),0) -> 0 | LY10: =IF(ISERROR(FIND(";",$AD10,LL10+1)),LEN($AD10)+1,FIND(";",$AD10,LL10+1)) -> 1 | LZ10: =IF(ISERR(MID($AD10,LL10+1,LY10-LL10-1)),"00:00-00:00",MID($AD10,LL10+1,LY10-LL10-1)) -> 00:00-00:00 | MA10: =IF(MC10-MB10<0,MC10-MB10+1,MC10-MB10) -> 1 | MB10: =IF(_xlfn.NUMBERVALUE(LEFT(LZ10,FIND("-",LZ10)))<$CD10,_xlfn.NUMBERVALUE(LEFT(LZ10,FIND("-",LZ10)))+1,_xlfn.NUMBERVALUE(LEFT(LZ10,FIND("-",LZ10)))) -> 0 | MC10: =IF(_xlfn.NUMBERVALUE(RIGHT(LZ10,LEN(LZ10)-FIND("-",LZ10)))<=MB10,_xlfn.NUMBERVALUE(RIGHT(LZ10,LEN(LZ10)-FIND("-",LZ10)))+1,_xlfn.NUMBERVALUE(RIGHT(LZ10,LEN(LZ10)-FIND("-",LZ10)))) -> 1 | MD10: =IF((MB10>=$CD10)*(MB10<$CE10),TRUE,FALSE) -> TRUE | ME10: =IF((MC10>=$CD10)*(MC10<$CE10),TRUE,FALSE) -> FALSE | MF10: =IF((MB10<=$CD10)*(MC10>=$CE10),TRUE,FALSE) -> TRUE | MG10: =IF(MD10*ME10,MA10, IF(NOT(MD10)*ME10,MC10-$CD10, IF(MD10*NOT(ME10),$CE10-MB10, IF(MF10,$CE10-$CD10,0)))) -> 1 | MH10: =IF(OR(MG10>=1,MG10<=0),0, IF(OR(MB10>=$CG$7,MC10<=$CF$7),0, IF(MB10<$CH$7, IF(MC10<=$CH$7,MC10-MB10,$CH$7-MB10), IF(MB10<$CF$7, IF(MC10<$CG$7,MC10-$CF$7,$CG$7-$CF$7), IF(MC10<$CG$7,MC10-MB10,$CG$7-MB10))))) -> 0 | MI10: =IF(AND(MG10<1,MG10>0), IF(WEEKDAY($B10,2)=6, IF(MB10<$CI$7, IF(MC10<=$CI$7, 0, IF(MC10<=$CF$7, MC10-$CI$7, $CF$7-$CI$7)), IF(MC10<=$CF$7, MC10-MB10, IF($CF$7-MB10<=0, 0, $CF$7-MB10))), IF(WEEKDAY($B10+1,2)=6, IF(MB10<$CI$7+1, IF(MC10<=$CI$7+1, 0, IF(MC10<=$CF$7+1, MC10-$CI$7+1, $CF$7-$CI$7)), IF(MC10<=$CF$7+1, MC10-MB10, IF($CF$7+1-MB10<=0, 0, $CF$7+1-MB10))), 0)), 0) -> 0 | MJ10: =IF(AND(MG10<1,MG10>0),IF(WEEKDAY($B10,2)=7,IF(MB10<1,IF(MC10<=1,MC10-MB10,1-MB10),0),IF(WEEKDAY($B10+1,2)=7,IF(MC10<1,0,IF(MB10<1,MC10-1,MC10-MB10)),0)),0) -> 0 | MK10: =IF(AND(MG10<1,MG10>0),IF($BS10=1,IF(AND(MB10<=1,MC10<=1),MA10,IF(AND(MB10<1,MC10>=1),1-MB10,0)),IF($BS11=1,IF(AND(MB10<=1,MC10>1),MC10-1,IF(AND(MB10>1,MC10>1),MC10-MB10,0)),0)),0) -> 0 | ML10: =IF(ISERROR(FIND(";",$AD10,LY10+1)),LEN($AD10)+1,FIND(";",$AD10,LY10+1)) -> 1 | MM10: =IF(ISERR(MID($AD10,LY10+1,ML10-LY10-1)),"00:00-00:00",MID($AD10,LY10+1,ML10-LY10-1)) -> 00:00-00:00 | MN10: =IF(MP10-MO10<0,MP10-MO10+1,MP10-MO10) -> 1 | MO10: =IF(_xlfn.NUMBERVALUE(LEFT(MM10,FIND("-",MM10)))<$CD10,_xlfn.NUMBERVALUE(LEFT(MM10,FIND("-",MM10)))+1,_xlfn.NUMBERVALUE(LEFT(MM10,FIND("-",MM10)))) -> 0 | MP10: =IF(_xlfn.NUMBERVALUE(RIGHT(MM10,LEN(MM10)-FIND("-",MM10)))<=MO10,_xlfn.NUMBERVALUE(RIGHT(MM10,LEN(MM10)-FIND("-",MM10)))+1,_xlfn.NUMBERVALUE(RIGHT(MM10,LEN(MM10)-FIND("-",MM10)))) -> 1 | MQ10: =IF((MO10>=$CD10)*(MO10<$CE10),TRUE,FALSE) -> TRUE | MR10: =IF((MP10>=$CD10)*(MP10<$CE10),TRUE,FALSE) -> FALSE | MS10: =IF((MO10<=$CD10)*(MP10>=$CE10),TRUE,FALSE) -> TRUE | MT10: =IF(MQ10*MR10,MN10, IF(NOT(MQ10)*MR10,MP10-$CD10, IF(MQ10*NOT(MR10),$CE10-MO10, IF(MS10,$CE10-$CD10,0)))) -> 1 | MU10: =IF(OR(MT10>=1,MT10<=0),0, IF(OR(MO10>=$CG$7,MP10<=$CF$7),0, IF(MO10<$CH$7, IF(MP10<=$CH$7,MP10-MO10,$CH$7-MO10), IF(MO10<$CF$7, IF(MP10<$CG$7,MP10-$CF$7,$CG$7-$CF$7), IF(MP10<$CG$7,MP10-MO10,$CG$7-MO10))))) -> 0 | MV10: =IF(AND(MT10<1,MT10>0), IF(WEEKDAY($B10,2)=6, IF(MO10<$CI$7, IF(MP10<=$CI$7, 0, IF(MP10<=$CF$7, MP10-$CI$7, $CF$7-$CI$7)), IF(MP10<=$CF$7, MP10-MO10, IF($CF$7-MO10<=0, 0, $CF$7-MO10))), IF(WEEKDAY($B10+1,2)=6, IF(MO10<$CI$7+1, IF(MP10<=$CI$7+1, 0, IF(MP10<=$CF$7+1, MP10-$CI$7+1, $CF$7-$CI$7)), IF(MP10<=$CF$7+1, MP10-MO10, IF($CF$7+1-MO10<=0, 0, $CF$7+1-MO10))), 0)), 0) -> 0 | MW10: =IF(AND(MT10<1,MT10>0),IF(WEEKDAY($B10,2)=7,IF(MO10<1,IF(MP10<=1,MP10-MO10,1-MO10),0),IF(WEEKDAY($B10+1,2)=7,IF(MP10<1,0,IF(MO10<1,MP10-1,MP10-MO10)),0)),0) -> 0 | MX10: =IF(AND(MT10<1,MT10>0),IF($BS10=1,IF(AND(MO10<=1,MP10<=1),MN10,IF(AND(MO10<1,MP10>=1),1-MO10,0)),IF($BS11=1,IF(AND(MO10<=1,MP10>1),MP10-1,IF(AND(MO10>1,MP10>1),MP10-MO10,0)),0)),0) -> 0 | MY10: =IF(ISERROR(FIND(";",$AD10,ML10+1)),LEN($AD10)+1,FIND(";",$AD10,ML10+1)) -> 1 | MZ10: =IF(ISERR(MID($AD10,ML10+1,MY10-ML10-1)),"00:00-00:00",MID($AD10,ML10+1,MY10-ML10-1)) -> 00:00-00:00 | NA10: =IF(NC10-NB10<0,NC10-NB10+1,NC10-NB10) -> 1 | NB10: =IF(_xlfn.NUMBERVALUE(LEFT(MZ10,FIND("-",MZ10)))<$CD10,_xlfn.NUMBERVALUE(LEFT(MZ10,FIND("-",MZ10)))+1,_xlfn.NUMBERVALUE(LEFT(MZ10,FIND("-",MZ10)))) -> 0 | NC10: =IF(_xlfn.NUMBERVALUE(RIGHT(MZ10,LEN(MZ10)-FIND("-",MZ10)))<=NB10,_xlfn.NUMBERVALUE(RIGHT(MZ10,LEN(MZ10)-FIND("-",MZ10)))+1,_xlfn.NUMBERVALUE(RIGHT(MZ10,LEN(MZ10)-FIND("-",MZ10)))) -> 1 | ND10: =IF((NB10>=$CD10)*(NB10<$CE10),TRUE,FALSE) -> TRUE | NE10: =IF((NC10>=$CD10)*(NC10<$CE10),TRUE,FALSE) -> FALSE | NF10: =IF((NB10<=$CD10)*(NC10>=$CE10),TRUE,FALSE) -> TRUE | NG10: =IF(ND10*NE10,NA10, IF(NOT(ND10)*NE10,NC10-$CD10, IF(ND10*NOT(NE10),$CE10-NB10, IF(NF10,$CE10-$CD10,0)))) -> 1 | NH10: =IF(OR(NG10>=1,NG10<=0),0, IF(OR(NB10>=$CG$7,NC10<=$CF$7),0, IF(NB10<$CH$7, IF(NC10<=$CH$7,NC10-NB10,$CH$7-NB10), IF(NB10<$CF$7, IF(NC10<$CG$7,NC10-$CF$7,$CG$7-$CF$7), IF(NC10<$CG$7,NC10-NB10,$CG$7-NB10))))) -> 0 | NI10: =IF(AND(NG10<1,NG10>0), IF(WEEKDAY($B10,2)=6, IF(NB10<$CI$7, IF(NC10<=$CI$7, 0, IF(NC10<=$CF$7, NC10-$CI$7, $CF$7-$CI$7)), IF(NC10<=$CF$7, NC10-NB10, IF($CF$7-NB10<=0, 0, $CF$7-NB10))), IF(WEEKDAY($B10+1,2)=6, IF(NB10<$CI$7+1, IF(NC10<=$CI$7+1, 0, IF(NC10<=$CF$7+1, NC10-$CI$7+1, $CF$7-$CI$7)), IF(NC10<=$CF$7+1, NC10-NB10, IF($CF$7+1-NB10<=0, 0, $CF$7+1-NB10))), 0)), 0) -> 0 | NJ10: =IF(AND(NG10<1,NG10>0),IF(WEEKDAY($B10,2)=7,IF(NB10<1,IF(NC10<=1,NC10-NB10,1-NB10),0),IF(WEEKDAY($B10+1,2)=7,IF(NC10<1,0,IF(NB10<1,NC10-1,NC10-NB10)),0)),0) -> 0 | NK10: =IF(AND(NG10<1,NG10>0),IF($BS10=1,IF(AND(NB10<=1,NC10<=1),NA10,IF(AND(NB10<1,NC10>=1),1-NB10,0)),IF($BS11=1,IF(AND(NB10<=1,NC10>1),NC10-1,IF(AND(NB10>1,NC10>1),NC10-NB10,0)),0)),0) -> 0 | NL10: =IF(ISERROR(FIND(";",$AD10,MY10+1)),LEN($AD10)+1,FIND(";",$AD10,MY10+1)) -> 1 | NM10: =IF(ISERR(MID($AD10,MY10+1,NL10-MY10-1)),"00:00-00:00",MID($AD10,MY10+1,NL10-MY10-1)) -> 00:00-00:00 | NN10: =IF(NP10-NO10<0,NP10-NO10+1,NP10-NO10) -> 1 | NO10: =IF(_xlfn.NUMBERVALUE(LEFT(NM10,FIND("-",NM10)))<$CD10,_xlfn.NUMBERVALUE(LEFT(NM10,FIND("-",NM10)))+1,_xlfn.NUMBERVALUE(LEFT(NM10,FIND("-",NM10)))) -> 0 | NP10: =IF(_xlfn.NUMBERVALUE(RIGHT(NM10,LEN(NM10)-FIND("-",NM10)))<=NO10,_xlfn.NUMBERVALUE(RIGHT(NM10,LEN(NM10)-FIND("-",NM10)))+1,_xlfn.NUMBERVALUE(RIGHT(NM10,LEN(NM10)-FIND("-",NM10)))) -> 1 | NQ10: =IF((NO10>=$CD10)*(NO10<$CE10),TRUE,FALSE) -> TRUE | NR10: =IF((NP10>=$CD10)*(NP10<$CE10),TRUE,FALSE) -> FALSE | NS10: =IF((NO10<=$CD10)*(NP10>=$CE10),TRUE,FALSE) -> TRUE | NT10: =IF(NQ10*NR10,NN10, IF(NOT(NQ10)*NR10,NP10-$CD10, IF(NQ10*NOT(NR10),$CE10-NO10, IF(NS10,$CE10-$CD10,0)))) -> 1 | NU10: =IF(OR(NT10>=1,NT10<=0),0, IF(OR(NO10>=$CG$7,NP10<=$CF$7),0, IF(NO10<$CH$7, IF(NP10<=$CH$7,NP10-NO10,$CH$7-NO10), IF(NO10<$CF$7, IF(NP10<$CG$7,NP10-$CF$7,$CG$7-$CF$7), IF(NP10<$CG$7,NP10-NO10,$CG$7-NO10))))) -> 0 | NV10: =IF(AND(NT10<1,NT10>0), IF(WEEKDAY($B10,2)=6, IF(NO10<$CI$7, IF(NP10<=$CI$7, 0, IF(NP10<=$CF$7, NP10-$CI$7, $CF$7-$CI$7)), IF(NP10<=$CF$7, NP10-NO10, IF($CF$7-NO10<=0, 0, $CF$7-NO10))), IF(WEEKDAY($B10+1,2)=6, IF(NO10<$CI$7+1, IF(NP10<=$CI$7+1, 0, IF(NP10<=$CF$7+1, NP10-$CI$7+1, $CF$7-$CI$7)), IF(NP10<=$CF$7+1, NP10-NO10, IF($CF$7+1-NO10<=0, 0, $CF$7+1-NO10))), 0)), 0) -> 0 | NW10: =IF(AND(NT10<1,NT10>0),IF(WEEKDAY($B10,2)=7,IF(NO10<1,IF(NP10<=1,NP10-NO10,1-NO10),0),IF(WEEKDAY($B10+1,2)=7,IF(NP10<1,0,IF(NO10<1,NP10-1,NP10-NO10)),0)),0) -> 0 | NX10: =IF(AND(NT10<1,NT10>0),IF($BS10=1,IF(AND(NO10<=1,NP10<=1),NN10,IF(AND(NO10<1,NP10>=1),1-NO10,0)),IF($BS11=1,IF(AND(NO10<=1,NP10>1),NP10-1,IF(AND(NO10>1,NP10>1),NP10-NO10,0)),0)),0) -> 0 | NY10: =IF(ISERROR(FIND(";",$AD10,NL10+1)),LEN($AD10)+1,FIND(";",$AD10,NL10+1)) -> 1 | NZ10: =IF(ISERR(MID($AD10,NL10+1,NY10-NL10-1)),"00:00-00:00",MID($AD10,NL10+1,NY10-NL10-1)) -> 00:00-00:00 | OA10: =IF(OC10-OB10<0,OC10-OB10+1,OC10-OB10) -> 1 | OB10: =IF(_xlfn.NUMBERVALUE(LEFT(NZ10,FIND("-",NZ10)))<$CD10,_xlfn.NUMBERVALUE(LEFT(NZ10,FIND("-",NZ10)))+1,_xlfn.NUMBERVALUE(LEFT(NZ10,FIND("-",NZ10)))) -> 0 | OC10: =IF(_xlfn.NUMBERVALUE(RIGHT(NZ10,LEN(NZ10)-FIND("-",NZ10)))<=OB10,_xlfn.NUMBERVALUE(RIGHT(NZ10,LEN(NZ10)-FIND("-",NZ10)))+1,_xlfn.NUMBERVALUE(RIGHT(NZ10,LEN(NZ10)-FIND("-",NZ10)))) -> 1 | OD10: =IF((OB10>=$CD10)*(OB10<$CE10),TRUE,FALSE) -> TRUE | OE10: =IF((OC10>=$CD10)*(OC10<$CE10),TRUE,FALSE) -> FALSE | OF10: =IF((OB10<=$CD10)*(OC10>=$CE10),TRUE,FALSE) -> TRUE | OG10: =IF(OD10*OE10,OA10, IF(NOT(OD10)*OE10,OC10-$CD10, IF(OD10*NOT(OE10),$CE10-OB10, IF(OF10,$CE10-$CD10,0)))) -> 1 | OH10: =IF(OR(OG10>=1,OG10<=0),0, IF(OR(OB10>=$CG$7,OC10<=$CF$7),0, IF(OB10<$CH$7, IF(OC10<=$CH$7,OC10-OB10,$CH$7-OB10), IF(OB10<$CF$7, IF(OC10<$CG$7,OC10-$CF$7,$CG$7-$CF$7), IF(OC10<$CG$7,OC10-OB10,$CG$7-OB10))))) -> 0 | OI10: =IF(AND(OG10<1,OG10>0), IF(WEEKDAY($B10,2)=6, IF(OB10<$CI$7, IF(OC10<=$CI$7, 0, IF(OC10<=$CF$7, OC10-$CI$7, $CF$7-$CI$7)), IF(OC10<=$CF$7, OC10-OB10, IF($CF$7-OB10<=0, 0, $CF$7-OB10))), IF(WEEKDAY($B10+1,2)=6, IF(OB10<$CI$7+1, IF(OC10<=$CI$7+1, 0, IF(OC10<=$CF$7+1, OC10-$CI$7+1, $CF$7-$CI$7)), IF(OC10<=$CF$7+1, OC10-OB10, IF($CF$7+1-OB10<=0, 0, $CF$7+1-OB10))), 0)), 0) -> 0 | OJ10: =IF(AND(OG10<1,OG10>0),IF(WEEKDAY($B10,2)=7,IF(OB10<1,IF(OC10<=1,OC10-OB10,1-OB10),0),IF(WEEKDAY($B10+1,2)=7,IF(OC10<1,0,IF(OB10<1,OC10-1,OC10-OB10)),0)),0) -> 0 | OK10: =IF(AND(OG10<1,OG10>0),IF($BS10=1,IF(AND(OB10<=1,OC10<=1),OA10,IF(AND(OB10<1,OC10>=1),1-OB10,0)),IF($BS11=1,IF(AND(OB10<=1,OC10>1),OC10-1,IF(AND(OB10>1,OC10>1),OC10-OB10,0)),0)),0) -> 0 | OL10: =IF(ISERROR(FIND(";",$AD10,NY10+1)),LEN($AD10)+1,FIND(";",$AD10,NY10+1)) -> 1 | OM10: =IF(ISERR(MID($AD10,NY10+1,OL10-NY10-1)),"00:00-00:00",MID($AD10,NY10+1,OL10-NY10-1)) -> 00:00-00:00 | ON10: =IF(OP10-OO10<0,OP10-OO10+1,OP10-OO10) -> 1 | OO10: =IF(_xlfn.NUMBERVALUE(LEFT(OM10,FIND("-",OM10)))<$CD10,_xlfn.NUMBERVALUE(LEFT(OM10,FIND("-",OM10)))+1,_xlfn.NUMBERVALUE(LEFT(OM10,FIND("-",OM10)))) -> 0 | OP10: =IF(_xlfn.NUMBERVALUE(RIGHT(OM10,LEN(OM10)-FIND("-",OM10)))<=OO10,_xlfn.NUMBERVALUE(RIGHT(OM10,LEN(OM10)-FIND("-",OM10)))+1,_xlfn.NUMBERVALUE(RIGHT(OM10,LEN(OM10)-FIND("-",OM10)))) -> 1 | OQ10: =IF((OO10>=$CD10)*(OO10<$CE10),TRUE,FALSE) -> TRUE | OR10: =IF((OP10>=$CD10)*(OP10<$CE10),TRUE,FALSE) -> FALSE | OS10: =IF((OO10<=$CD10)*(OP10>=$CE10),TRUE,FALSE) -> TRUE | OT10: =IF(OQ10*OR10,ON10, IF(NOT(OQ10)*OR10,OP10-$CD10, IF(OQ10*NOT(OR10),$CE10-OO10, IF(OS10,$CE10-$CD10,0)))) -> 1 | OU10: =IF(OR(OT10>=1,OT10<=0),0, IF(OR(OO10>=$CG$7,OP10<=$CF$7),0, IF(OO10<$CH$7, IF(OP10<=$CH$7,OP10-OO10,$CH$7-OO10), IF(OO10<$CF$7, IF(OP10<$CG$7,OP10-$CF$7,$CG$7-$CF$7), IF(OP10<$CG$7,OP10-OO10,$CG$7-OO10))))) -> 0 | OV10: =IF(AND(OT10<1,OT10>0), IF(WEEKDAY($B10,2)=6, IF(OO10<$CI$7, IF(OP10<=$CI$7, 0, IF(OP10<=$CF$7, OP10-$CI$7, $CF$7-$CI$7)), IF(OP10<=$CF$7, OP10-OO10, IF($CF$7-OO10<=0, 0, $CF$7-OO10))), IF(WEEKDAY($B10+1,2)=6, IF(OO10<$CI$7+1, IF(OP10<=$CI$7+1, 0, IF(OP10<=$CF$7+1, OP10-$CI$7+1, $CF$7-$CI$7)), IF(OP10<=$CF$7+1, OP10-OO10, IF($CF$7+1-OO10<=0, 0, $CF$7+1-OO10))), 0)), 0) -> 0 | OW10: =IF(AND(OT10<1,OT10>0),IF(WEEKDAY($B10,2)=7,IF(OO10<1,IF(OP10<=1,OP10-OO10,1-OO10),0),IF(WEEKDAY($B10+1,2)=7,IF(OP10<1,0,IF(OO10<1,OP10-1,OP10-OO10)),0)),0) -> 0 | OX10: =IF(AND(OT10<1,OT10>0),IF($BS10=1,IF(AND(OO10<=1,OP10<=1),ON10,IF(AND(OO10<1,OP10>=1),1-OO10,0)),IF($BS11=1,IF(AND(OO10<=1,OP10>1),OP10-1,IF(AND(OO10>1,OP10>1),OP10-OO10,0)),0)),0) -> 0 | OY10: =IF(ISERROR(FIND(";",$AD10,OL10+1)),LEN($AD10)+1,FIND(";",$AD10,OL10+1)) -> 1 | OZ10: =IF(ISERR(MID($AD10,OL10+1,OY10-OL10-1)),"00:00-00:00",MID($AD10,OL10+1,OY10-OL10-1)) -> 00:00-00:00 | PA10: =IF(PC10-PB10<0,PC10-PB10+1,PC10-PB10) -> 1 | PB10: =IF(_xlfn.NUMBERVALUE(LEFT(OZ10,FIND("-",OZ10)))<$CD10,_xlfn.NUMBERVALUE(LEFT(OZ10,FIND("-",OZ10)))+1,_xlfn.NUMBERVALUE(LEFT(OZ10,FIND("-",OZ10)))) -> 0 | PC10: =IF(_xlfn.NUMBERVALUE(RIGHT(OZ10,LEN(OZ10)-FIND("-",OZ10)))<=PB10,_xlfn.NUMBERVALUE(RIGHT(OZ10,LEN(OZ10)-FIND("-",OZ10)))+1,_xlfn.NUMBERVALUE(RIGHT(OZ10,LEN(OZ10)-FIND("-",OZ10)))) -> 1 | PD10: =IF((PB10>=$CD10)*(PB10<$CE10),TRUE,FALSE) -> TRUE | PE10: =IF((PC10>=$CD10)*(PC10<$CE10),TRUE,FALSE) -> FALSE | PF10: =IF((PB10<=$CD10)*(PC10>=$CE10),TRUE,FALSE) -> TRUE | PG10: =IF(PD10*PE10,PA10, IF(NOT(PD10)*PE10,PC10-$CD10, IF(PD10*NOT(PE10),$CE10-PB10, IF(PF10,$CE10-$CD10,0)))) -> 1 | PH10: =IF(OR(PG10>=1,PG10<=0),0, IF(OR(PB10>=$CG$7,PC10<=$CF$7),0, IF(PB10<$CH$7, IF(PC10<=$CH$7,PC10-PB10,$CH$7-PB10), IF(PB10<$CF$7, IF(PC10<$CG$7,PC10-$CF$7,$CG$7-$CF$7), IF(PC10<$CG$7,PC10-PB10,$CG$7-PB10))))) -> 0 | PI10: =IF(AND(PG10<1,PG10>0), IF(WEEKDAY($B10,2)=6, IF(PB10<$CI$7, IF(PC10<=$CI$7, 0, IF(PC10<=$CF$7, PC10-$CI$7, $CF$7-$CI$7)), IF(PC10<=$CF$7, PC10-PB10, IF($CF$7-PB10<=0, 0, $CF$7-PB10))), IF(WEEKDAY($B10+1,2)=6, IF(PB10<$CI$7+1, IF(PC10<=$CI$7+1, 0, IF(PC10<=$CF$7+1, PC10-$CI$7+1, $CF$7-$CI$7)), IF(PC10<=$CF$7+1, PC10-PB10, IF($CF$7+1-PB10<=0, 0, $CF$7+1-PB10))), 0)), 0) -> 0 | PJ10: =IF(AND(PG10<1,PG10>0),IF(WEEKDAY($B10,2)=7,IF(PB10<1,IF(PC10<=1,PC10-PB10,1-PB10),0),IF(WEEKDAY($B10+1,2)=7,IF(PC10<1,0,IF(PB10<1,PC10-1,PC10-PB10)),0)),0) -> 0 | PK10: =IF(AND(PG10<1,PG10>0),IF($BS10=1,IF(AND(PB10<=1,PC10<=1),PA10,IF(AND(PB10<1,PC10>=1),1-PB10,0)),IF($BS11=1,IF(AND(PB10<=1,PC10>1),PC10-1,IF(AND(PB10>1,PC10>1),PC10-PB10,0)),0)),0) -> 0 | PL10: =IF(ISERROR(FIND(";",$AD10,OY10+1)),LEN($AD10)+1,FIND(";",$AD10,OY10+1)) -> 1 | PM10: =IF(ISERR(MID($AD10,OY10+1,PL10-OY10-1)),"00:00-00:00",MID($AD10,OY10+1,PL10-OY10-1)) -> 00:00-00:00 | PN10: =IF(PP10-PO10<0,PP10-PO10+1,PP10-PO10) -> 1 | PO10: =IF(_xlfn.NUMBERVALUE(LEFT(PM10,FIND("-",PM10)))<$CD10,_xlfn.NUMBERVALUE(LEFT(PM10,FIND("-",PM10)))+1,_xlfn.NUMBERVALUE(LEFT(PM10,FIND("-",PM10)))) -> 0 | PP10: =IF(_xlfn.NUMBERVALUE(RIGHT(PM10,LEN(PM10)-FIND("-",PM10)))<=PO10,_xlfn.NUMBERVALUE(RIGHT(PM10,LEN(PM10)-FIND("-",PM10)))+1,_xlfn.NUMBERVALUE(RIGHT(PM10,LEN(PM10)-FIND("-",PM10)))) -> 1 | PQ10: =IF((PO10>=$CD10)*(PO10<$CE10),TRUE,FALSE) -> TRUE | PR10: =IF((PP10>=$CD10)*(PP10<$CE10),TRUE,FALSE) -> FALSE | PS10: =IF((PO10<=$CD10)*(PP10>=$CE10),TRUE,FALSE) -> TRUE | PT10: =IF(PQ10*PR10,PN10, IF(NOT(PQ10)*PR10,PP10-$CD10, IF(PQ10*NOT(PR10),$CE10-PO10, IF(PS10,$CE10-$CD10,0)))) -> 1 | PU10: =IF(OR(PT10>=1,PT10<=0),0, IF(OR(PO10>=$CG$7,PP10<=$CF$7),0, IF(PO10<$CH$7, IF(PP10<=$CH$7,PP10-PO10,$CH$7-PO10), IF(PO10<$CF$7, IF(PP10<$CG$7,PP10-$CF$7,$CG$7-$CF$7), IF(PP10<$CG$7,PP10-PO10,$CG$7-PO10))))) -> 0 | PV10: =IF(AND(PT10<1,PT10>0), IF(WEEKDAY($B10,2)=6, IF(PO10<$CI$7, IF(PP10<=$CI$7, 0, IF(PP10<=$CF$7, PP10-$CI$7, $CF$7-$CI$7)), IF(PP10<=$CF$7, PP10-PO10, IF($CF$7-PO10<=0, 0, $CF$7-PO10))), IF(WEEKDAY($B10+1,2)=6, IF(PO10<$CI$7+1, IF(PP10<=$CI$7+1, 0, IF(PP10<=$CF$7+1, PP10-$CI$7+1, $CF$7-$CI$7)), IF(PP10<=$CF$7+1, PP10-PO10, IF($CF$7+1-PO10<=0, 0, $CF$7+1-PO10))), 0)), 0) -> 0 | PW10: =IF(AND(PT10<1,PT10>0),IF(WEEKDAY($B10,2)=7,IF(PO10<1,IF(PP10<=1,PP10-PO10,1-PO10),0),IF(WEEKDAY($B10+1,2)=7,IF(PP10<1,0,IF(PO10<1,PP10-1,PP10-PO10)),0)),0) -> 0 | PX10: =IF(AND(PT10<1,PT10>0),IF($BS10=1,IF(AND(PO10<=1,PP10<=1),PN10,IF(AND(PO10<1,PP10>=1),1-PO10,0)),IF($BS11=1,IF(AND(PO10<=1,PP10>1),PP10-1,IF(AND(PO10>1,PP10>1),PP10-PO10,0)),0)),0) -> 0 | PY10: =IF(ISERROR(FIND(";",$AD10,PL10+1)),LEN($AD10)+1,FIND(";",$AD10,PL10+1)) -> 1 | PZ10: =IF(ISERR(MID($AD10,PL10+1,PY10-PL10-1)),"00:00-00:00",MID($AD10,PL10+1,PY10-PL10-1)) -> 00:00-00:00 | QA10: =IF(QC10-QB10<0,QC10-QB10+1,QC10-QB10) -> 1 | QB10: =IF(_xlfn.NUMBERVALUE(LEFT(PZ10,FIND("-",PZ10)))<$CD10,_xlfn.NUMBERVALUE(LEFT(PZ10,FIND("-",PZ10)))+1,_xlfn.NUMBERVALUE(LEFT(PZ10,FIND("-",PZ10)))) -> 0 | QC10: =IF(_xlfn.NUMBERVALUE(RIGHT(PZ10,LEN(PZ10)-FIND("-",PZ10)))<=QB10,_xlfn.NUMBERVALUE(RIGHT(PZ10,LEN(PZ10)-FIND("-",PZ10)))+1,_xlfn.NUMBERVALUE(RIGHT(PZ10,LEN(PZ10)-FIND("-",PZ10)))) -> 1 | QD10: =IF((QB10>=$CD10)*(QB10<$CE10),TRUE,FALSE) -> TRUE | QE10: =IF((QC10>=$CD10)*(QC10<$CE10),TRUE,FALSE) -> FALSE | QF10: =IF((QB10<=$CD10)*(QC10>=$CE10),TRUE,FALSE) -> TRUE | QG10: =IF(QD10*QE10,QA10, IF(NOT(QD10)*QE10,QC10-$CD10, IF(QD10*NOT(QE10),$CE10-QB10, IF(QF10,$CE10-$CD10,0)))) -> 1 | QH10: =IF(OR(QG10>=1,QG10<=0),0, IF(OR(QB10>=$CG$7,QC10<=$CF$7),0, IF(QB10<$CH$7, IF(QC10<=$CH$7,QC10-QB10,$CH$7-QB10), IF(QB10<$CF$7, IF(QC10<$CG$7,QC10-$CF$7,$CG$7-$CF$7), IF(QC10<$CG$7,QC10-QB10,$CG$7-QB10))))) -> 0 | QI10: =IF(AND(QG10<1,QG10>0), IF(WEEKDAY($B10,2)=6, IF(QB10<$CI$7, IF(QC10<=$CI$7, 0, IF(QC10<=$CF$7, QC10-$CI$7, $CF$7-$CI$7)), IF(QC10<=$CF$7, QC10-QB10, IF($CF$7-QB10<=0, 0, $CF$7-QB10))), IF(WEEKDAY($B10+1,2)=6, IF(QB10<$CI$7+1, IF(QC10<=$CI$7+1, 0, IF(QC10<=$CF$7+1, QC10-$CI$7+1, $CF$7-$CI$7)), IF(QC10<=$CF$7+1, QC10-QB10, IF($CF$7+1-QB10<=0, 0, $CF$7+1-QB10))), 0)), 0) -> 0 | QJ10: =IF(AND(QG10<1,QG10>0),IF(WEEKDAY($B10,2)=7,IF(QB10<1,IF(QC10<=1,QC10-QB10,1-QB10),0),IF(WEEKDAY($B10+1,2)=7,IF(QC10<1,0,IF(QB10<1,QC10-1,QC10-QB10)),0)),0) -> 0 | QK10: =IF(AND(QG10<1,QG10>0),IF($BS10=1,IF(AND(QB10<=1,QC10<=1),QA10,IF(AND(QB10<1,QC10>=1),1-QB10,0)),IF($BS11=1,IF(AND(QB10<=1,QC10>1),QC10-1,IF(AND(QB10>1,QC10>1),QC10-QB10,0)),0)),0) -> 0 | QL10: =IF(ISERROR(FIND(";",$AD10,PY10+1)),LEN($AD10)+1,FIND(";",$AD10,PY10+1)) -> 1 | QM10: =IF(ISERR(MID($AD10,PY10+1,QL10-PY10-1)),"00:00-00:00",MID($AD10,PY10+1,QL10-PY10-1)) -> 00:00-00:00 | QN10: =IF(QP10-QO10<0,QP10-QO10+1,QP10-QO10) -> 1 | QO10: =IF(_xlfn.NUMBERVALUE(LEFT(QM10,FIND("-",QM10)))<$CD10,_xlfn.NUMBERVALUE(LEFT(QM10,FIND("-",QM10)))+1,_xlfn.NUMBERVALUE(LEFT(QM10,FIND("-",QM10)))) -> 0 | QP10: =IF(_xlfn.NUMBERVALUE(RIGHT(QM10,LEN(QM10)-FIND("-",QM10)))<=QO10,_xlfn.NUMBERVALUE(RIGHT(QM10,LEN(QM10)-FIND("-",QM10)))+1,_xlfn.NUMBERVALUE(RIGHT(QM10,LEN(QM10)-FIND("-",QM10)))) -> 1 | QQ10: =IF((QO10>=$CD10)*(QO10<$CE10),TRUE,FALSE) -> TRUE | QR10: =IF((QP10>=$CD10)*(QP10<$CE10),TRUE,FALSE) -> FALSE | QS10: =IF((QO10<=$CD10)*(QP10>=$CE10),TRUE,FALSE) -> TRUE | QT10: =IF(QQ10*QR10,QN10, IF(NOT(QQ10)*QR10,QP10-$CD10, IF(QQ10*NOT(QR10),$CE10-QO10, IF(QS10,$CE10-$CD10,0)))) -> 1 | QU10: =IF(OR(QT10>=1,QT10<=0),0, IF(OR(QO10>=$CG$7,QP10<=$CF$7),0, IF(QO10<$CH$7, IF(QP10<=$CH$7,QP10-QO10,$CH$7-QO10), IF(QO10<$CF$7, IF(QP10<$CG$7,QP10-$CF$7,$CG$7-$CF$7), IF(QP10<$CG$7,QP10-QO10,$CG$7-QO10))))) -> 0 | QV10: =IF(AND(QT10<1,QT10>0), IF(WEEKDAY($B10,2)=6, IF(QO10<$CI$7, IF(QP10<=$CI$7, 0, IF(QP10<=$CF$7, QP10-$CI$7, $CF$7-$CI$7)), IF(QP10<=$CF$7, QP10-QO10, IF($CF$7-QO10<=0, 0, $CF$7-QO10))), IF(WEEKDAY($B10+1,2)=6, IF(QO10<$CI$7+1, IF(QP10<=$CI$7+1, 0, IF(QP10<=$CF$7+1, QP10-$CI$7+1, $CF$7-$CI$7)), IF(QP10<=$CF$7+1, QP10-QO10, IF($CF$7+1-QO10<=0, 0, $CF$7+1-QO10))), 0)), 0) -> 0 | QW10: =IF(AND(QT10<1,QT10>0),IF(WEEKDAY($B10,2)=7,IF(QO10<1,IF(QP10<=1,QP10-QO10,1-QO10),0),IF(WEEKDAY($B10+1,2)=7,IF(QP10<1,0,IF(QO10<1,QP10-1,QP10-QO10)),0)),0) -> 0 | QX10: =IF(AND(QT10<1,QT10>0),IF($BS10=1,IF(AND(QO10<=1,QP10<=1),QN10,IF(AND(QO10<1,QP10>=1),1-QO10,0)),IF($BS11=1,IF(AND(QO10<=1,QP10>1),QP10-1,IF(AND(QO10>1,QP10>1),QP10-QO10,0)),0)),0) -> 0 | QY10: =IF(ISERROR(FIND(";",$AD10,QL10+1)),LEN($AD10)+1,FIND(";",$AD10,QL10+1)) -> 1 | QZ10: =IF(ISERR(MID($AD10,QL10+1,QY10-QL10-1)),"00:00-00:00",MID($AD10,QL10+1,QY10-QL10-1)) -> 00:00-00:00 | RA10: =IF(RC10-RB10<0,RC10-RB10+1,RC10-RB10) -> 1 | RB10: =IF(_xlfn.NUMBERVALUE(LEFT(QZ10,FIND("-",QZ10)))<$CD10,_xlfn.NUMBERVALUE(LEFT(QZ10,FIND("-",QZ10)))+1,_xlfn.NUMBERVALUE(LEFT(QZ10,FIND("-",QZ10)))) -> 0 | RC10: =IF(_xlfn.NUMBERVALUE(RIGHT(QZ10,LEN(QZ10)-FIND("-",QZ10)))<=RB10,_xlfn.NUMBERVALUE(RIGHT(QZ10,LEN(QZ10)-FIND("-",QZ10)))+1,_xlfn.NUMBERVALUE(RIGHT(QZ10,LEN(QZ10)-FIND("-",QZ10)))) -> 1 | RD10: =IF((RB10>=$CD10)*(RB10<$CE10),TRUE,FALSE) -> TRUE | RE10: =IF((RC10>=$CD10)*(RC10<$CE10),TRUE,FALSE) -> FALSE | RF10: =IF((RB10<=$CD10)*(RC10>=$CE10),TRUE,FALSE) -> TRUE | RG10: =IF(RD10*RE10,RA10, IF(NOT(RD10)*RE10,RC10-$CD10, IF(RD10*NOT(RE10),$CE10-RB10, IF(RF10,$CE10-$CD10,0)))) -> 1 | RH10: =IF(OR(RG10>=1,RG10<=0),0, IF(OR(RB10>=$CG$7,RC10<=$CF$7),0, IF(RB10<$CH$7, IF(RC10<=$CH$7,RC10-RB10,$CH$7-RB10), IF(RB10<$CF$7, IF(RC10<$CG$7,RC10-$CF$7,$CG$7-$CF$7), IF(RC10<$CG$7,RC10-RB10,$CG$7-RB10))))) -> 0 | RI10: =IF(AND(RG10<1,RG10>0), IF(WEEKDAY($B10,2)=6, IF(RB10<$CI$7, IF(RC10<=$CI$7, 0, IF(RC10<=$CF$7, RC10-$CI$7, $CF$7-$CI$7)), IF(RC10<=$CF$7, RC10-RB10, IF($CF$7-RB10<=0, 0, $CF$7-RB10))), IF(WEEKDAY($B10+1,2)=6, IF(RB10<$CI$7+1, IF(RC10<=$CI$7+1, 0, IF(RC10<=$CF$7+1, RC10-$CI$7+1, $CF$7-$CI$7)), IF(RC10<=$CF$7+1, RC10-RB10, IF($CF$7+1-RB10<=0, 0, $CF$7+1-RB10))), 0)), 0) -> 0 | RJ10: =IF(AND(RG10<1,RG10>0),IF(WEEKDAY($B10,2)=7,IF(RB10<1,IF(RC10<=1,RC10-RB10,1-RB10),0),IF(WEEKDAY($B10+1,2)=7,IF(RC10<1,0,IF(RB10<1,RC10-1,RC10-RB10)),0)),0) -> 0 | RK10: =IF(AND(RG10<1,RG10>0),IF($BS10=1,IF(AND(RB10<=1,RC10<=1),RA10,IF(AND(RB10<1,RC10>=1),1-RB10,0)),IF($BS11=1,IF(AND(RB10<=1,RC10>1),RC10-1,IF(AND(RB10>1,RC10>1),RC10-RB10,0)),0)),0) -> 0 | RL10: =IF(AND(ISBLANK(Z10),ISBLANK(AA10)),0,SUM(RG10,QT10,PT10,QG10,PG10,OT10,OG10,NT10,NG10,MT10,MG10,LT10,LG10,KT10,KG10)) -> 0 | RM10: =(IF((ROUND(RL10*24,14)-INT(ROUND(RL10*24,14)))=0,ROUND(RL10*24,14),IF((ROUND(RL10*24,14)-INT(ROUND(RL10*24,14)))<=0.5,INT(ROUND(RL10*24,14))+0.5,INT(ROUND(RL10*24,14))+1))) -> 0 | RN10: =IF(AND(ISBLANK(Z10),ISBLANK(AA10)),0,SUM(RH10,QU10,PU10,QH10,PH10,OU10,OH10,NU10,NH10,MU10,MH10,LU10,LH10,KU10,KH10)) -> 0 | RO10: =IF(AND(ISBLANK(Z10),ISBLANK(AA10)),0,SUM(RI10,QV10,PV10,QI10,PI10,OV10,OI10,NV10,NI10,MV10,MI10,LV10,LI10,KV10,KI10)) -> 0 | RP10: =IF(AND(ISBLANK(Z10),ISBLANK(AA10)),0,SUM(RJ10,QW10,PW10,QJ10,PJ10,OW10,OJ10,NW10,NJ10,MW10,MJ10,LW10,LJ10,KW10,KJ10)) -> 0 | RQ10: =IF(AND(ISBLANK(Z10),ISBLANK(AA10)),0,SUM(RK10,QX10,PX10,QK10,PK10,OX10,OK10,NX10,NK10,MX10,MK10,LX10,LK10,KX10,KK10)) -> 0 | RR10: =IF(Q10="",0,Q10) -> 0 | RS10: =IF(A10=A9,RR10+RS9,RR10) -> 0
A11: =WEEKNUM(B11,21) -> 1 | B11: =B10+1 -> 43831 | C11: =NETWORKDAYS(B11,B11,Feiertage) -> 1 | D11: =IF(ISERROR(VLOOKUP(B11,Feiertage_Liste,3,FALSE)),"",(VLOOKUP(B11,Feiertage_Liste,3,FALSE))) | E11: =D11 | F11: =B11 -> 43831 | N11: =IF(BK11=0,"",BK11) | O11: =IF(BJ11=0,"",BJ11) | P11: =IF(OR(C11=0,B11=""),"",BZ11) -> 0.33333333 | Q11: =IF(OR(AND(BJ11>0,B11<>"",G11=""),VLOOKUP((G11),Code_Liste,5,FALSE)=1),IF(ROUND(BJ11-BZ11,15)=0,"",ROUND(+BJ11-BZ11,15)),IF(AND(VLOOKUP(G11,Code_Liste,5,FALSE)=2,ROUND(+BJ11-BZ11,15)>0),ROUND(+BJ11-BZ11,15),"")) | R11: =IF(A11<WEEKNUM(B11+1,21),RS11,"") | T11: =IF(BM11+BN11+RN11+JT11<=0,"",BM11+BN11+RN11+JT11) | U11: =IF(OR(RO11+JU11>0,AND(WEEKDAY(B11,2)=6,BP11+BQ11>0)),BP11+BQ11+RO11+JU11,"") | V11: =IF(BR11+RP11+JV11>0,BR11+RP11+JV11,"") | W11: =IF(BO11+RQ11+JW11>0,BO11+RQ11+JW11,"") | X11: =IF(AND(UPPER(G11)=Stammdaten!$D$47,Q11>0),Q11,"") | AC11: =IF(JS11=0,"",JS11) | AE11: =IF(RM11=0,"",RM11) | AF11: =IF(AJ11=0,"",AJ11) | AG11: =AH11 | AH11: =IF(AI11=0,"",IF(AI11<12/24,ROUND(AI11*0.125,15),IF(C11=0,4/24,2/24))) | AI11: =IF(AND(ISBLANK(Z11),ISBLANK(AA11)),0,IF(AA11-Z11<=0,AA11+1-Z11,AA11-Z11)) -> 0 | AJ11: =SUM(AE11,AC11)/24 -> 0 | AK11: =IF(G11=Stammdaten!$I$59,3,IF(AND(OR(C11=0,WEEKDAY(B11,2)>=6),Q11<>""),2,0)) -> 0 | AL11: =H11 -> 0 | AM11: =I11 -> 0 | AN11: =J11 -> 0 | AO11: =AM11-AL11 -> 0 | AP11: 0 | AQ11: =IF(OR(AO11-AN11-AP11<=6/24,AND(AO11-AN11-AP11<=9/24, AN11+AP11>=0.5/24),AN11+AP11>=0.75/24),AO11-AN11-AP11,IF(AND(AO11-AN11-AP11<=9/24,AN11+AP11<0.5/24),AO11-0.5/24,IF(AND(AO11-AN11-AP11>9/24,AN11+AP11<0.75/24),AO11-0.75/24,"Fehler NettoStundenBerechnung"))) -> 0 | AR11: =IF(AND(BE11,K11>AL11),AL11,K11) -> 0 | AS11: =IF(AND(BE11,L11<AM11,NOT(ISBLANK(K11))),AM11,L11) -> 0 | AT11: =M11 -> 0 | AU11: =AS11-AR11 -> 0 | AV11: 0 | AW11: =IF(OR(AU11-AT11-AV11<=6/24,AND(AU11-AT11-AV11<=9/24, AT11+AV11>=0.5/24),AT11+AV11>=0.75/24),AU11-AT11-AV11,IF(AND(AU11-AT11-AV11<=9/24,AT11+AV11<0.5/24),AU11-0.5/24,IF(AND(AU11-AT11-AV11>9/24,AT11+AV11<0.75/24),AU11-0.75/24,"Fehler NettoStundenBerechnung"))) -> 0 | AX11: =H11 -> 0 | AY11: =IF(ISBLANK(L11),I11,L11) -> 0 | AZ11: =J11+M11 -> 0 | BA11: =AY11-AX11 -> 0 | BB11: =IF(K11>=I11,K11-I11,0) -> 0 | BC11: =IF(OR(BA11-AZ11-BB11<=6/24,AND(BA11-AZ11-BB11<=9/24, AZ11+BB11>=0.5/24),AZ11+BB11>=0.75/24),BA11-AZ11-BB11,IF(AND(BA11-AZ11-BB11<=9/24,AZ11+BB11<0.5/24),BA11-0.5/24,IF(AND(BA11-AZ11-BB11>9/24,AZ11+BB11<0.75/24),BA11-0.75/24,"Fehler NettoStundenBerechnung"))) -> 0 | BD11: =IF(BB11>=max_Unterbrechung, FALSE,TRUE) -> TRUE | BE11: =IF(UPPER(G11)=Stammdaten!$D$40,TRUE,FALSE) -> FALSE | BF11: =IF(BE11,AQ11,IF(BD11,BC11,AW11+AQ11)) -> 0 | BG11: =IF(UPPER(G11)=Stammdaten!$D$39,IF(C11=0,AU11/2,IF(AU11>=10/24,10/24,AU11)),0) -> 0 | BH11: =IF(OR(C11=0,B11=""),0,INDIRECT(ADDRESS(MATCH(B11,Soll_AZ,1)+MATCH("Arbeitszeit 1 ab",Stammdaten!B:B,0)-1,WEEKDAY(B11,2)+15,,,Tabellennamen),TRUE)) -> 0.33333333 | BI11: =IF(G11=Stammdaten!$D$48,BH11,0) -> 0 | BJ11: =ROUND(IF(BI11>0,BI11,IF(UPPER(G11)=Stammdaten!$D$39,BG11,IF(UPPER(G11)=Stammdaten!$D$40,IF(AO11+AU11=0,P11,IF(AND(AU11>0,AU11-AO11+AQ11<=10/24),AU11-AO11+AQ11,IF(OR(AU11=0,AQ11>=10/24),AQ11,10/24))),BF11))),15) -> 0 | BK11: =IF(BL11,"nur RZ",IF(BE11,AO11,IF(BD11,BA11,AU11+AO11))) -> 0 | BL11: =IF(UPPER(G11)=Stammdaten!$D$39,TRUE,FALSE) -> FALSE | BM11: =IF(OR(AND(H11<6/24,I11-J11<=6/24),AND(I11>21/24,H11+J11>=21/24)),I11-H11-J11,IF(H11<6/24,IF(I11>21/24,6/24-H11+I11-21/24,6/24-H11),IF(I11>21/24,I11-21/24,0))) -> 0 | BN11: =IF(OR(AND(K11<6/24,L11-M11<=6/24),AND(L11>21/24,K11+M11>=21/24)),L11-K11-M11,IF(K11<6/24,IF(L11>21/24,6/24-K11+L11-21/24,6/24-K11),IF(L11>21/24,L11-21/24,0))) -> 0 | BO11: =IF(BS11=1,BJ11,0) -> 0 | BP11: =IF(OR(I11<=13/24,H11>=21/24),0,IF(H11<=13/24,IF(I11<=21/24,I11-13/24,21/24-13/24),IF(I11<=21/24,I11-H11,21/24-H11))) -> 0 | BQ11: =IF(OR(L11<=13/24,K11>=21/24),0,IF(K11<=13/24,IF(L11<=21/24,L11-13/24,21/24-13/24),IF(L11<=21/24,L11-K11,21/24-K11))) -> 0 | BR11: =IF(WEEKDAY(B11,2)=7,BJ11,0) -> 0 | BS11: =IF(ISERROR(VLOOKUP(B11,Feiertage_Liste,2,FALSE)),0,VLOOKUP(B11,Feiertage_Liste,2,FALSE)) -> 0 | BT11: =IF(AND($G11="U",BY11=1),1,0) -> 0 | BU11: =BU10+CA11 -> 0 | BV11: =IF(OR(AND(BU11>=0,BU11<=(grün_plus*BW11/100%)),AND(BU11<=0,BU11>=(grün_minus*BW11/100%))),1,IF(OR(AND(BU11>0,BU11<=(rot_plus*BW11/100%)),AND(BU11<0,BU11>=(rot_minus*BW11/100%))),2,3)) -> 1 | BW11: =IF(B11="","",INDIRECT(ADDRESS(MATCH(B11,Soll_AZ,1)+MATCH("Arbeitszeit 1 ab",Stammdaten!B:B,0)-1,4,,,Tabellennamen),TRUE)) -> 1.6666667 | BX11: =IF(AND(B11<=TODAY(),OR(IF(ISERROR(VLOOKUP(UPPER(G11),Code_Liste,3,FALSE)),FALSE,VLOOKUP(UPPER(G11),Code_Liste,5,FALSE)=1),BJ11>0)),1,0) -> 0 | BY11: =IF(OR(C11=0,B11=""),0,IF(BZ11>0,1,0)) -> 1 | BZ11: =ROUND(IF(OR(C11=0,B11=""),0,INDIRECT(ADDRESS(MATCH(B11,Soll_AZ,1)+MATCH("Arbeitszeit 1 ab",Stammdaten!B:B,0)-1,WEEKDAY(B11,2)+15,,,Tabellennamen),TRUE)),15) -> 0.33333333 | CA11: =IF(OR(AND(BJ11>0,B11<>"",G11=""),VLOOKUP((G11),Code_Liste,5,FALSE)=1,AND(VLOOKUP((G11),Code_Liste,5,FALSE)=2,BJ11-BZ11>=0)),BJ11-BZ11,0) -> 0 | CB11: =AJ11 -> 0 | CC11: =IF(ISERROR(FIND(";",$AB11,1)),LEN($AB11)+1,FIND(";",$AB11,1)) -> 1 | CD11: =Z11 -> 0 | CE11: =IF($Z11>=$AA11,$AA11+1,$AA11) -> 1 | CF11: =IF(OR(ISBLANK($AB11),ISERR(MID($AB11,1,CC11-1))),"00:00-00:00",MID($AB11,1,CC11-1)) -> 00:00-00:00 | CG11: =IF(CI11-CH11<0,CI11-CH11+1,CI11-CH11) -> 1 | CH11: =IF(_xlfn.NUMBERVALUE(LEFT(CF11,FIND("-",CF11)))<$CD11,_xlfn.NUMBERVALUE(LEFT(CF11,FIND("-",CF11)))+1,_xlfn.NUMBERVALUE(LEFT(CF11,FIND("-",CF11)))) -> 0 | CI11: =IF(_xlfn.NUMBERVALUE(RIGHT(CF11,LEN(CF11)-FIND("-",CF11)))<=CH11,_xlfn.NUMBERVALUE(RIGHT(CF11,LEN(CF11)-FIND("-",CF11)))+1,_xlfn.NUMBERVALUE(RIGHT(CF11,LEN(CF11)-FIND("-",CF11)))) -> 1 | CJ11: =IF((CH11>=$CD11)*(CH11<$CE11),TRUE,FALSE) -> TRUE | CK11: =IF((CI11>=$CD11)*(CI11<$CE11),TRUE,FALSE) -> FALSE | CL11: =IF((CH11<=$CD11)*(CI11>=$CE11),TRUE,FALSE) -> TRUE | CM11: =ROUNDUP(IF(CJ11*CK11,CG11, IF(NOT(CJ11)*CK11,CI11-$CD11, IF(CJ11*NOT(CK11),$CE11-CH11, IF(CL11,$CE11-$CD11,0))))/(1/24),0)/24 -> 1 | CN11: =IF(OR(CM11>=1,CM11<=0),0, IF(OR(CH11>=$CG$7,CI11<=$CF$7),0, IF(CH11<$CH$7, IF(CI11<=$CH$7,CI11-CH11,$CH$7-CH11), IF(CH11<$CF$7, IF(CI11<$CG$7,CI11-$CF$7,$CG$7-$CF$7), IF(CI11<$CG$7,CI11-CH11,$CG$7-CH11))))) -> 0 | CO11: =IF(AND(CM11<1,CM11>0), IF(WEEKDAY($B11,2)=6, IF(CH11<$CI$7, IF(CI11<=$CI$7, 0, IF(CI11<=$CF$7, CI11-$CI$7, $CF$7-$CI$7)), IF(CI11<=$CF$7, CI11-CH11, IF($CF$7-CH11<=0, 0, $CF$7-CH11))), IF(WEEKDAY($B11+1,2)=6, IF(CH11<$CI$7+1, IF(CI11<=$CI$7+1, 0, IF(CI11<=$CF$7+1, CI11-$CI$7+1, $CF$7-$CI$7)), IF(CI11<=$CF$7+1, CI11-CH11, IF($CF$7+1-CH11<=0, 0, $CF$7+1-CH11))), 0)), 0) -> 0 | CP11: =IF(AND(CM11<1,CM11>0),IF(WEEKDAY($B11,2)=7,IF(CH11<1,IF(CI11<=1,CI11-CH11,1-CH11),0),IF(WEEKDAY($B11+1,2)=7,IF(CI11<1,0,IF(CH11<1,CI11-1,CI11-CH11)),0)),0) -> 0 | CQ11: =IF(AND(CM11<1,CM11>0),IF($BS11=1,IF(AND(CH11<=1,CI11<=1),CG11,IF(AND(CH11<1,CI11>=1),1-CH11,0)),IF($BS12=1,IF(AND(CH11<=1,CI11>1),CI11-1,IF(AND(CH11>1,CI11>1),CI11-CH11,0)),0)),0) -> 0 | CR11: =IF(ISERROR(FIND(";",$AB11,CC11+1)),LEN($AB11)+1,FIND(";",$AB11,CC11+1)) -> 1 | CS11: =IF(ISERR(MID($AB11,CC11+1,CR11-CC11-1)),"00:00-00:00",MID($AB11,CC11+1,CR11-CC11-1)) -> 00:00-00:00 | CT11: =IF(CV11-CU11<0,CV11-CU11+1,CV11-CU11) -> 1 | CU11: =IF(_xlfn.NUMBERVALUE(LEFT(CS11,FIND("-",CS11)))<$CD11,_xlfn.NUMBERVALUE(LEFT(CS11,FIND("-",CS11)))+1,_xlfn.NUMBERVALUE(LEFT(CS11,FIND("-",CS11)))) -> 0 | CV11: =IF(_xlfn.NUMBERVALUE(RIGHT(CS11,LEN(CS11)-FIND("-",CS11)))<=CU11,_xlfn.NUMBERVALUE(RIGHT(CS11,LEN(CS11)-FIND("-",CS11)))+1,_xlfn.NUMBERVALUE(RIGHT(CS11,LEN(CS11)-FIND("-",CS11)))) -> 1 | CW11: =IF((CU11>=$CD11)*(CU11<$CE11),TRUE,FALSE) -> TRUE | CX11: =IF((CV11>=$CD11)*(CV11<$CE11),TRUE,FALSE) -> FALSE | CY11: =IF((CU11<=$CD11)*(CV11>=$CE11),TRUE,FALSE) -> TRUE | CZ11: =ROUNDUP(IF(CW11*CX11,CT11, IF(NOT(CW11)*CX11,CV11-$CD11, IF(CW11*NOT(CX11),$CE11-CU11, IF(CY11,$CE11-$CD11,0))))/(1/24),0)/24 -> 1 | DA11: =IF(OR(CZ11>=1,CZ11<=0),0, IF(OR(CU11>=$CG$7,CV11<=$CF$7),0, IF(CU11<$CH$7, IF(CV11<=$CH$7,CV11-CU11,$CH$7-CU11), IF(CU11<$CF$7, IF(CV11<$CG$7,CV11-$CF$7,$CG$7-$CF$7), IF(CV11<$CG$7,CV11-CU11,$CG$7-CU11))))) -> 0 | DB11: =IF(AND(CZ11<1,CZ11>0), IF(WEEKDAY($B11,2)=6, IF(CU11<$CI$7, IF(CV11<=$CI$7, 0, IF(CV11<=$CF$7, CV11-$CI$7, $CF$7-$CI$7)), IF(CV11<=$CF$7, CV11-CU11, IF($CF$7-CU11<=0, 0, $CF$7-CU11))), IF(WEEKDAY($B11+1,2)=6, IF(CU11<$CI$7+1, IF(CV11<=$CI$7+1, 0, IF(CV11<=$CF$7+1, CV11-$CI$7+1, $CF$7-$CI$7)), IF(CV11<=$CF$7+1, CV11-CU11, IF($CF$7+1-CU11<=0, 0, $CF$7+1-CU11))), 0)), 0) -> 0 | DC11: =IF(AND(CZ11<1,CZ11>0),IF(WEEKDAY($B11,2)=7,IF(CU11<1,IF(CV11<=1,CV11-CU11,1-CU11),0),IF(WEEKDAY($B11+1,2)=7,IF(CV11<1,0,IF(CU11<1,CV11-1,CV11-CU11)),0)),0) -> 0 | DD11: =IF(AND(CZ11<1,CZ11>0),IF($BS11=1,IF(AND(CU11<=1,CV11<=1),CT11,IF(AND(CU11<1,CV11>=1),1-CU11,0)),IF($BS12=1,IF(AND(CU11<=1,CV11>1),CV11-1,IF(AND(CU11>1,CV11>1),CV11-CU11,0)),0)),0) -> 0 | DE11: =IF(ISERROR(FIND(";",$AB11,CR11+1)),LEN($AB11)+1,FIND(";",$AB11,CR11+1)) -> 1 | DF11: =IF(ISERR(MID($AB11,CR11+1,DE11-CR11-1)),"00:00-00:00",MID($AB11,CR11+1,DE11-CR11-1)) -> 00:00-00:00 | DG11: =IF(DI11-DH11<0,DI11-DH11+1,DI11-DH11) -> 1 | DH11: =IF(_xlfn.NUMBERVALUE(LEFT(DF11,FIND("-",DF11)))<$CD11,_xlfn.NUMBERVALUE(LEFT(DF11,FIND("-",DF11)))+1,_xlfn.NUMBERVALUE(LEFT(DF11,FIND("-",DF11)))) -> 0 | DI11: =IF(_xlfn.NUMBERVALUE(RIGHT(DF11,LEN(DF11)-FIND("-",DF11)))<=DH11,_xlfn.NUMBERVALUE(RIGHT(DF11,LEN(DF11)-FIND("-",DF11)))+1,_xlfn.NUMBERVALUE(RIGHT(DF11,LEN(DF11)-FIND("-",DF11)))) -> 1 | DJ11: =IF((DH11>=$CD11)*(DH11<$CE11),TRUE,FALSE) -> TRUE | DK11: =IF((DI11>=$CD11)*(DI11<$CE11),TRUE,FALSE) -> FALSE | DL11: =IF((DH11<=$CD11)*(DI11>=$CE11),TRUE,FALSE) -> TRUE | DM11: =ROUNDUP(IF(DJ11*DK11,DG11, IF(NOT(DJ11)*DK11,DI11-$CD11, IF(DJ11*NOT(DK11),$CE11-DH11, IF(DL11,$CE11-$CD11,0))))/(1/24),0)/24 -> 1 | DN11: =IF(OR(DM11>=1,DM11<=0),0, IF(OR(DH11>=$CG$7,DI11<=$CF$7),0, IF(DH11<$CH$7, IF(DI11<=$CH$7,DI11-DH11,$CH$7-DH11), IF(DH11<$CF$7, IF(DI11<$CG$7,DI11-$CF$7,$CG$7-$CF$7), IF(DI11<$CG$7,DI11-DH11,$CG$7-DH11))))) -> 0 | DO11: =IF(AND(DM11<1,DM11>0), IF(WEEKDAY($B11,2)=6, IF(DH11<$CI$7, IF(DI11<=$CI$7, 0, IF(DI11<=$CF$7, DI11-$CI$7, $CF$7-$CI$7)), IF(DI11<=$CF$7, DI11-DH11, IF($CF$7-DH11<=0, 0, $CF$7-DH11))), IF(WEEKDAY($B11+1,2)=6, IF(DH11<$CI$7+1, IF(DI11<=$CI$7+1, 0, IF(DI11<=$CF$7+1, DI11-$CI$7+1, $CF$7-$CI$7)), IF(DI11<=$CF$7+1, DI11-DH11, IF($CF$7+1-DH11<=0, 0, $CF$7+1-DH11))), 0)), 0) -> 0 | DP11: =IF(AND(DM11<1,DM11>0),IF(WEEKDAY($B11,2)=7,IF(DH11<1,IF(DI11<=1,DI11-DH11,1-DH11),0),IF(WEEKDAY($B11+1,2)=7,IF(DI11<1,0,IF(DH11<1,DI11-1,DI11-DH11)),0)),0) -> 0 | DQ11: =IF(AND(DM11<1,DM11>0),IF($BS11=1,IF(AND(DH11<=1,DI11<=1),DG11,IF(AND(DH11<1,DI11>=1),1-DH11,0)),IF($BS12=1,IF(AND(DH11<=1,DI11>1),DI11-1,IF(AND(DH11>1,DI11>1),DI11-DH11,0)),0)),0) -> 0 | DR11: =IF(ISERROR(FIND(";",$AB11,DE11+1)),LEN($AB11)+1,FIND(";",$AB11,DE11+1)) -> 1 | DS11: =IF(ISERR(MID($AB11,DE11+1,DR11-DE11-1)),"00:00-00:00",MID($AB11,DE11+1,DR11-DE11-1)) -> 00:00-00:00 | DT11: =IF(DV11-DU11<0,DV11-DU11+1,DV11-DU11) -> 1 | DU11: =IF(_xlfn.NUMBERVALUE(LEFT(DS11,FIND("-",DS11)))<$CD11,_xlfn.NUMBERVALUE(LEFT(DS11,FIND("-",DS11)))+1,_xlfn.NUMBERVALUE(LEFT(DS11,FIND("-",DS11)))) -> 0 | DV11: =IF(_xlfn.NUMBERVALUE(RIGHT(DS11,LEN(DS11)-FIND("-",DS11)))<=DU11,_xlfn.NUMBERVALUE(RIGHT(DS11,LEN(DS11)-FIND("-",DS11)))+1,_xlfn.NUMBERVALUE(RIGHT(DS11,LEN(DS11)-FIND("-",DS11)))) -> 1 | DW11: =IF((DU11>=$CD11)*(DU11<$CE11),TRUE,FALSE) -> TRUE | DX11: =IF((DV11>=$CD11)*(DV11<$CE11),TRUE,FALSE) -> FALSE | DY11: =IF((DU11<=$CD11)*(DV11>=$CE11),TRUE,FALSE) -> TRUE | DZ11: =ROUNDUP(IF(DW11*DX11,DT11, IF(NOT(DW11)*DX11,DV11-$CD11, IF(DW11*NOT(DX11),$CE11-DU11, IF(DY11,$CE11-$CD11,0))))/(1/24),0)/24 -> 1 | EA11: =IF(OR(DZ11>=1,DZ11<=0),0, IF(OR(DU11>=$CG$7,DV11<=$CF$7),0, IF(DU11<$CH$7, IF(DV11<=$CH$7,DV11-DU11,$CH$7-DU11), IF(DU11<$CF$7, IF(DV11<$CG$7,DV11-$CF$7,$CG$7-$CF$7), IF(DV11<$CG$7,DV11-DU11,$CG$7-DU11))))) -> 0 | EB11: =IF(AND(DZ11<1,DZ11>0), IF(WEEKDAY($B11,2)=6, IF(DU11<$CI$7, IF(DV11<=$CI$7, 0, IF(DV11<=$CF$7, DV11-$CI$7, $CF$7-$CI$7)), IF(DV11<=$CF$7, DV11-DU11, IF($CF$7-DU11<=0, 0, $CF$7-DU11))), IF(WEEKDAY($B11+1,2)=6, IF(DU11<$CI$7+1, IF(DV11<=$CI$7+1, 0, IF(DV11<=$CF$7+1, DV11-$CI$7+1, $CF$7-$CI$7)), IF(DV11<=$CF$7+1, DV11-DU11, IF($CF$7+1-DU11<=0, 0, $CF$7+1-DU11))), 0)), 0) -> 0 | EC11: =IF(AND(DZ11<1,DZ11>0),IF(WEEKDAY($B11,2)=7,IF(DU11<1,IF(DV11<=1,DV11-DU11,1-DU11),0),IF(WEEKDAY($B11+1,2)=7,IF(DV11<1,0,IF(DU11<1,DV11-1,DV11-DU11)),0)),0) -> 0 | ED11: =IF(AND(DZ11<1,DZ11>0),IF($BS11=1,IF(AND(DU11<=1,DV11<=1),DT11,IF(AND(DU11<1,DV11>=1),1-DU11,0)),IF($BS12=1,IF(AND(DU11<=1,DV11>1),DV11-1,IF(AND(DU11>1,DV11>1),DV11-DU11,0)),0)),0) -> 0 | EE11: =IF(ISERROR(FIND(";",$AB11,DR11+1)),LEN($AB11)+1,FIND(";",$AB11,DR11+1)) -> 1 | EF11: =IF(ISERR(MID($AB11,DR11+1,EE11-DR11-1)),"00:00-00:00",MID($AB11,DR11+1,EE11-DR11-1)) -> 00:00-00:00 | EG11: =IF(EI11-EH11<0,EI11-EH11+1,EI11-EH11) -> 1 | EH11: =IF(_xlfn.NUMBERVALUE(LEFT(EF11,FIND("-",EF11)))<$CD11,_xlfn.NUMBERVALUE(LEFT(EF11,FIND("-",EF11)))+1,_xlfn.NUMBERVALUE(LEFT(EF11,FIND("-",EF11)))) -> 0 | EI11: =IF(_xlfn.NUMBERVALUE(RIGHT(EF11,LEN(EF11)-FIND("-",EF11)))<=EH11,_xlfn.NUMBERVALUE(RIGHT(EF11,LEN(EF11)-FIND("-",EF11)))+1,_xlfn.NUMBERVALUE(RIGHT(EF11,LEN(EF11)-FIND("-",EF11)))) -> 1 | EJ11: =IF((EH11>=$CD11)*(EH11<$CE11),TRUE,FALSE) -> TRUE | EK11: =IF((EI11>=$CD11)*(EI11<$CE11),TRUE,FALSE) -> FALSE | EL11: =IF((EH11<=$CD11)*(EI11>=$CE11),TRUE,FALSE) -> TRUE | EM11: =ROUNDUP(IF(EJ11*EK11,EG11, IF(NOT(EJ11)*EK11,EI11-$CD11, IF(EJ11*NOT(EK11),$CE11-EH11, IF(EL11,$CE11-$CD11,0))))/(1/24),0)/24 -> 1 | EN11: =IF(OR(EM11>=1,EM11<=0),0, IF(OR(EH11>=$CG$7,EI11<=$CF$7),0, IF(EH11<$CH$7, IF(EI11<=$CH$7,EI11-EH11,$CH$7-EH11), IF(EH11<$CF$7, IF(EI11<$CG$7,EI11-$CF$7,$CG$7-$CF$7), IF(EI11<$CG$7,EI11-EH11,$CG$7-EH11))))) -> 0 | EO11: =IF(AND(EM11<1,EM11>0), IF(WEEKDAY($B11,2)=6, IF(EH11<$CI$7, IF(EI11<=$CI$7, 0, IF(EI11<=$CF$7, EI11-$CI$7, $CF$7-$CI$7)), IF(EI11<=$CF$7, EI11-EH11, IF($CF$7-EH11<=0, 0, $CF$7-EH11))), IF(WEEKDAY($B11+1,2)=6, IF(EH11<$CI$7+1, IF(EI11<=$CI$7+1, 0, IF(EI11<=$CF$7+1, EI11-$CI$7+1, $CF$7-$CI$7)), IF(EI11<=$CF$7+1, EI11-EH11, IF($CF$7+1-EH11<=0, 0, $CF$7+1-EH11))), 0)), 0) -> 0 | EP11: =IF(AND(EM11<1,EM11>0),IF(WEEKDAY($B11,2)=7,IF(EH11<1,IF(EI11<=1,EI11-EH11,1-EH11),0),IF(WEEKDAY($B11+1,2)=7,IF(EI11<1,0,IF(EH11<1,EI11-1,EI11-EH11)),0)),0) -> 0 | EQ11: =IF(AND(EM11<1,EM11>0),IF($BS11=1,IF(AND(EH11<=1,EI11<=1),EG11,IF(AND(EH11<1,EI11>=1),1-EH11,0)),IF($BS12=1,IF(AND(EH11<=1,EI11>1),EI11-1,IF(AND(EH11>1,EI11>1),EI11-EH11,0)),0)),0) -> 0 | ER11: =IF(ISERROR(FIND(";",$AB11,EE11+1)),LEN($AB11)+1,FIND(";",$AB11,EE11+1)) -> 1 | ES11: =IF(ISERR(MID($AB11,EE11+1,ER11-EE11-1)),"00:00-00:00",MID($AB11,EE11+1,ER11-EE11-1)) -> 00:00-00:00 | ET11: =IF(EV11-EU11<0,EV11-EU11+1,EV11-EU11) -> 1 | EU11: =IF(_xlfn.NUMBERVALUE(LEFT(ES11,FIND("-",ES11)))<$CD11,_xlfn.NUMBERVALUE(LEFT(ES11,FIND("-",ES11)))+1,_xlfn.NUMBERVALUE(LEFT(ES11,FIND("-",ES11)))) -> 0 | EV11: =IF(_xlfn.NUMBERVALUE(RIGHT(ES11,LEN(ES11)-FIND("-",ES11)))<=EU11,_xlfn.NUMBERVALUE(RIGHT(ES11,LEN(ES11)-FIND("-",ES11)))+1,_xlfn.NUMBERVALUE(RIGHT(ES11,LEN(ES11)-FIND("-",ES11)))) -> 1 | EW11: =IF((EU11>=$CD11)*(EU11<$CE11),TRUE,FALSE) -> TRUE | EX11: =IF((EV11>=$CD11)*(EV11<$CE11),TRUE,FALSE) -> FALSE | EY11: =IF((EU11<=$CD11)*(EV11>=$CE11),TRUE,FALSE) -> TRUE | EZ11: =ROUNDUP(IF(EW11*EX11,ET11, IF(NOT(EW11)*EX11,EV11-$CD11, IF(EW11*NOT(EX11),$CE11-EU11, IF(EY11,$CE11-$CD11,0))))/(1/24),0)/24 -> 1 | FA11: =IF(OR(EZ11>=1,EZ11<=0),0, IF(OR(EU11>=$CG$7,EV11<=$CF$7),0, IF(EU11<$CH$7, IF(EV11<=$CH$7,EV11-EU11,$CH$7-EU11), IF(EU11<$CF$7, IF(EV11<$CG$7,EV11-$CF$7,$CG$7-$CF$7), IF(EV11<$CG$7,EV11-EU11,$CG$7-EU11))))) -> 0 | FB11: =IF(AND(EZ11<1,EZ11>0), IF(WEEKDAY($B11,2)=6, IF(EU11<$CI$7, IF(EV11<=$CI$7, 0, IF(EV11<=$CF$7, EV11-$CI$7, $CF$7-$CI$7)), IF(EV11<=$CF$7, EV11-EU11, IF($CF$7-EU11<=0, 0, $CF$7-EU11))), IF(WEEKDAY($B11+1,2)=6, IF(EU11<$CI$7+1, IF(EV11<=$CI$7+1, 0, IF(EV11<=$CF$7+1, EV11-$CI$7+1, $CF$7-$CI$7)), IF(EV11<=$CF$7+1, EV11-EU11, IF($CF$7+1-EU11<=0, 0, $CF$7+1-EU11))), 0)), 0) -> 0 | FC11: =IF(AND(EZ11<1,EZ11>0),IF(WEEKDAY($B11,2)=7,IF(EU11<1,IF(EV11<=1,EV11-EU11,1-EU11),0),IF(WEEKDAY($B11+1,2)=7,IF(EV11<1,0,IF(EU11<1,EV11-1,EV11-EU11)),0)),0) -> 0 | FD11: =IF(AND(EZ11<1,EZ11>0),IF($BS11=1,IF(AND(EU11<=1,EV11<=1),ET11,IF(AND(EU11<1,EV11>=1),1-EU11,0)),IF($BS12=1,IF(AND(EU11<=1,EV11>1),EV11-1,IF(AND(EU11>1,EV11>1),EV11-EU11,0)),0)),0) -> 0 | FE11: =IF(ISERROR(FIND(";",$AB11,ER11+1)),LEN($AB11)+1,FIND(";",$AB11,ER11+1)) -> 1 | FF11: =IF(ISERR(MID($AB11,ER11+1,FE11-ER11-1)),"00:00-00:00",MID($AB11,ER11+1,FE11-ER11-1)) -> 00:00-00:00 | FG11: =IF(FI11-FH11<0,FI11-FH11+1,FI11-FH11) -> 1 | FH11: =IF(_xlfn.NUMBERVALUE(LEFT(FF11,FIND("-",FF11)))<$CD11,_xlfn.NUMBERVALUE(LEFT(FF11,FIND("-",FF11)))+1,_xlfn.NUMBERVALUE(LEFT(FF11,FIND("-",FF11)))) -> 0 | FI11: =IF(_xlfn.NUMBERVALUE(RIGHT(FF11,LEN(FF11)-FIND("-",FF11)))<=FH11,_xlfn.NUMBERVALUE(RIGHT(FF11,LEN(FF11)-FIND("-",FF11)))+1,_xlfn.NUMBERVALUE(RIGHT(FF11,LEN(FF11)-FIND("-",FF11)))) -> 1 | FJ11: =IF((FH11>=$CD11)*(FH11<$CE11),TRUE,FALSE) -> TRUE | FK11: =IF((FI11>=$CD11)*(FI11<$CE11),TRUE,FALSE) -> FALSE | FL11: =IF((FH11<=$CD11)*(FI11>=$CE11),TRUE,FALSE) -> TRUE | FM11: =ROUNDUP(IF(FJ11*FK11,FG11, IF(NOT(FJ11)*FK11,FI11-$CD11, IF(FJ11*NOT(FK11),$CE11-FH11, IF(FL11,$CE11-$CD11,0))))/(1/24),0)/24 -> 1 | FN11: =IF(OR(FM11>=1,FM11<=0),0, IF(OR(FH11>=$CG$7,FI11<=$CF$7),0, IF(FH11<$CH$7, IF(FI11<=$CH$7,FI11-FH11,$CH$7-FH11), IF(FH11<$CF$7, IF(FI11<$CG$7,FI11-$CF$7,$CG$7-$CF$7), IF(FI11<$CG$7,FI11-FH11,$CG$7-FH11))))) -> 0 | FO11: =IF(AND(FM11<1,FM11>0), IF(WEEKDAY($B11,2)=6, IF(FH11<$CI$7, IF(FI11<=$CI$7, 0, IF(FI11<=$CF$7, FI11-$CI$7, $CF$7-$CI$7)), IF(FI11<=$CF$7, FI11-FH11, IF($CF$7-FH11<=0, 0, $CF$7-FH11))), IF(WEEKDAY($B11+1,2)=6, IF(FH11<$CI$7+1, IF(FI11<=$CI$7+1, 0, IF(FI11<=$CF$7+1, FI11-$CI$7+1, $CF$7-$CI$7)), IF(FI11<=$CF$7+1, FI11-FH11, IF($CF$7+1-FH11<=0, 0, $CF$7+1-FH11))), 0)), 0) -> 0 | FP11: =IF(AND(FM11<1,FM11>0),IF(WEEKDAY($B11,2)=7,IF(FH11<1,IF(FI11<=1,FI11-FH11,1-FH11),0),IF(WEEKDAY($B11+1,2)=7,IF(FI11<1,0,IF(FH11<1,FI11-1,FI11-FH11)),0)),0) -> 0 | FQ11: =IF(AND(FM11<1,FM11>0),IF($BS11=1,IF(AND(FH11<=1,FI11<=1),FG11,IF(AND(FH11<1,FI11>=1),1-FH11,0)),IF($BS12=1,IF(AND(FH11<=1,FI11>1),FI11-1,IF(AND(FH11>1,FI11>1),FI11-FH11,0)),0)),0) -> 0 | FR11: =IF(ISERROR(FIND(";",$AB11,FE11+1)),LEN($AB11)+1,FIND(";",$AB11,FE11+1)) -> 1 | FS11: =IF(ISERR(MID($AB11,FE11+1,FR11-FE11-1)),"00:00-00:00",MID($AB11,FE11+1,FR11-FE11-1)) -> 00:00-00:00 | FT11: =IF(FV11-FU11<0,FV11-FU11+1,FV11-FU11) -> 1 | FU11: =IF(_xlfn.NUMBERVALUE(LEFT(FS11,FIND("-",FS11)))<$CD11,_xlfn.NUMBERVALUE(LEFT(FS11,FIND("-",FS11)))+1,_xlfn.NUMBERVALUE(LEFT(FS11,FIND("-",FS11)))) -> 0 | FV11: =IF(_xlfn.NUMBERVALUE(RIGHT(FS11,LEN(FS11)-FIND("-",FS11)))<=FU11,_xlfn.NUMBERVALUE(RIGHT(FS11,LEN(FS11)-FIND("-",FS11)))+1,_xlfn.NUMBERVALUE(RIGHT(FS11,LEN(FS11)-FIND("-",FS11)))) -> 1 | FW11: =IF((FU11>=$CD11)*(FU11<$CE11),TRUE,FALSE) -> TRUE | FX11: =IF((FV11>=$CD11)*(FV11<$CE11),TRUE,FALSE) -> FALSE | FY11: =IF((FU11<=$CD11)*(FV11>=$CE11),TRUE,FALSE) -> TRUE | FZ11: =ROUNDUP(IF(FW11*FX11,FT11, IF(NOT(FW11)*FX11,FV11-$CD11, IF(FW11*NOT(FX11),$CE11-FU11, IF(FY11,$CE11-$CD11,0))))/(1/24),0)/24 -> 1 | GA11: =IF(OR(FZ11>=1,FZ11<=0),0, IF(OR(FU11>=$CG$7,FV11<=$CF$7),0, IF(FU11<$CH$7, IF(FV11<=$CH$7,FV11-FU11,$CH$7-FU11), IF(FU11<$CF$7, IF(FV11<$CG$7,FV11-$CF$7,$CG$7-$CF$7), IF(FV11<$CG$7,FV11-FU11,$CG$7-FU11))))) -> 0 | GB11: =IF(AND(FZ11<1,FZ11>0), IF(WEEKDAY($B11,2)=6, IF(FU11<$CI$7, IF(FV11<=$CI$7, 0, IF(FV11<=$CF$7, FV11-$CI$7, $CF$7-$CI$7)), IF(FV11<=$CF$7, FV11-FU11, IF($CF$7-FU11<=0, 0, $CF$7-FU11))), IF(WEEKDAY($B11+1,2)=6, IF(FU11<$CI$7+1, IF(FV11<=$CI$7+1, 0, IF(FV11<=$CF$7+1, FV11-$CI$7+1, $CF$7-$CI$7)), IF(FV11<=$CF$7+1, FV11-FU11, IF($CF$7+1-FU11<=0, 0, $CF$7+1-FU11))), 0)), 0) -> 0 | GC11: =IF(AND(FZ11<1,FZ11>0),IF(WEEKDAY($B11,2)=7,IF(FU11<1,IF(FV11<=1,FV11-FU11,1-FU11),0),IF(WEEKDAY($B11+1,2)=7,IF(FV11<1,0,IF(FU11<1,FV11-1,FV11-FU11)),0)),0) -> 0 | GD11: =IF(AND(FZ11<1,FZ11>0),IF($BS11=1,IF(AND(FU11<=1,FV11<=1),FT11,IF(AND(FU11<1,FV11>=1),1-FU11,0)),IF($BS12=1,IF(AND(FU11<=1,FV11>1),FV11-1,IF(AND(FU11>1,FV11>1),FV11-FU11,0)),0)),0) -> 0 | GE11: =IF(ISERROR(FIND(";",$AB11,FR11+1)),LEN($AB11)+1,FIND(";",$AB11,FR11+1)) -> 1 | GF11: =IF(ISERR(MID($AB11,FR11+1,GE11-FR11-1)),"00:00-00:00",MID($AB11,FR11+1,GE11-FR11-1)) -> 00:00-00:00 | GG11: =IF(GI11-GH11<0,GI11-GH11+1,GI11-GH11) -> 1 | GH11: =IF(_xlfn.NUMBERVALUE(LEFT(GF11,FIND("-",GF11)))<$CD11,_xlfn.NUMBERVALUE(LEFT(GF11,FIND("-",GF11)))+1,_xlfn.NUMBERVALUE(LEFT(GF11,FIND("-",GF11)))) -> 0 | GI11: =IF(_xlfn.NUMBERVALUE(RIGHT(GF11,LEN(GF11)-FIND("-",GF11)))<=GH11,_xlfn.NUMBERVALUE(RIGHT(GF11,LEN(GF11)-FIND("-",GF11)))+1,_xlfn.NUMBERVALUE(RIGHT(GF11,LEN(GF11)-FIND("-",GF11)))) -> 1 | GJ11: =IF((GH11>=$CD11)*(GH11<$CE11),TRUE,FALSE) -> TRUE | GK11: =IF((GI11>=$CD11)*(GI11<$CE11),TRUE,FALSE) -> FALSE | GL11: =IF((GH11<=$CD11)*(GI11>=$CE11),TRUE,FALSE) -> TRUE | GM11: =ROUNDUP(IF(GJ11*GK11,GG11, IF(NOT(GJ11)*GK11,GI11-$CD11, IF(GJ11*NOT(GK11),$CE11-GH11, IF(GL11,$CE11-$CD11,0))))/(1/24),0)/24 -> 1 | GN11: =IF(OR(GM11>=1,GM11<=0),0, IF(OR(GH11>=$CG$7,GI11<=$CF$7),0, IF(GH11<$CH$7, IF(GI11<=$CH$7,GI11-GH11,$CH$7-GH11), IF(GH11<$CF$7, IF(GI11<$CG$7,GI11-$CF$7,$CG$7-$CF$7), IF(GI11<$CG$7,GI11-GH11,$CG$7-GH11))))) -> 0 | GO11: =IF(AND(GM11<1,GM11>0), IF(WEEKDAY($B11,2)=6, IF(GH11<$CI$7, IF(GI11<=$CI$7, 0, IF(GI11<=$CF$7, GI11-$CI$7, $CF$7-$CI$7)), IF(GI11<=$CF$7, GI11-GH11, IF($CF$7-GH11<=0, 0, $CF$7-GH11))), IF(WEEKDAY($B11+1,2)=6, IF(GH11<$CI$7+1, IF(GI11<=$CI$7+1, 0, IF(GI11<=$CF$7+1, GI11-$CI$7+1, $CF$7-$CI$7)), IF(GI11<=$CF$7+1, GI11-GH11, IF($CF$7+1-GH11<=0, 0, $CF$7+1-GH11))), 0)), 0) -> 0 | GP11: =IF(AND(GM11<1,GM11>0),IF(WEEKDAY($B11,2)=7,IF(GH11<1,IF(GI11<=1,GI11-GH11,1-GH11),0),IF(WEEKDAY($B11+1,2)=7,IF(GI11<1,0,IF(GH11<1,GI11-1,GI11-GH11)),0)),0) -> 0 | GQ11: =IF(AND(GM11<1,GM11>0),IF($BS11=1,IF(AND(GH11<=1,GI11<=1),GG11,IF(AND(GH11<1,GI11>=1),1-GH11,0)),IF($BS12=1,IF(AND(GH11<=1,GI11>1),GI11-1,IF(AND(GH11>1,GI11>1),GI11-GH11,0)),0)),0) -> 0 | GR11: =IF(ISERROR(FIND(";",$AB11,GE11+1)),LEN($AB11)+1,FIND(";",$AB11,GE11+1)) -> 1 | GS11: =IF(ISERR(MID($AB11,GE11+1,GR11-GE11-1)),"00:00-00:00",MID($AB11,GE11+1,GR11-GE11-1)) -> 00:00-00:00 | GT11: =IF(GV11-GU11<0,GV11-GU11+1,GV11-GU11) -> 1 | GU11: =IF(_xlfn.NUMBERVALUE(LEFT(GS11,FIND("-",GS11)))<$CD11,_xlfn.NUMBERVALUE(LEFT(GS11,FIND("-",GS11)))+1,_xlfn.NUMBERVALUE(LEFT(GS11,FIND("-",GS11)))) -> 0 | GV11: =IF(_xlfn.NUMBERVALUE(RIGHT(GS11,LEN(GS11)-FIND("-",GS11)))<=GU11,_xlfn.NUMBERVALUE(RIGHT(GS11,LEN(GS11)-FIND("-",GS11)))+1,_xlfn.NUMBERVALUE(RIGHT(GS11,LEN(GS11)-FIND("-",GS11)))) -> 1 | GW11: =IF((GU11>=$CD11)*(GU11<$CE11),TRUE,FALSE) -> TRUE | GX11: =IF((GV11>=$CD11)*(GV11<$CE11),TRUE,FALSE) -> FALSE | GY11: =IF((GU11<=$CD11)*(GV11>=$CE11),TRUE,FALSE) -> TRUE | GZ11: =ROUNDUP(IF(GW11*GX11,GT11, IF(NOT(GW11)*GX11,GV11-$CD11, IF(GW11*NOT(GX11),$CE11-GU11, IF(GY11,$CE11-$CD11,0))))/(1/24),0)/24 -> 1 | HA11: =IF(OR(GZ11>=1,GZ11<=0),0, IF(OR(GU11>=$CG$7,GV11<=$CF$7),0, IF(GU11<$CH$7, IF(GV11<=$CH$7,GV11-GU11,$CH$7-GU11), IF(GU11<$CF$7, IF(GV11<$CG$7,GV11-$CF$7,$CG$7-$CF$7), IF(GV11<$CG$7,GV11-GU11,$CG$7-GU11))))) -> 0 | HB11: =IF(AND(GZ11<1,GZ11>0), IF(WEEKDAY($B11,2)=6, IF(GU11<$CI$7, IF(GV11<=$CI$7, 0, IF(GV11<=$CF$7, GV11-$CI$7, $CF$7-$CI$7)), IF(GV11<=$CF$7, GV11-GU11, IF($CF$7-GU11<=0, 0, $CF$7-GU11))), IF(WEEKDAY($B11+1,2)=6, IF(GU11<$CI$7+1, IF(GV11<=$CI$7+1, 0, IF(GV11<=$CF$7+1, GV11-$CI$7+1, $CF$7-$CI$7)), IF(GV11<=$CF$7+1, GV11-GU11, IF($CF$7+1-GU11<=0, 0, $CF$7+1-GU11))), 0)), 0) -> 0 | HC11: =IF(AND(GZ11<1,GZ11>0),IF(WEEKDAY($B11,2)=7,IF(GU11<1,IF(GV11<=1,GV11-GU11,1-GU11),0),IF(WEEKDAY($B11+1,2)=7,IF(GV11<1,0,IF(GU11<1,GV11-1,GV11-GU11)),0)),0) -> 0 | HD11: =IF(AND(GZ11<1,GZ11>0),IF($BS11=1,IF(AND(GU11<=1,GV11<=1),GT11,IF(AND(GU11<1,GV11>=1),1-GU11,0)),IF($BS12=1,IF(AND(GU11<=1,GV11>1),GV11-1,IF(AND(GU11>1,GV11>1),GV11-GU11,0)),0)),0) -> 0 | HE11: =IF(ISERROR(FIND(";",$AB11,GR11+1)),LEN($AB11)+1,FIND(";",$AB11,GR11+1)) -> 1 | HF11: =IF(ISERR(MID($AB11,GR11+1,HE11-GR11-1)),"00:00-00:00",MID($AB11,GR11+1,HE11-GR11-1)) -> 00:00-00:00 | HG11: =IF(HI11-HH11<0,HI11-HH11+1,HI11-HH11) -> 1 | HH11: =IF(_xlfn.NUMBERVALUE(LEFT(HF11,FIND("-",HF11)))<$CD11,_xlfn.NUMBERVALUE(LEFT(HF11,FIND("-",HF11)))+1,_xlfn.NUMBERVALUE(LEFT(HF11,FIND("-",HF11)))) -> 0 | HI11: =IF(_xlfn.NUMBERVALUE(RIGHT(HF11,LEN(HF11)-FIND("-",HF11)))<=HH11,_xlfn.NUMBERVALUE(RIGHT(HF11,LEN(HF11)-FIND("-",HF11)))+1,_xlfn.NUMBERVALUE(RIGHT(HF11,LEN(HF11)-FIND("-",HF11)))) -> 1 | HJ11: =IF((HH11>=$CD11)*(HH11<$CE11),TRUE,FALSE) -> TRUE | HK11: =IF((HI11>=$CD11)*(HI11<$CE11),TRUE,FALSE) -> FALSE | HL11: =IF((HH11<=$CD11)*(HI11>=$CE11),TRUE,FALSE) -> TRUE | HM11: =ROUNDUP(IF(HJ11*HK11,HG11, IF(NOT(HJ11)*HK11,HI11-$CD11, IF(HJ11*NOT(HK11),$CE11-HH11, IF(HL11,$CE11-$CD11,0))))/(1/24),0)/24 -> 1 | HN11: =IF(OR(HM11>=1,HM11<=0),0, IF(OR(HH11>=$CG$7,HI11<=$CF$7),0, IF(HH11<$CH$7, IF(HI11<=$CH$7,HI11-HH11,$CH$7-HH11), IF(HH11<$CF$7, IF(HI11<$CG$7,HI11-$CF$7,$CG$7-$CF$7), IF(HI11<$CG$7,HI11-HH11,$CG$7-HH11))))) -> 0 | HO11: =IF(AND(HM11<1,HM11>0), IF(WEEKDAY($B11,2)=6, IF(HH11<$CI$7, IF(HI11<=$CI$7, 0, IF(HI11<=$CF$7, HI11-$CI$7, $CF$7-$CI$7)), IF(HI11<=$CF$7, HI11-HH11, IF($CF$7-HH11<=0, 0, $CF$7-HH11))), IF(WEEKDAY($B11+1,2)=6, IF(HH11<$CI$7+1, IF(HI11<=$CI$7+1, 0, IF(HI11<=$CF$7+1, HI11-$CI$7+1, $CF$7-$CI$7)), IF(HI11<=$CF$7+1, HI11-HH11, IF($CF$7+1-HH11<=0, 0, $CF$7+1-HH11))), 0)), 0) -> 0 | HP11: =IF(AND(HM11<1,HM11>0),IF(WEEKDAY($B11,2)=7,IF(HH11<1,IF(HI11<=1,HI11-HH11,1-HH11),0),IF(WEEKDAY($B11+1,2)=7,IF(HI11<1,0,IF(HH11<1,HI11-1,HI11-HH11)),0)),0) -> 0 | HQ11: =IF(AND(HM11<1,HM11>0),IF($BS11=1,IF(AND(HH11<=1,HI11<=1),HG11,IF(AND(HH11<1,HI11>=1),1-HH11,0)),IF($BS12=1,IF(AND(HH11<=1,HI11>1),HI11-1,IF(AND(HH11>1,HI11>1),HI11-HH11,0)),0)),0) -> 0 | HR11: =IF(ISERROR(FIND(";",$AB11,HE11+1)),LEN($AB11)+1,FIND(";",$AB11,HE11+1)) -> 1 | HS11: =IF(ISERR(MID($AB11,HE11+1,HR11-HE11-1)),"00:00-00:00",MID($AB11,HE11+1,HR11-HE11-1)) -> 00:00-00:00 | HT11: =IF(HV11-HU11<0,HV11-HU11+1,HV11-HU11) -> 1 | HU11: =IF(_xlfn.NUMBERVALUE(LEFT(HS11,FIND("-",HS11)))<$CD11,_xlfn.NUMBERVALUE(LEFT(HS11,FIND("-",HS11)))+1,_xlfn.NUMBERVALUE(LEFT(HS11,FIND("-",HS11)))) -> 0 | HV11: =IF(_xlfn.NUMBERVALUE(RIGHT(HS11,LEN(HS11)-FIND("-",HS11)))<=HU11,_xlfn.NUMBERVALUE(RIGHT(HS11,LEN(HS11)-FIND("-",HS11)))+1,_xlfn.NUMBERVALUE(RIGHT(HS11,LEN(HS11)-FIND("-",HS11)))) -> 1 | HW11: =IF((HU11>=$CD11)*(HU11<$CE11),TRUE,FALSE) -> TRUE | HX11: =IF((HV11>=$CD11)*(HV11<$CE11),TRUE,FALSE) -> FALSE | HY11: =IF((HU11<=$CD11)*(HV11>=$CE11),TRUE,FALSE) -> TRUE | HZ11: =ROUNDUP(IF(HW11*HX11,HT11, IF(NOT(HW11)*HX11,HV11-$CD11, IF(HW11*NOT(HX11),$CE11-HU11, IF(HY11,$CE11-$CD11,0))))/(1/24),0)/24 -> 1 | IA11: =IF(OR(HZ11>=1,HZ11<=0),0, IF(OR(HU11>=$CG$7,HV11<=$CF$7),0, IF(HU11<$CH$7, IF(HV11<=$CH$7,HV11-HU11,$CH$7-HU11), IF(HU11<$CF$7, IF(HV11<$CG$7,HV11-$CF$7,$CG$7-$CF$7), IF(HV11<$CG$7,HV11-HU11,$CG$7-HU11))))) -> 0 | IB11: =IF(AND(HZ11<1,HZ11>0), IF(WEEKDAY($B11,2)=6, IF(HU11<$CI$7, IF(HV11<=$CI$7, 0, IF(HV11<=$CF$7, HV11-$CI$7, $CF$7-$CI$7)), IF(HV11<=$CF$7, HV11-HU11, IF($CF$7-HU11<=0, 0, $CF$7-HU11))), IF(WEEKDAY($B11+1,2)=6, IF(HU11<$CI$7+1, IF(HV11<=$CI$7+1, 0, IF(HV11<=$CF$7+1, HV11-$CI$7+1, $CF$7-$CI$7)), IF(HV11<=$CF$7+1, HV11-HU11, IF($CF$7+1-HU11<=0, 0, $CF$7+1-HU11))), 0)), 0) -> 0 | IC11: =IF(AND(HZ11<1,HZ11>0),IF(WEEKDAY($B11,2)=7,IF(HU11<1,IF(HV11<=1,HV11-HU11,1-HU11),0),IF(WEEKDAY($B11+1,2)=7,IF(HV11<1,0,IF(HU11<1,HV11-1,HV11-HU11)),0)),0) -> 0 | ID11: =IF(AND(HZ11<1,HZ11>0),IF($BS11=1,IF(AND(HU11<=1,HV11<=1),HT11,IF(AND(HU11<1,HV11>=1),1-HU11,0)),IF($BS12=1,IF(AND(HU11<=1,HV11>1),HV11-1,IF(AND(HU11>1,HV11>1),HV11-HU11,0)),0)),0) -> 0 | IE11: =IF(ISERROR(FIND(";",$AB11,HR11+1)),LEN($AB11)+1,FIND(";",$AB11,HR11+1)) -> 1 | IF11: =IF(ISERR(MID($AB11,HR11+1,IE11-HR11-1)),"00:00-00:00",MID($AB11,HR11+1,IE11-HR11-1)) -> 00:00-00:00 | IG11: =IF(II11-IH11<0,II11-IH11+1,II11-IH11) -> 1 | IH11: =IF(_xlfn.NUMBERVALUE(LEFT(IF11,FIND("-",IF11)))<$CD11,_xlfn.NUMBERVALUE(LEFT(IF11,FIND("-",IF11)))+1,_xlfn.NUMBERVALUE(LEFT(IF11,FIND("-",IF11)))) -> 0 | II11: =IF(_xlfn.NUMBERVALUE(RIGHT(IF11,LEN(IF11)-FIND("-",IF11)))<=IH11,_xlfn.NUMBERVALUE(RIGHT(IF11,LEN(IF11)-FIND("-",IF11)))+1,_xlfn.NUMBERVALUE(RIGHT(IF11,LEN(IF11)-FIND("-",IF11)))) -> 1 | IJ11: =IF((IH11>=$CD11)*(IH11<$CE11),TRUE,FALSE) -> TRUE | IK11: =IF((II11>=$CD11)*(II11<$CE11),TRUE,FALSE) -> FALSE | IL11: =IF((IH11<=$CD11)*(II11>=$CE11),TRUE,FALSE) -> TRUE | IM11: =ROUNDUP(IF(IJ11*IK11,IG11, IF(NOT(IJ11)*IK11,II11-$CD11, IF(IJ11*NOT(IK11),$CE11-IH11, IF(IL11,$CE11-$CD11,0))))/(1/24),0)/24 -> 1 | IN11: =IF(OR(IM11>=1,IM11<=0),0, IF(OR(IH11>=$CG$7,II11<=$CF$7),0, IF(IH11<$CH$7, IF(II11<=$CH$7,II11-IH11,$CH$7-IH11), IF(IH11<$CF$7, IF(II11<$CG$7,II11-$CF$7,$CG$7-$CF$7), IF(II11<$CG$7,II11-IH11,$CG$7-IH11))))) -> 0 | IO11: =IF(AND(IM11<1,IM11>0), IF(WEEKDAY($B11,2)=6, IF(IH11<$CI$7, IF(II11<=$CI$7, 0, IF(II11<=$CF$7, II11-$CI$7, $CF$7-$CI$7)), IF(II11<=$CF$7, II11-IH11, IF($CF$7-IH11<=0, 0, $CF$7-IH11))), IF(WEEKDAY($B11+1,2)=6, IF(IH11<$CI$7+1, IF(II11<=$CI$7+1, 0, IF(II11<=$CF$7+1, II11-$CI$7+1, $CF$7-$CI$7)), IF(II11<=$CF$7+1, II11-IH11, IF($CF$7+1-IH11<=0, 0, $CF$7+1-IH11))), 0)), 0) -> 0 | IP11: =IF(AND(IM11<1,IM11>0),IF(WEEKDAY($B11,2)=7,IF(IH11<1,IF(II11<=1,II11-IH11,1-IH11),0),IF(WEEKDAY($B11+1,2)=7,IF(II11<1,0,IF(IH11<1,II11-1,II11-IH11)),0)),0) -> 0 | IQ11: =IF(AND(IM11<1,IM11>0),IF($BS11=1,IF(AND(IH11<=1,II11<=1),IG11,IF(AND(IH11<1,II11>=1),1-IH11,0)),IF($BS12=1,IF(AND(IH11<=1,II11>1),II11-1,IF(AND(IH11>1,II11>1),II11-IH11,0)),0)),0) -> 0 | IR11: =IF(ISERROR(FIND(";",$AB11,IE11+1)),LEN($AB11)+1,FIND(";",$AB11,IE11+1)) -> 1 | IS11: =IF(ISERR(MID($AB11,IE11+1,IR11-IE11-1)),"00:00-00:00",MID($AB11,IE11+1,IR11-IE11-1)) -> 00:00-00:00 | IT11: =IF(IV11-IU11<0,IV11-IU11+1,IV11-IU11) -> 1 | IU11: =IF(_xlfn.NUMBERVALUE(LEFT(IS11,FIND("-",IS11)))<$CD11,_xlfn.NUMBERVALUE(LEFT(IS11,FIND("-",IS11)))+1,_xlfn.NUMBERVALUE(LEFT(IS11,FIND("-",IS11)))) -> 0 | IV11: =IF(_xlfn.NUMBERVALUE(RIGHT(IS11,LEN(IS11)-FIND("-",IS11)))<=IU11,_xlfn.NUMBERVALUE(RIGHT(IS11,LEN(IS11)-FIND("-",IS11)))+1,_xlfn.NUMBERVALUE(RIGHT(IS11,LEN(IS11)-FIND("-",IS11)))) -> 1 | IW11: =IF((IU11>=$CD11)*(IU11<$CE11),TRUE,FALSE) -> TRUE | IX11: =IF((IV11>=$CD11)*(IV11<$CE11),TRUE,FALSE) -> FALSE | IY11: =IF((IU11<=$CD11)*(IV11>=$CE11),TRUE,FALSE) -> TRUE | IZ11: =ROUNDUP(IF(IW11*IX11,IT11, IF(NOT(IW11)*IX11,IV11-$CD11, IF(IW11*NOT(IX11),$CE11-IU11, IF(IY11,$CE11-$CD11,0))))/(1/24),0)/24 -> 1 | JA11: =IF(OR(IZ11>=1,IZ11<=0),0, IF(OR(IU11>=$CG$7,IV11<=$CF$7),0, IF(IU11<$CH$7, IF(IV11<=$CH$7,IV11-IU11,$CH$7-IU11), IF(IU11<$CF$7, IF(IV11<$CG$7,IV11-$CF$7,$CG$7-$CF$7), IF(IV11<$CG$7,IV11-IU11,$CG$7-IU11))))) -> 0 | JB11: =IF(AND(IZ11<1,IZ11>0), IF(WEEKDAY($B11,2)=6, IF(IU11<$CI$7, IF(IV11<=$CI$7, 0, IF(IV11<=$CF$7, IV11-$CI$7, $CF$7-$CI$7)), IF(IV11<=$CF$7, IV11-IU11, IF($CF$7-IU11<=0, 0, $CF$7-IU11))), IF(WEEKDAY($B11+1,2)=6, IF(IU11<$CI$7+1, IF(IV11<=$CI$7+1, 0, IF(IV11<=$CF$7+1, IV11-$CI$7+1, $CF$7-$CI$7)), IF(IV11<=$CF$7+1, IV11-IU11, IF($CF$7+1-IU11<=0, 0, $CF$7+1-IU11))), 0)), 0) -> 0 | JC11: =IF(AND(IZ11<1,IZ11>0),IF(WEEKDAY($B11,2)=7,IF(IU11<1,IF(IV11<=1,IV11-IU11,1-IU11),0),IF(WEEKDAY($B11+1,2)=7,IF(IV11<1,0,IF(IU11<1,IV11-1,IV11-IU11)),0)),0) -> 0 | JD11: =IF(AND(IZ11<1,IZ11>0),IF($BS11=1,IF(AND(IU11<=1,IV11<=1),IT11,IF(AND(IU11<1,IV11>=1),1-IU11,0)),IF($BS12=1,IF(AND(IU11<=1,IV11>1),IV11-1,IF(AND(IU11>1,IV11>1),IV11-IU11,0)),0)),0) -> 0 | JE11: =IF(ISERROR(FIND(";",$AB11,IR11+1)),LEN($AB11)+1,FIND(";",$AB11,IR11+1)) -> 1 | JF11: =IF(ISERR(MID($AB11,IR11+1,JE11-IR11-1)),"00:00-00:00",MID($AB11,IR11+1,JE11-IR11-1)) -> 00:00-00:00 | JG11: =IF(JI11-JH11<0,JI11-JH11+1,JI11-JH11) -> 1 | JH11: =IF(_xlfn.NUMBERVALUE(LEFT(JF11,FIND("-",JF11)))<$CD11,_xlfn.NUMBERVALUE(LEFT(JF11,FIND("-",JF11)))+1,_xlfn.NUMBERVALUE(LEFT(JF11,FIND("-",JF11)))) -> 0 | JI11: =IF(_xlfn.NUMBERVALUE(RIGHT(JF11,LEN(JF11)-FIND("-",JF11)))<=JH11,_xlfn.NUMBERVALUE(RIGHT(JF11,LEN(JF11)-FIND("-",JF11)))+1,_xlfn.NUMBERVALUE(RIGHT(JF11,LEN(JF11)-FIND("-",JF11)))) -> 1 | JJ11: =IF((JH11>=$CD11)*(JH11<$CE11),TRUE,FALSE) -> TRUE | JK11: =IF((JI11>=$CD11)*(JI11<$CE11),TRUE,FALSE) -> FALSE | JL11: =IF((JH11<=$CD11)*(JI11>=$CE11),TRUE,FALSE) -> TRUE | JM11: =ROUNDUP(IF(JJ11*JK11,JG11, IF(NOT(JJ11)*JK11,JI11-$CD11, IF(JJ11*NOT(JK11),$CE11-JH11, IF(JL11,$CE11-$CD11,0))))/(1/24),0)/24 -> 1 | JN11: =IF(OR(JM11>=1,JM11<=0),0, IF(OR(JH11>=$CG$7,JI11<=$CF$7),0, IF(JH11<$CH$7, IF(JI11<=$CH$7,JI11-JH11,$CH$7-JH11), IF(JH11<$CF$7, IF(JI11<$CG$7,JI11-$CF$7,$CG$7-$CF$7), IF(JI11<$CG$7,JI11-JH11,$CG$7-JH11))))) -> 0 | JO11: =IF(AND(JM11<1,JM11>0), IF(WEEKDAY($B11,2)=6, IF(JH11<$CI$7, IF(JI11<=$CI$7, 0, IF(JI11<=$CF$7, JI11-$CI$7, $CF$7-$CI$7)), IF(JI11<=$CF$7, JI11-JH11, IF($CF$7-JH11<=0, 0, $CF$7-JH11))), IF(WEEKDAY($B11+1,2)=6, IF(JH11<$CI$7+1, IF(JI11<=$CI$7+1, 0, IF(JI11<=$CF$7+1, JI11-$CI$7+1, $CF$7-$CI$7)), IF(JI11<=$CF$7+1, JI11-JH11, IF($CF$7+1-JH11<=0, 0, $CF$7+1-JH11))), 0)), 0) -> 0 | JP11: =IF(AND(JM11<1,JM11>0),IF(WEEKDAY($B11,2)=7,IF(JH11<1,IF(JI11<=1,JI11-JH11,1-JH11),0),IF(WEEKDAY($B11+1,2)=7,IF(JI11<1,0,IF(JH11<1,JI11-1,JI11-JH11)),0)),0) -> 0 | JQ11: =IF(AND(JM11<1,JM11>0),IF($BS11=1,IF(AND(JH11<=1,JI11<=1),JG11,IF(AND(JH11<1,JI11>=1),1-JH11,0)),IF($BS12=1,IF(AND(JH11<=1,JI11>1),JI11-1,IF(AND(JH11>1,JI11>1),JI11-JH11,0)),0)),0) -> 0 | JR11: =IF(AND(ISBLANK(Z11),ISBLANK(AA11)),0,SUM(JM11,IZ11,HZ11,IM11,HM11,GZ11,GM11,FZ11,FM11,EZ11,EM11,DZ11,DM11,CZ11,CM11)) -> 0 | JS11: =JR11*24 -> 0 | JT11: =IF(AND(ISBLANK(Z11),ISBLANK(AA11)),0,SUM(JN11,JA11,IA11,IN11,HN11,HA11,GN11,GA11,FN11,FA11,EN11,EA11,DN11,DA11,CN11)) -> 0 | JU11: =IF(AND(ISBLANK(Z11),ISBLANK(AA11)),0,SUM(JO11,JB11,IB11,IO11,HO11,HB11,GO11,GB11,FO11,FB11,EO11,EB11,DO11,DB11,CO11)) -> 0 | JV11: =IF(AND(ISBLANK(Z11),ISBLANK(AA11)),0,SUM(JP11,JC11,IC11,IP11,HP11,HC11,GP11,GC11,FP11,FC11,EP11,EC11,DP11,DC11,CP11)) -> 0 | JW11: =IF(AND(ISBLANK(Z11),ISBLANK(AA11)),0,SUM(JQ11,JD11,ID11,IQ11,HQ11,HD11,GQ11,GD11,FQ11,FD11,EQ11,ED11,DQ11,DD11,CQ11)) -> 0 | JY11: =IF(ISERROR(FIND(";",$AD11,1)),LEN($AD11)+1,FIND(";",$AD11,1)) -> 1 | JZ11: =IF(OR(ISBLANK($AD11),ISERR(MID($AD11,1,JY11-1))),"00:00-00:00",MID($AD11,1,JY11-1)) -> 00:00-00:00 | KA11: =IF(KC11-KB11<0,KC11-KB11+1,KC11-KB11) -> 1 | KB11: =IF(_xlfn.NUMBERVALUE(LEFT(JZ11,FIND("-",JZ11)))<$CD11,_xlfn.NUMBERVALUE(LEFT(JZ11,FIND("-",JZ11)))+1,_xlfn.NUMBERVALUE(LEFT(JZ11,FIND("-",JZ11)))) -> 0 | KC11: =IF(_xlfn.NUMBERVALUE(RIGHT(JZ11,LEN(JZ11)-FIND("-",JZ11)))<=KB11,_xlfn.NUMBERVALUE(RIGHT(JZ11,LEN(JZ11)-FIND("-",JZ11)))+1,_xlfn.NUMBERVALUE(RIGHT(JZ11,LEN(JZ11)-FIND("-",JZ11)))) -> 1 | KD11: =IF((KB11>=$CD11)*(KB11<$CE11),TRUE,FALSE) -> TRUE | KE11: =IF((KC11>=$CD11)*(KC11<$CE11),TRUE,FALSE) -> FALSE | KF11: =IF((KB11<=$CD11)*(KC11>=$CE11),TRUE,FALSE) -> TRUE | KG11: =IF(KD11*KE11,KA11, IF(NOT(KD11)*KE11,KC11-$CD11, IF(KD11*NOT(KE11),$CE11-KB11, IF(KF11,$CE11-$CD11,0)))) -> 1 | KH11: =IF(OR(KG11>=1,KG11<=0),0, IF(OR(KB11>=$CG$7,KC11<=$CF$7),0, IF(KB11<$CH$7, IF(KC11<=$CH$7,KC11-KB11,$CH$7-KB11), IF(KB11<$CF$7, IF(KC11<$CG$7,KC11-$CF$7,$CG$7-$CF$7), IF(KC11<$CG$7,KC11-KB11,$CG$7-KB11))))) -> 0 | KI11: =IF(AND(KG11<1,KG11>0), IF(WEEKDAY($B11,2)=6, IF(KB11<$CI$7, IF(KC11<=$CI$7, 0, IF(KC11<=$CF$7, KC11-$CI$7, $CF$7-$CI$7)), IF(KC11<=$CF$7, KC11-KB11, IF($CF$7-KB11<=0, 0, $CF$7-KB11))), IF(WEEKDAY($B11+1,2)=6, IF(KB11<$CI$7+1, IF(KC11<=$CI$7+1, 0, IF(KC11<=$CF$7+1, KC11-$CI$7+1, $CF$7-$CI$7)), IF(KC11<=$CF$7+1, KC11-KB11, IF($CF$7+1-KB11<=0, 0, $CF$7+1-KB11))), 0)), 0) -> 0 | KJ11: =IF(AND(KG11<1,KG11>0),IF(WEEKDAY($B11,2)=7,IF(KB11<1,IF(KC11<=1,KC11-KB11,1-KB11),0),IF(WEEKDAY($B11+1,2)=7,IF(KC11<1,0,IF(KB11<1,KC11-1,KC11-KB11)),0)),0) -> 0 | KK11: =IF(AND(KG11<1,KG11>0),IF($BS11=1,IF(AND(KB11<=1,KC11<=1),KA11,IF(AND(KB11<1,KC11>=1),1-KB11,0)),IF($BS12=1,IF(AND(KB11<=1,KC11>1),KC11-1,IF(AND(KB11>1,KC11>1),KC11-KB11,0)),0)),0) -> 0 | KL11: =IF(ISERROR(FIND(";",$AD11,JY11+1)),LEN($AD11)+1,FIND(";",$AD11,JY11+1)) -> 1 | KM11: =IF(ISERR(MID($AD11,JY11+1,KL11-JY11-1)),"00:00-00:00",MID($AD11,JY11+1,KL11-JY11-1)) -> 00:00-00:00 | KN11: =IF(KP11-KO11<0,KP11-KO11+1,KP11-KO11) -> 1 | KO11: =IF(_xlfn.NUMBERVALUE(LEFT(KM11,FIND("-",KM11)))<$CD11,_xlfn.NUMBERVALUE(LEFT(KM11,FIND("-",KM11)))+1,_xlfn.NUMBERVALUE(LEFT(KM11,FIND("-",KM11)))) -> 0 | KP11: =IF(_xlfn.NUMBERVALUE(RIGHT(KM11,LEN(KM11)-FIND("-",KM11)))<=KO11,_xlfn.NUMBERVALUE(RIGHT(KM11,LEN(KM11)-FIND("-",KM11)))+1,_xlfn.NUMBERVALUE(RIGHT(KM11,LEN(KM11)-FIND("-",KM11)))) -> 1 | KQ11: =IF((KO11>=$CD11)*(KO11<$CE11),TRUE,FALSE) -> TRUE | KR11: =IF((KP11>=$CD11)*(KP11<$CE11),TRUE,FALSE) -> FALSE | KS11: =IF((KO11<=$CD11)*(KP11>=$CE11),TRUE,FALSE) -> TRUE | KT11: =IF(KQ11*KR11,KN11, IF(NOT(KQ11)*KR11,KP11-$CD11, IF(KQ11*NOT(KR11),$CE11-KO11, IF(KS11,$CE11-$CD11,0)))) -> 1 | KU11: =IF(OR(KT11>=1,KT11<=0),0, IF(OR(KO11>=$CG$7,KP11<=$CF$7),0, IF(KO11<$CH$7, IF(KP11<=$CH$7,KP11-KO11,$CH$7-KO11), IF(KO11<$CF$7, IF(KP11<$CG$7,KP11-$CF$7,$CG$7-$CF$7), IF(KP11<$CG$7,KP11-KO11,$CG$7-KO11))))) -> 0 | KV11: =IF(AND(KT11<1,KT11>0), IF(WEEKDAY($B11,2)=6, IF(KO11<$CI$7, IF(KP11<=$CI$7, 0, IF(KP11<=$CF$7, KP11-$CI$7, $CF$7-$CI$7)), IF(KP11<=$CF$7, KP11-KO11, IF($CF$7-KO11<=0, 0, $CF$7-KO11))), IF(WEEKDAY($B11+1,2)=6, IF(KO11<$CI$7+1, IF(KP11<=$CI$7+1, 0, IF(KP11<=$CF$7+1, KP11-$CI$7+1, $CF$7-$CI$7)), IF(KP11<=$CF$7+1, KP11-KO11, IF($CF$7+1-KO11<=0, 0, $CF$7+1-KO11))), 0)), 0) -> 0 | KW11: =IF(AND(KT11<1,KT11>0),IF(WEEKDAY($B11,2)=7,IF(KO11<1,IF(KP11<=1,KP11-KO11,1-KO11),0),IF(WEEKDAY($B11+1,2)=7,IF(KP11<1,0,IF(KO11<1,KP11-1,KP11-KO11)),0)),0) -> 0 | KX11: =IF(AND(KT11<1,KT11>0),IF($BS11=1,IF(AND(KO11<=1,KP11<=1),KN11,IF(AND(KO11<1,KP11>=1),1-KO11,0)),IF($BS12=1,IF(AND(KO11<=1,KP11>1),KP11-1,IF(AND(KO11>1,KP11>1),KP11-KO11,0)),0)),0) -> 0 | KY11: =IF(ISERROR(FIND(";",$AD11,KL11+1)),LEN($AD11)+1,FIND(";",$AD11,KL11+1)) -> 1 | KZ11: =IF(ISERR(MID($AD11,KL11+1,KY11-KL11-1)),"00:00-00:00",MID($AD11,KL11+1,KY11-KL11-1)) -> 00:00-00:00 | LA11: =IF(LC11-LB11<0,LC11-LB11+1,LC11-LB11) -> 1 | LB11: =IF(_xlfn.NUMBERVALUE(LEFT(KZ11,FIND("-",KZ11)))<$CD11,_xlfn.NUMBERVALUE(LEFT(KZ11,FIND("-",KZ11)))+1,_xlfn.NUMBERVALUE(LEFT(KZ11,FIND("-",KZ11)))) -> 0 | LC11: =IF(_xlfn.NUMBERVALUE(RIGHT(KZ11,LEN(KZ11)-FIND("-",KZ11)))<=LB11,_xlfn.NUMBERVALUE(RIGHT(KZ11,LEN(KZ11)-FIND("-",KZ11)))+1,_xlfn.NUMBERVALUE(RIGHT(KZ11,LEN(KZ11)-FIND("-",KZ11)))) -> 1 | LD11: =IF((LB11>=$CD11)*(LB11<$CE11),TRUE,FALSE) -> TRUE | LE11: =IF((LC11>=$CD11)*(LC11<$CE11),TRUE,FALSE) -> FALSE | LF11: =IF((LB11<=$CD11)*(LC11>=$CE11),TRUE,FALSE) -> TRUE | LG11: =IF(LD11*LE11,LA11, IF(NOT(LD11)*LE11,LC11-$CD11, IF(LD11*NOT(LE11),$CE11-LB11, IF(LF11,$CE11-$CD11,0)))) -> 1 | LH11: =IF(OR(LG11>=1,LG11<=0),0, IF(OR(LB11>=$CG$7,LC11<=$CF$7),0, IF(LB11<$CH$7, IF(LC11<=$CH$7,LC11-LB11,$CH$7-LB11), IF(LB11<$CF$7, IF(LC11<$CG$7,LC11-$CF$7,$CG$7-$CF$7), IF(LC11<$CG$7,LC11-LB11,$CG$7-LB11))))) -> 0 | LI11: =IF(AND(LG11<1,LG11>0), IF(WEEKDAY($B11,2)=6, IF(LB11<$CI$7, IF(LC11<=$CI$7, 0, IF(LC11<=$CF$7, LC11-$CI$7, $CF$7-$CI$7)), IF(LC11<=$CF$7, LC11-LB11, IF($CF$7-LB11<=0, 0, $CF$7-LB11))), IF(WEEKDAY($B11+1,2)=6, IF(LB11<$CI$7+1, IF(LC11<=$CI$7+1, 0, IF(LC11<=$CF$7+1, LC11-$CI$7+1, $CF$7-$CI$7)), IF(LC11<=$CF$7+1, LC11-LB11, IF($CF$7+1-LB11<=0, 0, $CF$7+1-LB11))), 0)), 0) -> 0 | LJ11: =IF(AND(LG11<1,LG11>0),IF(WEEKDAY($B11,2)=7,IF(LB11<1,IF(LC11<=1,LC11-LB11,1-LB11),0),IF(WEEKDAY($B11+1,2)=7,IF(LC11<1,0,IF(LB11<1,LC11-1,LC11-LB11)),0)),0) -> 0 | LK11: =IF(AND(LG11<1,LG11>0),IF($BS11=1,IF(AND(LB11<=1,LC11<=1),LA11,IF(AND(LB11<1,LC11>=1),1-LB11,0)),IF($BS12=1,IF(AND(LB11<=1,LC11>1),LC11-1,IF(AND(LB11>1,LC11>1),LC11-LB11,0)),0)),0) -> 0 | LL11: =IF(ISERROR(FIND(";",$AD11,KY11+1)),LEN($AD11)+1,FIND(";",$AD11,KY11+1)) -> 1 | LM11: =IF(ISERR(MID($AD11,KY11+1,LL11-KY11-1)),"00:00-00:00",MID($AD11,KY11+1,LL11-KY11-1)) -> 00:00-00:00 | LN11: =IF(LP11-LO11<0,LP11-LO11+1,LP11-LO11) -> 1 | LO11: =IF(_xlfn.NUMBERVALUE(LEFT(LM11,FIND("-",LM11)))<$CD11,_xlfn.NUMBERVALUE(LEFT(LM11,FIND("-",LM11)))+1,_xlfn.NUMBERVALUE(LEFT(LM11,FIND("-",LM11)))) -> 0 | LP11: =IF(_xlfn.NUMBERVALUE(RIGHT(LM11,LEN(LM11)-FIND("-",LM11)))<=LO11,_xlfn.NUMBERVALUE(RIGHT(LM11,LEN(LM11)-FIND("-",LM11)))+1,_xlfn.NUMBERVALUE(RIGHT(LM11,LEN(LM11)-FIND("-",LM11)))) -> 1 | LQ11: =IF((LO11>=$CD11)*(LO11<$CE11),TRUE,FALSE) -> TRUE | LR11: =IF((LP11>=$CD11)*(LP11<$CE11),TRUE,FALSE) -> FALSE | LS11: =IF((LO11<=$CD11)*(LP11>=$CE11),TRUE,FALSE) -> TRUE | LT11: =IF(LQ11*LR11,LN11, IF(NOT(LQ11)*LR11,LP11-$CD11, IF(LQ11*NOT(LR11),$CE11-LO11, IF(LS11,$CE11-$CD11,0)))) -> 1 | LU11: =IF(OR(LT11>=1,LT11<=0),0, IF(OR(LO11>=$CG$7,LP11<=$CF$7),0, IF(LO11<$CH$7, IF(LP11<=$CH$7,LP11-LO11,$CH$7-LO11), IF(LO11<$CF$7, IF(LP11<$CG$7,LP11-$CF$7,$CG$7-$CF$7), IF(LP11<$CG$7,LP11-LO11,$CG$7-LO11))))) -> 0 | LV11: =IF(AND(LT11<1,LT11>0), IF(WEEKDAY($B11,2)=6, IF(LO11<$CI$7, IF(LP11<=$CI$7, 0, IF(LP11<=$CF$7, LP11-$CI$7, $CF$7-$CI$7)), IF(LP11<=$CF$7, LP11-LO11, IF($CF$7-LO11<=0, 0, $CF$7-LO11))), IF(WEEKDAY($B11+1,2)=6, IF(LO11<$CI$7+1, IF(LP11<=$CI$7+1, 0, IF(LP11<=$CF$7+1, LP11-$CI$7+1, $CF$7-$CI$7)), IF(LP11<=$CF$7+1, LP11-LO11, IF($CF$7+1-LO11<=0, 0, $CF$7+1-LO11))), 0)), 0) -> 0 | LW11: =IF(AND(LT11<1,LT11>0),IF(WEEKDAY($B11,2)=7,IF(LO11<1,IF(LP11<=1,LP11-LO11,1-LO11),0),IF(WEEKDAY($B11+1,2)=7,IF(LP11<1,0,IF(LO11<1,LP11-1,LP11-LO11)),0)),0) -> 0 | LX11: =IF(AND(LT11<1,LT11>0),IF($BS11=1,IF(AND(LO11<=1,LP11<=1),LN11,IF(AND(LO11<1,LP11>=1),1-LO11,0)),IF($BS12=1,IF(AND(LO11<=1,LP11>1),LP11-1,IF(AND(LO11>1,LP11>1),LP11-LO11,0)),0)),0) -> 0 | LY11: =IF(ISERROR(FIND(";",$AD11,LL11+1)),LEN($AD11)+1,FIND(";",$AD11,LL11+1)) -> 1 | LZ11: =IF(ISERR(MID($AD11,LL11+1,LY11-LL11-1)),"00:00-00:00",MID($AD11,LL11+1,LY11-LL11-1)) -> 00:00-00:00 | MA11: =IF(MC11-MB11<0,MC11-MB11+1,MC11-MB11) -> 1 | MB11: =IF(_xlfn.NUMBERVALUE(LEFT(LZ11,FIND("-",LZ11)))<$CD11,_xlfn.NUMBERVALUE(LEFT(LZ11,FIND("-",LZ11)))+1,_xlfn.NUMBERVALUE(LEFT(LZ11,FIND("-",LZ11)))) -> 0 | MC11: =IF(_xlfn.NUMBERVALUE(RIGHT(LZ11,LEN(LZ11)-FIND("-",LZ11)))<=MB11,_xlfn.NUMBERVALUE(RIGHT(LZ11,LEN(LZ11)-FIND("-",LZ11)))+1,_xlfn.NUMBERVALUE(RIGHT(LZ11,LEN(LZ11)-FIND("-",LZ11)))) -> 1 | MD11: =IF((MB11>=$CD11)*(MB11<$CE11),TRUE,FALSE) -> TRUE | ME11: =IF((MC11>=$CD11)*(MC11<$CE11),TRUE,FALSE) -> FALSE | MF11: =IF((MB11<=$CD11)*(MC11>=$CE11),TRUE,FALSE) -> TRUE | MG11: =IF(MD11*ME11,MA11, IF(NOT(MD11)*ME11,MC11-$CD11, IF(MD11*NOT(ME11),$CE11-MB11, IF(MF11,$CE11-$CD11,0)))) -> 1 | MH11: =IF(OR(MG11>=1,MG11<=0),0, IF(OR(MB11>=$CG$7,MC11<=$CF$7),0, IF(MB11<$CH$7, IF(MC11<=$CH$7,MC11-MB11,$CH$7-MB11), IF(MB11<$CF$7, IF(MC11<$CG$7,MC11-$CF$7,$CG$7-$CF$7), IF(MC11<$CG$7,MC11-MB11,$CG$7-MB11))))) -> 0 | MI11: =IF(AND(MG11<1,MG11>0), IF(WEEKDAY($B11,2)=6, IF(MB11<$CI$7, IF(MC11<=$CI$7, 0, IF(MC11<=$CF$7, MC11-$CI$7, $CF$7-$CI$7)), IF(MC11<=$CF$7, MC11-MB11, IF($CF$7-MB11<=0, 0, $CF$7-MB11))), IF(WEEKDAY($B11+1,2)=6, IF(MB11<$CI$7+1, IF(MC11<=$CI$7+1, 0, IF(MC11<=$CF$7+1, MC11-$CI$7+1, $CF$7-$CI$7)), IF(MC11<=$CF$7+1, MC11-MB11, IF($CF$7+1-MB11<=0, 0, $CF$7+1-MB11))), 0)), 0) -> 0 | MJ11: =IF(AND(MG11<1,MG11>0),IF(WEEKDAY($B11,2)=7,IF(MB11<1,IF(MC11<=1,MC11-MB11,1-MB11),0),IF(WEEKDAY($B11+1,2)=7,IF(MC11<1,0,IF(MB11<1,MC11-1,MC11-MB11)),0)),0) -> 0 | MK11: =IF(AND(MG11<1,MG11>0),IF($BS11=1,IF(AND(MB11<=1,MC11<=1),MA11,IF(AND(MB11<1,MC11>=1),1-MB11,0)),IF($BS12=1,IF(AND(MB11<=1,MC11>1),MC11-1,IF(AND(MB11>1,MC11>1),MC11-MB11,0)),0)),0) -> 0 | ML11: =IF(ISERROR(FIND(";",$AD11,LY11+1)),LEN($AD11)+1,FIND(";",$AD11,LY11+1)) -> 1 | MM11: =IF(ISERR(MID($AD11,LY11+1,ML11-LY11-1)),"00:00-00:00",MID($AD11,LY11+1,ML11-LY11-1)) -> 00:00-00:00 | MN11: =IF(MP11-MO11<0,MP11-MO11+1,MP11-MO11) -> 1 | MO11: =IF(_xlfn.NUMBERVALUE(LEFT(MM11,FIND("-",MM11)))<$CD11,_xlfn.NUMBERVALUE(LEFT(MM11,FIND("-",MM11)))+1,_xlfn.NUMBERVALUE(LEFT(MM11,FIND("-",MM11)))) -> 0 | MP11: =IF(_xlfn.NUMBERVALUE(RIGHT(MM11,LEN(MM11)-FIND("-",MM11)))<=MO11,_xlfn.NUMBERVALUE(RIGHT(MM11,LEN(MM11)-FIND("-",MM11)))+1,_xlfn.NUMBERVALUE(RIGHT(MM11,LEN(MM11)-FIND("-",MM11)))) -> 1 | MQ11: =IF((MO11>=$CD11)*(MO11<$CE11),TRUE,FALSE) -> TRUE | MR11: =IF((MP11>=$CD11)*(MP11<$CE11),TRUE,FALSE) -> FALSE | MS11: =IF((MO11<=$CD11)*(MP11>=$CE11),TRUE,FALSE) -> TRUE | MT11: =IF(MQ11*MR11,MN11, IF(NOT(MQ11)*MR11,MP11-$CD11, IF(MQ11*NOT(MR11),$CE11-MO11, IF(MS11,$CE11-$CD11,0)))) -> 1 | MU11: =IF(OR(MT11>=1,MT11<=0),0, IF(OR(MO11>=$CG$7,MP11<=$CF$7),0, IF(MO11<$CH$7, IF(MP11<=$CH$7,MP11-MO11,$CH$7-MO11), IF(MO11<$CF$7, IF(MP11<$CG$7,MP11-$CF$7,$CG$7-$CF$7), IF(MP11<$CG$7,MP11-MO11,$CG$7-MO11))))) -> 0 | MV11: =IF(AND(MT11<1,MT11>0), IF(WEEKDAY($B11,2)=6, IF(MO11<$CI$7, IF(MP11<=$CI$7, 0, IF(MP11<=$CF$7, MP11-$CI$7, $CF$7-$CI$7)), IF(MP11<=$CF$7, MP11-MO11, IF($CF$7-MO11<=0, 0, $CF$7-MO11))), IF(WEEKDAY($B11+1,2)=6, IF(MO11<$CI$7+1, IF(MP11<=$CI$7+1, 0, IF(MP11<=$CF$7+1, MP11-$CI$7+1, $CF$7-$CI$7)), IF(MP11<=$CF$7+1, MP11-MO11, IF($CF$7+1-MO11<=0, 0, $CF$7+1-MO11))), 0)), 0) -> 0 | MW11: =IF(AND(MT11<1,MT11>0),IF(WEEKDAY($B11,2)=7,IF(MO11<1,IF(MP11<=1,MP11-MO11,1-MO11),0),IF(WEEKDAY($B11+1,2)=7,IF(MP11<1,0,IF(MO11<1,MP11-1,MP11-MO11)),0)),0) -> 0 | MX11: =IF(AND(MT11<1,MT11>0),IF($BS11=1,IF(AND(MO11<=1,MP11<=1),MN11,IF(AND(MO11<1,MP11>=1),1-MO11,0)),IF($BS12=1,IF(AND(MO11<=1,MP11>1),MP11-1,IF(AND(MO11>1,MP11>1),MP11-MO11,0)),0)),0) -> 0 | MY11: =IF(ISERROR(FIND(";",$AD11,ML11+1)),LEN($AD11)+1,FIND(";",$AD11,ML11+1)) -> 1 | MZ11: =IF(ISERR(MID($AD11,ML11+1,MY11-ML11-1)),"00:00-00:00",MID($AD11,ML11+1,MY11-ML11-1)) -> 00:00-00:00 | NA11: =IF(NC11-NB11<0,NC11-NB11+1,NC11-NB11) -> 1 | NB11: =IF(_xlfn.NUMBERVALUE(LEFT(MZ11,FIND("-",MZ11)))<$CD11,_xlfn.NUMBERVALUE(LEFT(MZ11,FIND("-",MZ11)))+1,_xlfn.NUMBERVALUE(LEFT(MZ11,FIND("-",MZ11)))) -> 0 | NC11: =IF(_xlfn.NUMBERVALUE(RIGHT(MZ11,LEN(MZ11)-FIND("-",MZ11)))<=NB11,_xlfn.NUMBERVALUE(RIGHT(MZ11,LEN(MZ11)-FIND("-",MZ11)))+1,_xlfn.NUMBERVALUE(RIGHT(MZ11,LEN(MZ11)-FIND("-",MZ11)))) -> 1 | ND11: =IF((NB11>=$CD11)*(NB11<$CE11),TRUE,FALSE) -> TRUE | NE11: =IF((NC11>=$CD11)*(NC11<$CE11),TRUE,FALSE) -> FALSE | NF11: =IF((NB11<=$CD11)*(NC11>=$CE11),TRUE,FALSE) -> TRUE | NG11: =IF(ND11*NE11,NA11, IF(NOT(ND11)*NE11,NC11-$CD11, IF(ND11*NOT(NE11),$CE11-NB11, IF(NF11,$CE11-$CD11,0)))) -> 1 | NH11: =IF(OR(NG11>=1,NG11<=0),0, IF(OR(NB11>=$CG$7,NC11<=$CF$7),0, IF(NB11<$CH$7, IF(NC11<=$CH$7,NC11-NB11,$CH$7-NB11), IF(NB11<$CF$7, IF(NC11<$CG$7,NC11-$CF$7,$CG$7-$CF$7), IF(NC11<$CG$7,NC11-NB11,$CG$7-NB11))))) -> 0 | NI11: =IF(AND(NG11<1,NG11>0), IF(WEEKDAY($B11,2)=6, IF(NB11<$CI$7, IF(NC11<=$CI$7, 0, IF(NC11<=$CF$7, NC11-$CI$7, $CF$7-$CI$7)), IF(NC11<=$CF$7, NC11-NB11, IF($CF$7-NB11<=0, 0, $CF$7-NB11))), IF(WEEKDAY($B11+1,2)=6, IF(NB11<$CI$7+1, IF(NC11<=$CI$7+1, 0, IF(NC11<=$CF$7+1, NC11-$CI$7+1, $CF$7-$CI$7)), IF(NC11<=$CF$7+1, NC11-NB11, IF($CF$7+1-NB11<=0, 0, $CF$7+1-NB11))), 0)), 0) -> 0 | NJ11: =IF(AND(NG11<1,NG11>0),IF(WEEKDAY($B11,2)=7,IF(NB11<1,IF(NC11<=1,NC11-NB11,1-NB11),0),IF(WEEKDAY($B11+1,2)=7,IF(NC11<1,0,IF(NB11<1,NC11-1,NC11-NB11)),0)),0) -> 0 | NK11: =IF(AND(NG11<1,NG11>0),IF($BS11=1,IF(AND(NB11<=1,NC11<=1),NA11,IF(AND(NB11<1,NC11>=1),1-NB11,0)),IF($BS12=1,IF(AND(NB11<=1,NC11>1),NC11-1,IF(AND(NB11>1,NC11>1),NC11-NB11,0)),0)),0) -> 0 | NL11: =IF(ISERROR(FIND(";",$AD11,MY11+1)),LEN($AD11)+1,FIND(";",$AD11,MY11+1)) -> 1 | NM11: =IF(ISERR(MID($AD11,MY11+1,NL11-MY11-1)),"00:00-00:00",MID($AD11,MY11+1,NL11-MY11-1)) -> 00:00-00:00 | NN11: =IF(NP11-NO11<0,NP11-NO11+1,NP11-NO11) -> 1 | NO11: =IF(_xlfn.NUMBERVALUE(LEFT(NM11,FIND("-",NM11)))<$CD11,_xlfn.NUMBERVALUE(LEFT(NM11,FIND("-",NM11)))+1,_xlfn.NUMBERVALUE(LEFT(NM11,FIND("-",NM11)))) -> 0 | NP11: =IF(_xlfn.NUMBERVALUE(RIGHT(NM11,LEN(NM11)-FIND("-",NM11)))<=NO11,_xlfn.NUMBERVALUE(RIGHT(NM11,LEN(NM11)-FIND("-",NM11)))+1,_xlfn.NUMBERVALUE(RIGHT(NM11,LEN(NM11)-FIND("-",NM11)))) -> 1 | NQ11: =IF((NO11>=$CD11)*(NO11<$CE11),TRUE,FALSE) -> TRUE | NR11: =IF((NP11>=$CD11)*(NP11<$CE11),TRUE,FALSE) -> FALSE | NS11: =IF((NO11<=$CD11)*(NP11>=$CE11),TRUE,FALSE) -> TRUE | NT11: =IF(NQ11*NR11,NN11, IF(NOT(NQ11)*NR11,NP11-$CD11, IF(NQ11*NOT(NR11),$CE11-NO11, IF(NS11,$CE11-$CD11,0)))) -> 1 | NU11: =IF(OR(NT11>=1,NT11<=0),0, IF(OR(NO11>=$CG$7,NP11<=$CF$7),0, IF(NO11<$CH$7, IF(NP11<=$CH$7,NP11-NO11,$CH$7-NO11), IF(NO11<$CF$7, IF(NP11<$CG$7,NP11-$CF$7,$CG$7-$CF$7), IF(NP11<$CG$7,NP11-NO11,$CG$7-NO11))))) -> 0 | NV11: =IF(AND(NT11<1,NT11>0), IF(WEEKDAY($B11,2)=6, IF(NO11<$CI$7, IF(NP11<=$CI$7, 0, IF(NP11<=$CF$7, NP11-$CI$7, $CF$7-$CI$7)), IF(NP11<=$CF$7, NP11-NO11, IF($CF$7-NO11<=0, 0, $CF$7-NO11))), IF(WEEKDAY($B11+1,2)=6, IF(NO11<$CI$7+1, IF(NP11<=$CI$7+1, 0, IF(NP11<=$CF$7+1, NP11-$CI$7+1, $CF$7-$CI$7)), IF(NP11<=$CF$7+1, NP11-NO11, IF($CF$7+1-NO11<=0, 0, $CF$7+1-NO11))), 0)), 0) -> 0 | NW11: =IF(AND(NT11<1,NT11>0),IF(WEEKDAY($B11,2)=7,IF(NO11<1,IF(NP11<=1,NP11-NO11,1-NO11),0),IF(WEEKDAY($B11+1,2)=7,IF(NP11<1,0,IF(NO11<1,NP11-1,NP11-NO11)),0)),0) -> 0 | NX11: =IF(AND(NT11<1,NT11>0),IF($BS11=1,IF(AND(NO11<=1,NP11<=1),NN11,IF(AND(NO11<1,NP11>=1),1-NO11,0)),IF($BS12=1,IF(AND(NO11<=1,NP11>1),NP11-1,IF(AND(NO11>1,NP11>1),NP11-NO11,0)),0)),0) -> 0 | NY11: =IF(ISERROR(FIND(";",$AD11,NL11+1)),LEN($AD11)+1,FIND(";",$AD11,NL11+1)) -> 1 | NZ11: =IF(ISERR(MID($AD11,NL11+1,NY11-NL11-1)),"00:00-00:00",MID($AD11,NL11+1,NY11-NL11-1)) -> 00:00-00:00 | OA11: =IF(OC11-OB11<0,OC11-OB11+1,OC11-OB11) -> 1 | OB11: =IF(_xlfn.NUMBERVALUE(LEFT(NZ11,FIND("-",NZ11)))<$CD11,_xlfn.NUMBERVALUE(LEFT(NZ11,FIND("-",NZ11)))+1,_xlfn.NUMBERVALUE(LEFT(NZ11,FIND("-",NZ11)))) -> 0 | OC11: =IF(_xlfn.NUMBERVALUE(RIGHT(NZ11,LEN(NZ11)-FIND("-",NZ11)))<=OB11,_xlfn.NUMBERVALUE(RIGHT(NZ11,LEN(NZ11)-FIND("-",NZ11)))+1,_xlfn.NUMBERVALUE(RIGHT(NZ11,LEN(NZ11)-FIND("-",NZ11)))) -> 1 | OD11: =IF((OB11>=$CD11)*(OB11<$CE11),TRUE,FALSE) -> TRUE | OE11: =IF((OC11>=$CD11)*(OC11<$CE11),TRUE,FALSE) -> FALSE | OF11: =IF((OB11<=$CD11)*(OC11>=$CE11),TRUE,FALSE) -> TRUE | OG11: =IF(OD11*OE11,OA11, IF(NOT(OD11)*OE11,OC11-$CD11, IF(OD11*NOT(OE11),$CE11-OB11, IF(OF11,$CE11-$CD11,0)))) -> 1 | OH11: =IF(OR(OG11>=1,OG11<=0),0, IF(OR(OB11>=$CG$7,OC11<=$CF$7),0, IF(OB11<$CH$7, IF(OC11<=$CH$7,OC11-OB11,$CH$7-OB11), IF(OB11<$CF$7, IF(OC11<$CG$7,OC11-$CF$7,$CG$7-$CF$7), IF(OC11<$CG$7,OC11-OB11,$CG$7-OB11))))) -> 0 | OI11: =IF(AND(OG11<1,OG11>0), IF(WEEKDAY($B11,2)=6, IF(OB11<$CI$7, IF(OC11<=$CI$7, 0, IF(OC11<=$CF$7, OC11-$CI$7, $CF$7-$CI$7)), IF(OC11<=$CF$7, OC11-OB11, IF($CF$7-OB11<=0, 0, $CF$7-OB11))), IF(WEEKDAY($B11+1,2)=6, IF(OB11<$CI$7+1, IF(OC11<=$CI$7+1, 0, IF(OC11<=$CF$7+1, OC11-$CI$7+1, $CF$7-$CI$7)), IF(OC11<=$CF$7+1, OC11-OB11, IF($CF$7+1-OB11<=0, 0, $CF$7+1-OB11))), 0)), 0) -> 0 | OJ11: =IF(AND(OG11<1,OG11>0),IF(WEEKDAY($B11,2)=7,IF(OB11<1,IF(OC11<=1,OC11-OB11,1-OB11),0),IF(WEEKDAY($B11+1,2)=7,IF(OC11<1,0,IF(OB11<1,OC11-1,OC11-OB11)),0)),0) -> 0 | OK11: =IF(AND(OG11<1,OG11>0),IF($BS11=1,IF(AND(OB11<=1,OC11<=1),OA11,IF(AND(OB11<1,OC11>=1),1-OB11,0)),IF($BS12=1,IF(AND(OB11<=1,OC11>1),OC11-1,IF(AND(OB11>1,OC11>1),OC11-OB11,0)),0)),0) -> 0 | OL11: =IF(ISERROR(FIND(";",$AD11,NY11+1)),LEN($AD11)+1,FIND(";",$AD11,NY11+1)) -> 1 | OM11: =IF(ISERR(MID($AD11,NY11+1,OL11-NY11-1)),"00:00-00:00",MID($AD11,NY11+1,OL11-NY11-1)) -> 00:00-00:00 | ON11: =IF(OP11-OO11<0,OP11-OO11+1,OP11-OO11) -> 1 | OO11: =IF(_xlfn.NUMBERVALUE(LEFT(OM11,FIND("-",OM11)))<$CD11,_xlfn.NUMBERVALUE(LEFT(OM11,FIND("-",OM11)))+1,_xlfn.NUMBERVALUE(LEFT(OM11,FIND("-",OM11)))) -> 0 | OP11: =IF(_xlfn.NUMBERVALUE(RIGHT(OM11,LEN(OM11)-FIND("-",OM11)))<=OO11,_xlfn.NUMBERVALUE(RIGHT(OM11,LEN(OM11)-FIND("-",OM11)))+1,_xlfn.NUMBERVALUE(RIGHT(OM11,LEN(OM11)-FIND("-",OM11)))) -> 1 | OQ11: =IF((OO11>=$CD11)*(OO11<$CE11),TRUE,FALSE) -> TRUE | OR11: =IF((OP11>=$CD11)*(OP11<$CE11),TRUE,FALSE) -> FALSE | OS11: =IF((OO11<=$CD11)*(OP11>=$CE11),TRUE,FALSE) -> TRUE | OT11: =IF(OQ11*OR11,ON11, IF(NOT(OQ11)*OR11,OP11-$CD11, IF(OQ11*NOT(OR11),$CE11-OO11, IF(OS11,$CE11-$CD11,0)))) -> 1 | OU11: =IF(OR(OT11>=1,OT11<=0),0, IF(OR(OO11>=$CG$7,OP11<=$CF$7),0, IF(OO11<$CH$7, IF(OP11<=$CH$7,OP11-OO11,$CH$7-OO11), IF(OO11<$CF$7, IF(OP11<$CG$7,OP11-$CF$7,$CG$7-$CF$7), IF(OP11<$CG$7,OP11-OO11,$CG$7-OO11))))) -> 0 | OV11: =IF(AND(OT11<1,OT11>0), IF(WEEKDAY($B11,2)=6, IF(OO11<$CI$7, IF(OP11<=$CI$7, 0, IF(OP11<=$CF$7, OP11-$CI$7, $CF$7-$CI$7)), IF(OP11<=$CF$7, OP11-OO11, IF($CF$7-OO11<=0, 0, $CF$7-OO11))), IF(WEEKDAY($B11+1,2)=6, IF(OO11<$CI$7+1, IF(OP11<=$CI$7+1, 0, IF(OP11<=$CF$7+1, OP11-$CI$7+1, $CF$7-$CI$7)), IF(OP11<=$CF$7+1, OP11-OO11, IF($CF$7+1-OO11<=0, 0, $CF$7+1-OO11))), 0)), 0) -> 0 | OW11: =IF(AND(OT11<1,OT11>0),IF(WEEKDAY($B11,2)=7,IF(OO11<1,IF(OP11<=1,OP11-OO11,1-OO11),0),IF(WEEKDAY($B11+1,2)=7,IF(OP11<1,0,IF(OO11<1,OP11-1,OP11-OO11)),0)),0) -> 0 | OX11: =IF(AND(OT11<1,OT11>0),IF($BS11=1,IF(AND(OO11<=1,OP11<=1),ON11,IF(AND(OO11<1,OP11>=1),1-OO11,0)),IF($BS12=1,IF(AND(OO11<=1,OP11>1),OP11-1,IF(AND(OO11>1,OP11>1),OP11-OO11,0)),0)),0) -> 0 | OY11: =IF(ISERROR(FIND(";",$AD11,OL11+1)),LEN($AD11)+1,FIND(";",$AD11,OL11+1)) -> 1 | OZ11: =IF(ISERR(MID($AD11,OL11+1,OY11-OL11-1)),"00:00-00:00",MID($AD11,OL11+1,OY11-OL11-1)) -> 00:00-00:00 | PA11: =IF(PC11-PB11<0,PC11-PB11+1,PC11-PB11) -> 1 | PB11: =IF(_xlfn.NUMBERVALUE(LEFT(OZ11,FIND("-",OZ11)))<$CD11,_xlfn.NUMBERVALUE(LEFT(OZ11,FIND("-",OZ11)))+1,_xlfn.NUMBERVALUE(LEFT(OZ11,FIND("-",OZ11)))) -> 0 | PC11: =IF(_xlfn.NUMBERVALUE(RIGHT(OZ11,LEN(OZ11)-FIND("-",OZ11)))<=PB11,_xlfn.NUMBERVALUE(RIGHT(OZ11,LEN(OZ11)-FIND("-",OZ11)))+1,_xlfn.NUMBERVALUE(RIGHT(OZ11,LEN(OZ11)-FIND("-",OZ11)))) -> 1 | PD11: =IF((PB11>=$CD11)*(PB11<$CE11),TRUE,FALSE) -> TRUE | PE11: =IF((PC11>=$CD11)*(PC11<$CE11),TRUE,FALSE) -> FALSE | PF11: =IF((PB11<=$CD11)*(PC11>=$CE11),TRUE,FALSE) -> TRUE | PG11: =IF(PD11*PE11,PA11, IF(NOT(PD11)*PE11,PC11-$CD11, IF(PD11*NOT(PE11),$CE11-PB11, IF(PF11,$CE11-$CD11,0)))) -> 1 | PH11: =IF(OR(PG11>=1,PG11<=0),0, IF(OR(PB11>=$CG$7,PC11<=$CF$7),0, IF(PB11<$CH$7, IF(PC11<=$CH$7,PC11-PB11,$CH$7-PB11), IF(PB11<$CF$7, IF(PC11<$CG$7,PC11-$CF$7,$CG$7-$CF$7), IF(PC11<$CG$7,PC11-PB11,$CG$7-PB11))))) -> 0 | PI11: =IF(AND(PG11<1,PG11>0), IF(WEEKDAY($B11,2)=6, IF(PB11<$CI$7, IF(PC11<=$CI$7, 0, IF(PC11<=$CF$7, PC11-$CI$7, $CF$7-$CI$7)), IF(PC11<=$CF$7, PC11-PB11, IF($CF$7-PB11<=0, 0, $CF$7-PB11))), IF(WEEKDAY($B11+1,2)=6, IF(PB11<$CI$7+1, IF(PC11<=$CI$7+1, 0, IF(PC11<=$CF$7+1, PC11-$CI$7+1, $CF$7-$CI$7)), IF(PC11<=$CF$7+1, PC11-PB11, IF($CF$7+1-PB11<=0, 0, $CF$7+1-PB11))), 0)), 0) -> 0 | PJ11: =IF(AND(PG11<1,PG11>0),IF(WEEKDAY($B11,2)=7,IF(PB11<1,IF(PC11<=1,PC11-PB11,1-PB11),0),IF(WEEKDAY($B11+1,2)=7,IF(PC11<1,0,IF(PB11<1,PC11-1,PC11-PB11)),0)),0) -> 0 | PK11: =IF(AND(PG11<1,PG11>0),IF($BS11=1,IF(AND(PB11<=1,PC11<=1),PA11,IF(AND(PB11<1,PC11>=1),1-PB11,0)),IF($BS12=1,IF(AND(PB11<=1,PC11>1),PC11-1,IF(AND(PB11>1,PC11>1),PC11-PB11,0)),0)),0) -> 0 | PL11: =IF(ISERROR(FIND(";",$AD11,OY11+1)),LEN($AD11)+1,FIND(";",$AD11,OY11+1)) -> 1 | PM11: =IF(ISERR(MID($AD11,OY11+1,PL11-OY11-1)),"00:00-00:00",MID($AD11,OY11+1,PL11-OY11-1)) -> 00:00-00:00 | PN11: =IF(PP11-PO11<0,PP11-PO11+1,PP11-PO11) -> 1 | PO11: =IF(_xlfn.NUMBERVALUE(LEFT(PM11,FIND("-",PM11)))<$CD11,_xlfn.NUMBERVALUE(LEFT(PM11,FIND("-",PM11)))+1,_xlfn.NUMBERVALUE(LEFT(PM11,FIND("-",PM11)))) -> 0 | PP11: =IF(_xlfn.NUMBERVALUE(RIGHT(PM11,LEN(PM11)-FIND("-",PM11)))<=PO11,_xlfn.NUMBERVALUE(RIGHT(PM11,LEN(PM11)-FIND("-",PM11)))+1,_xlfn.NUMBERVALUE(RIGHT(PM11,LEN(PM11)-FIND("-",PM11)))) -> 1 | PQ11: =IF((PO11>=$CD11)*(PO11<$CE11),TRUE,FALSE) -> TRUE | PR11: =IF((PP11>=$CD11)*(PP11<$CE11),TRUE,FALSE) -> FALSE | PS11: =IF((PO11<=$CD11)*(PP11>=$CE11),TRUE,FALSE) -> TRUE | PT11: =IF(PQ11*PR11,PN11, IF(NOT(PQ11)*PR11,PP11-$CD11, IF(PQ11*NOT(PR11),$CE11-PO11, IF(PS11,$CE11-$CD11,0)))) -> 1 | PU11: =IF(OR(PT11>=1,PT11<=0),0, IF(OR(PO11>=$CG$7,PP11<=$CF$7),0, IF(PO11<$CH$7, IF(PP11<=$CH$7,PP11-PO11,$CH$7-PO11), IF(PO11<$CF$7, IF(PP11<$CG$7,PP11-$CF$7,$CG$7-$CF$7), IF(PP11<$CG$7,PP11-PO11,$CG$7-PO11))))) -> 0 | PV11: =IF(AND(PT11<1,PT11>0), IF(WEEKDAY($B11,2)=6, IF(PO11<$CI$7, IF(PP11<=$CI$7, 0, IF(PP11<=$CF$7, PP11-$CI$7, $CF$7-$CI$7)), IF(PP11<=$CF$7, PP11-PO11, IF($CF$7-PO11<=0, 0, $CF$7-PO11))), IF(WEEKDAY($B11+1,2)=6, IF(PO11<$CI$7+1, IF(PP11<=$CI$7+1, 0, IF(PP11<=$CF$7+1, PP11-$CI$7+1, $CF$7-$CI$7)), IF(PP11<=$CF$7+1, PP11-PO11, IF($CF$7+1-PO11<=0, 0, $CF$7+1-PO11))), 0)), 0) -> 0 | PW11: =IF(AND(PT11<1,PT11>0),IF(WEEKDAY($B11,2)=7,IF(PO11<1,IF(PP11<=1,PP11-PO11,1-PO11),0),IF(WEEKDAY($B11+1,2)=7,IF(PP11<1,0,IF(PO11<1,PP11-1,PP11-PO11)),0)),0) -> 0 | PX11: =IF(AND(PT11<1,PT11>0),IF($BS11=1,IF(AND(PO11<=1,PP11<=1),PN11,IF(AND(PO11<1,PP11>=1),1-PO11,0)),IF($BS12=1,IF(AND(PO11<=1,PP11>1),PP11-1,IF(AND(PO11>1,PP11>1),PP11-PO11,0)),0)),0) -> 0 | PY11: =IF(ISERROR(FIND(";",$AD11,PL11+1)),LEN($AD11)+1,FIND(";",$AD11,PL11+1)) -> 1 | PZ11: =IF(ISERR(MID($AD11,PL11+1,PY11-PL11-1)),"00:00-00:00",MID($AD11,PL11+1,PY11-PL11-1)) -> 00:00-00:00 | QA11: =IF(QC11-QB11<0,QC11-QB11+1,QC11-QB11) -> 1 | QB11: =IF(_xlfn.NUMBERVALUE(LEFT(PZ11,FIND("-",PZ11)))<$CD11,_xlfn.NUMBERVALUE(LEFT(PZ11,FIND("-",PZ11)))+1,_xlfn.NUMBERVALUE(LEFT(PZ11,FIND("-",PZ11)))) -> 0 | QC11: =IF(_xlfn.NUMBERVALUE(RIGHT(PZ11,LEN(PZ11)-FIND("-",PZ11)))<=QB11,_xlfn.NUMBERVALUE(RIGHT(PZ11,LEN(PZ11)-FIND("-",PZ11)))+1,_xlfn.NUMBERVALUE(RIGHT(PZ11,LEN(PZ11)-FIND("-",PZ11)))) -> 1 | QD11: =IF((QB11>=$CD11)*(QB11<$CE11),TRUE,FALSE) -> TRUE | QE11: =IF((QC11>=$CD11)*(QC11<$CE11),TRUE,FALSE) -> FALSE | QF11: =IF((QB11<=$CD11)*(QC11>=$CE11),TRUE,FALSE) -> TRUE | QG11: =IF(QD11*QE11,QA11, IF(NOT(QD11)*QE11,QC11-$CD11, IF(QD11*NOT(QE11),$CE11-QB11, IF(QF11,$CE11-$CD11,0)))) -> 1 | QH11: =IF(OR(QG11>=1,QG11<=0),0, IF(OR(QB11>=$CG$7,QC11<=$CF$7),0, IF(QB11<$CH$7, IF(QC11<=$CH$7,QC11-QB11,$CH$7-QB11), IF(QB11<$CF$7, IF(QC11<$CG$7,QC11-$CF$7,$CG$7-$CF$7), IF(QC11<$CG$7,QC11-QB11,$CG$7-QB11))))) -> 0 | QI11: =IF(AND(QG11<1,QG11>0), IF(WEEKDAY($B11,2)=6, IF(QB11<$CI$7, IF(QC11<=$CI$7, 0, IF(QC11<=$CF$7, QC11-$CI$7, $CF$7-$CI$7)), IF(QC11<=$CF$7, QC11-QB11, IF($CF$7-QB11<=0, 0, $CF$7-QB11))), IF(WEEKDAY($B11+1,2)=6, IF(QB11<$CI$7+1, IF(QC11<=$CI$7+1, 0, IF(QC11<=$CF$7+1, QC11-$CI$7+1, $CF$7-$CI$7)), IF(QC11<=$CF$7+1, QC11-QB11, IF($CF$7+1-QB11<=0, 0, $CF$7+1-QB11))), 0)), 0) -> 0 | QJ11: =IF(AND(QG11<1,QG11>0),IF(WEEKDAY($B11,2)=7,IF(QB11<1,IF(QC11<=1,QC11-QB11,1-QB11),0),IF(WEEKDAY($B11+1,2)=7,IF(QC11<1,0,IF(QB11<1,QC11-1,QC11-QB11)),0)),0) -> 0 | QK11: =IF(AND(QG11<1,QG11>0),IF($BS11=1,IF(AND(QB11<=1,QC11<=1),QA11,IF(AND(QB11<1,QC11>=1),1-QB11,0)),IF($BS12=1,IF(AND(QB11<=1,QC11>1),QC11-1,IF(AND(QB11>1,QC11>1),QC11-QB11,0)),0)),0) -> 0 | QL11: =IF(ISERROR(FIND(";",$AD11,PY11+1)),LEN($AD11)+1,FIND(";",$AD11,PY11+1)) -> 1 | QM11: =IF(ISERR(MID($AD11,PY11+1,QL11-PY11-1)),"00:00-00:00",MID($AD11,PY11+1,QL11-PY11-1)) -> 00:00-00:00 | QN11: =IF(QP11-QO11<0,QP11-QO11+1,QP11-QO11) -> 1 | QO11: =IF(_xlfn.NUMBERVALUE(LEFT(QM11,FIND("-",QM11)))<$CD11,_xlfn.NUMBERVALUE(LEFT(QM11,FIND("-",QM11)))+1,_xlfn.NUMBERVALUE(LEFT(QM11,FIND("-",QM11)))) -> 0 | QP11: =IF(_xlfn.NUMBERVALUE(RIGHT(QM11,LEN(QM11)-FIND("-",QM11)))<=QO11,_xlfn.NUMBERVALUE(RIGHT(QM11,LEN(QM11)-FIND("-",QM11)))+1,_xlfn.NUMBERVALUE(RIGHT(QM11,LEN(QM11)-FIND("-",QM11)))) -> 1 | QQ11: =IF((QO11>=$CD11)*(QO11<$CE11),TRUE,FALSE) -> TRUE | QR11: =IF((QP11>=$CD11)*(QP11<$CE11),TRUE,FALSE) -> FALSE | QS11: =IF((QO11<=$CD11)*(QP11>=$CE11),TRUE,FALSE) -> TRUE | QT11: =IF(QQ11*QR11,QN11, IF(NOT(QQ11)*QR11,QP11-$CD11, IF(QQ11*NOT(QR11),$CE11-QO11, IF(QS11,$CE11-$CD11,0)))) -> 1 | QU11: =IF(OR(QT11>=1,QT11<=0),0, IF(OR(QO11>=$CG$7,QP11<=$CF$7),0, IF(QO11<$CH$7, IF(QP11<=$CH$7,QP11-QO11,$CH$7-QO11), IF(QO11<$CF$7, IF(QP11<$CG$7,QP11-$CF$7,$CG$7-$CF$7), IF(QP11<$CG$7,QP11-QO11,$CG$7-QO11))))) -> 0 | QV11: =IF(AND(QT11<1,QT11>0), IF(WEEKDAY($B11,2)=6, IF(QO11<$CI$7, IF(QP11<=$CI$7, 0, IF(QP11<=$CF$7, QP11-$CI$7, $CF$7-$CI$7)), IF(QP11<=$CF$7, QP11-QO11, IF($CF$7-QO11<=0, 0, $CF$7-QO11))), IF(WEEKDAY($B11+1,2)=6, IF(QO11<$CI$7+1, IF(QP11<=$CI$7+1, 0, IF(QP11<=$CF$7+1, QP11-$CI$7+1, $CF$7-$CI$7)), IF(QP11<=$CF$7+1, QP11-QO11, IF($CF$7+1-QO11<=0, 0, $CF$7+1-QO11))), 0)), 0) -> 0 | QW11: =IF(AND(QT11<1,QT11>0),IF(WEEKDAY($B11,2)=7,IF(QO11<1,IF(QP11<=1,QP11-QO11,1-QO11),0),IF(WEEKDAY($B11+1,2)=7,IF(QP11<1,0,IF(QO11<1,QP11-1,QP11-QO11)),0)),0) -> 0 | QX11: =IF(AND(QT11<1,QT11>0),IF($BS11=1,IF(AND(QO11<=1,QP11<=1),QN11,IF(AND(QO11<1,QP11>=1),1-QO11,0)),IF($BS12=1,IF(AND(QO11<=1,QP11>1),QP11-1,IF(AND(QO11>1,QP11>1),QP11-QO11,0)),0)),0) -> 0 | QY11: =IF(ISERROR(FIND(";",$AD11,QL11+1)),LEN($AD11)+1,FIND(";",$AD11,QL11+1)) -> 1 | QZ11: =IF(ISERR(MID($AD11,QL11+1,QY11-QL11-1)),"00:00-00:00",MID($AD11,QL11+1,QY11-QL11-1)) -> 00:00-00:00 | RA11: =IF(RC11-RB11<0,RC11-RB11+1,RC11-RB11) -> 1 | RB11: =IF(_xlfn.NUMBERVALUE(LEFT(QZ11,FIND("-",QZ11)))<$CD11,_xlfn.NUMBERVALUE(LEFT(QZ11,FIND("-",QZ11)))+1,_xlfn.NUMBERVALUE(LEFT(QZ11,FIND("-",QZ11)))) -> 0 | RC11: =IF(_xlfn.NUMBERVALUE(RIGHT(QZ11,LEN(QZ11)-FIND("-",QZ11)))<=RB11,_xlfn.NUMBERVALUE(RIGHT(QZ11,LEN(QZ11)-FIND("-",QZ11)))+1,_xlfn.NUMBERVALUE(RIGHT(QZ11,LEN(QZ11)-FIND("-",QZ11)))) -> 1 | RD11: =IF((RB11>=$CD11)*(RB11<$CE11),TRUE,FALSE) -> TRUE | RE11: =IF((RC11>=$CD11)*(RC11<$CE11),TRUE,FALSE) -> FALSE | RF11: =IF((RB11<=$CD11)*(RC11>=$CE11),TRUE,FALSE) -> TRUE | RG11: =IF(RD11*RE11,RA11, IF(NOT(RD11)*RE11,RC11-$CD11, IF(RD11*NOT(RE11),$CE11-RB11, IF(RF11,$CE11-$CD11,0)))) -> 1 | RH11: =IF(OR(RG11>=1,RG11<=0),0, IF(OR(RB11>=$CG$7,RC11<=$CF$7),0, IF(RB11<$CH$7, IF(RC11<=$CH$7,RC11-RB11,$CH$7-RB11), IF(RB11<$CF$7, IF(RC11<$CG$7,RC11-$CF$7,$CG$7-$CF$7), IF(RC11<$CG$7,RC11-RB11,$CG$7-RB11))))) -> 0 | RI11: =IF(AND(RG11<1,RG11>0), IF(WEEKDAY($B11,2)=6, IF(RB11<$CI$7, IF(RC11<=$CI$7, 0, IF(RC11<=$CF$7, RC11-$CI$7, $CF$7-$CI$7)), IF(RC11<=$CF$7, RC11-RB11, IF($CF$7-RB11<=0, 0, $CF$7-RB11))), IF(WEEKDAY($B11+1,2)=6, IF(RB11<$CI$7+1, IF(RC11<=$CI$7+1, 0, IF(RC11<=$CF$7+1, RC11-$CI$7+1, $CF$7-$CI$7)), IF(RC11<=$CF$7+1, RC11-RB11, IF($CF$7+1-RB11<=0, 0, $CF$7+1-RB11))), 0)), 0) -> 0 | RJ11: =IF(AND(RG11<1,RG11>0),IF(WEEKDAY($B11,2)=7,IF(RB11<1,IF(RC11<=1,RC11-RB11,1-RB11),0),IF(WEEKDAY($B11+1,2)=7,IF(RC11<1,0,IF(RB11<1,RC11-1,RC11-RB11)),0)),0) -> 0 | RK11: =IF(AND(RG11<1,RG11>0),IF($BS11=1,IF(AND(RB11<=1,RC11<=1),RA11,IF(AND(RB11<1,RC11>=1),1-RB11,0)),IF($BS12=1,IF(AND(RB11<=1,RC11>1),RC11-1,IF(AND(RB11>1,RC11>1),RC11-RB11,0)),0)),0) -> 0 | RL11: =IF(AND(ISBLANK(Z11),ISBLANK(AA11)),0,SUM(RG11,QT11,PT11,QG11,PG11,OT11,OG11,NT11,NG11,MT11,MG11,LT11,LG11,KT11,KG11)) -> 0 | RM11: =(IF((ROUND(RL11*24,14)-INT(ROUND(RL11*24,14)))=0,ROUND(RL11*24,14),IF((ROUND(RL11*24,14)-INT(ROUND(RL11*24,14)))<=0.5,INT(ROUND(RL11*24,14))+0.5,INT(ROUND(RL11*24,14))+1))) -> 0 | RN11: =IF(AND(ISBLANK(Z11),ISBLANK(AA11)),0,SUM(RH11,QU11,PU11,QH11,PH11,OU11,OH11,NU11,NH11,MU11,MH11,LU11,LH11,KU11,KH11)) -> 0 | RO11: =IF(AND(ISBLANK(Z11),ISBLANK(AA11)),0,SUM(RI11,QV11,PV11,QI11,PI11,OV11,OI11,NV11,NI11,MV11,MI11,LV11,LI11,KV11,KI11)) -> 0 | RP11: =IF(AND(ISBLANK(Z11),ISBLANK(AA11)),0,SUM(RJ11,QW11,PW11,QJ11,PJ11,OW11,OJ11,NW11,NJ11,MW11,MJ11,LW11,LJ11,KW11,KJ11)) -> 0 | RQ11: =IF(AND(ISBLANK(Z11),ISBLANK(AA11)),0,SUM(RK11,QX11,PX11,QK11,PK11,OX11,OK11,NX11,NK11,MX11,MK11,LX11,LK11,KX11,KK11)) -> 0 | RR11: =IF(Q11="",0,Q11) -> 0 | RS11: =IF(A11=A10,RR11+RS10,RR11) -> 0
